BEGIN:VCALENDAR
VERSION:2.0
PRODID:-//Marrar Woorn Neighbourhood House - ECPv6.15.20//NONSGML v1.0//EN
CALSCALE:GREGORIAN
METHOD:PUBLISH
X-ORIGINAL-URL:https://mwnh.org
X-WR-CALDESC:Events for Marrar Woorn Neighbourhood House
REFRESH-INTERVAL;VALUE=DURATION:PT1H
X-Robots-Tag:noindex
X-PUBLISHED-TTL:PT1H
BEGIN:VTIMEZONE
TZID:Australia/Melbourne
BEGIN:STANDARD
TZOFFSETFROM:+1100
TZOFFSETTO:+1000
TZNAME:AEST
DTSTART:20240406T160000
END:STANDARD
BEGIN:DAYLIGHT
TZOFFSETFROM:+1000
TZOFFSETTO:+1100
TZNAME:AEDT
DTSTART:20241005T160000
END:DAYLIGHT
BEGIN:STANDARD
TZOFFSETFROM:+1100
TZOFFSETTO:+1000
TZNAME:AEST
DTSTART:20250405T160000
END:STANDARD
BEGIN:DAYLIGHT
TZOFFSETFROM:+1000
TZOFFSETTO:+1100
TZNAME:AEDT
DTSTART:20251004T160000
END:DAYLIGHT
BEGIN:STANDARD
TZOFFSETFROM:+1100
TZOFFSETTO:+1000
TZNAME:AEST
DTSTART:20260404T160000
END:STANDARD
BEGIN:DAYLIGHT
TZOFFSETFROM:+1000
TZOFFSETTO:+1100
TZNAME:AEDT
DTSTART:20261003T160000
END:DAYLIGHT
END:VTIMEZONE
BEGIN:VEVENT
DTSTART;TZID=Australia/Melbourne:20250714T093000
DTEND;TZID=Australia/Melbourne:20250714T101500
DTSTAMP:20260423T013050
CREATED:20250618T021521Z
LAST-MODIFIED:20250709T081154Z
UID:10000004-1752485400-1752488100@mwnh.org
SUMMARY:Bloom & Glaze Kids: Floral Cookie Fun (Ages 3-10)
DESCRIPTION:Get ready for a colourful\, hands-on cookie adventure!\nIn this fun-filled workshop\, little bakers will squish\, swirl\, and sprinkle their way to beautiful floral cookies using yummy royal icing\, pressed flowers and flower confetti. \nWith easy step-by-step guidance\, kids will have a blast decorating their own sweet treats to take home. No baking experience needed—just bring your imagination and a big smile! \nFor children aged 3 to 10 years. Children under 6 years must be supervised / assisted by an adult. \nWe provide everything—just come ready to create!
URL:https://mwnh.org/event/bloom-glaze-kids-floral-cookie-fun-ages-3-10/
LOCATION:Marrar Woorn Neighbourhood House\, 6 Pengilley Avenue\, Apollo Bay\, VIC\, 3233\, Australia
CATEGORIES:Cooking,Kids & Families
ATTACH;FMTTYPE=image/jpeg:https://mwnh.org/wp-content/uploads/2025/06/Bloomandglaze2.jpg
ORGANIZER;CN="Marrar Woorn Neighbourhood House":MAILTO:coordinator@mwnh.org
END:VEVENT
END:VCALENDAR