BEGIN:VCALENDAR
VERSION:2.0
PRODID:-//Marrar Woorn Neighbourhood House - ECPv6.15.20//NONSGML v1.0//EN
CALSCALE:GREGORIAN
METHOD:PUBLISH
X-ORIGINAL-URL:https://mwnh.org
X-WR-CALDESC:Events for Marrar Woorn Neighbourhood House
REFRESH-INTERVAL;VALUE=DURATION:PT1H
X-Robots-Tag:noindex
X-PUBLISHED-TTL:PT1H
BEGIN:VTIMEZONE
TZID:Australia/Melbourne
BEGIN:STANDARD
TZOFFSETFROM:+1100
TZOFFSETTO:+1000
TZNAME:AEST
DTSTART:20260404T160000
END:STANDARD
BEGIN:DAYLIGHT
TZOFFSETFROM:+1000
TZOFFSETTO:+1100
TZNAME:AEDT
DTSTART:20261003T160000
END:DAYLIGHT
BEGIN:STANDARD
TZOFFSETFROM:+1100
TZOFFSETTO:+1000
TZNAME:AEST
DTSTART:20270403T160000
END:STANDARD
BEGIN:DAYLIGHT
TZOFFSETFROM:+1000
TZOFFSETTO:+1100
TZNAME:AEDT
DTSTART:20271002T160000
END:DAYLIGHT
BEGIN:STANDARD
TZOFFSETFROM:+1100
TZOFFSETTO:+1000
TZNAME:AEST
DTSTART:20280401T160000
END:STANDARD
BEGIN:DAYLIGHT
TZOFFSETFROM:+1000
TZOFFSETTO:+1100
TZNAME:AEDT
DTSTART:20280930T160000
END:DAYLIGHT
END:VTIMEZONE
BEGIN:VEVENT
DTSTART;TZID=Australia/Melbourne:20270412T174500
DTEND;TZID=Australia/Melbourne:20270412T190000
DTSTAMP:20260422T212601
CREATED:20260422T105029Z
LAST-MODIFIED:20260422T105118Z
UID:10001321-1807551900-1807556400@mwnh.org
SUMMARY:Okido Yoga
DESCRIPTION:Set aside some time in the week to slow down\, quieten the mind and listen to the body. Yoga is not for everyone\, but it might be for you! Open your mind and give it a try. Suitable for all levels. \nAt the Apollo Bay Community Hall 4 Whelan St Apollo Bay 5.45-7pm Mondays April 20th – June 22nd (no class June 8th) = 8 classes $112 \nBYO mat and water bottle
URL:https://mwnh.org/event/okido-yoga/2027-04-12/
LOCATION:Marrar Woorn Neighbourhood House\, 6 Pengilley Avenue\, Apollo Bay\, VIC\, 3233\, Australia
CATEGORIES:Health
ATTACH;FMTTYPE=image/jpeg:https://mwnh.org/wp-content/uploads/2026/04/YZ9oAS_pexels-cottonbro-6799850-scaled.jpg
ORGANIZER;CN="Marrar Woorn Neighbourhood House":MAILTO:coordinator@mwnh.org
END:VEVENT
BEGIN:VEVENT
DTSTART;TZID=Australia/Melbourne:20270412T180000
DTEND;TZID=Australia/Melbourne:20270412T200000
DTSTAMP:20260422T212601
CREATED:20260422T103539Z
LAST-MODIFIED:20260422T104609Z
UID:10001261-1807552800-1807560000@mwnh.org
SUMMARY:The Nurture Space
DESCRIPTION:This group is all about connection & community: women gathering to celebrate and sharing their skills\, strengths & knowledge.\nMondays 6-8pm in term 2. Facilitated by Eliza.\nBYO light dinner. Free to participate.
URL:https://mwnh.org/event/the-nurture-space-3/2027-04-12/
LOCATION:Marrar Woorn Neighbourhood House\, 6 Pengilley Avenue\, Apollo Bay\, VIC\, 3233\, Australia
CATEGORIES:Community Group
ATTACH;FMTTYPE=image/jpeg:https://mwnh.org/wp-content/uploads/2026/04/622557852_1367771015389775_7022241062591099557_n.jpg
ORGANIZER;CN="Marrar Woorn Neighbourhood House":MAILTO:coordinator@mwnh.org
END:VEVENT
BEGIN:VEVENT
DTSTART;TZID=Australia/Melbourne:20270414T090000
DTEND;TZID=Australia/Melbourne:20270414T110000
DTSTAMP:20260422T212601
CREATED:20250818T045547Z
LAST-MODIFIED:20250818T045547Z
UID:10000106-1807693200-1807700400@mwnh.org
SUMMARY:Toy Library Playgroup
DESCRIPTION:Join the Apollo Bay Toy Library and enjoy all the benefits it brings. Do you want a great toy rotation for your toddler\, but you like your house clutter free? Do you want to do right by the environment and your bank account? The Toy Library is for you! \n\nToy Library Playgroup is held each week at Marrar Woorn Neighbourhood House every Wednesday from 9am to 11am. There is no cost to participate! \n\nThe Apollo Bay Toy Library is a satellite of the well established Colac Toy Library. To sign up to become a member and start borrowing toys\, go to their website via the website link below.
URL:https://mwnh.org/event/toy-library-playgroup/2027-04-14/
LOCATION:Marrar Woorn Neighbourhood House\, 6 Pengilley Avenue\, Apollo Bay\, VIC\, 3233\, Australia
CATEGORIES:Kids & Families
ATTACH;FMTTYPE=image/jpeg:https://mwnh.org/wp-content/uploads/2025/08/Toy-Playgroup-e1755492834190.jpg
ORGANIZER;CN="Marrar Woorn Neighbourhood House":MAILTO:coordinator@mwnh.org
END:VEVENT
BEGIN:VEVENT
DTSTART;TZID=Australia/Melbourne:20270415T100000
DTEND;TZID=Australia/Melbourne:20270415T130000
DTSTAMP:20260422T212601
CREATED:20260422T053019Z
LAST-MODIFIED:20260422T054434Z
UID:10001097-1807783200-1807794000@mwnh.org
SUMMARY:Community Kitchen Program
DESCRIPTION:Would you like to join a small group of women who come together fortnightly to cook a meal? \nThursdays 10am-1pm \nIf you are interested or you’d like more information\, please phone 5237 8590 or email info@gorh.vic.gov.au \nCost: $5\, please bring cash and some containers to take food home
URL:https://mwnh.org/event/community-kitchen-program/2027-04-15/
LOCATION:Apollo Bay RSL\, 12 Gallipoli Parade\, Apollo Bay\, VIC\, 3233\, Australia
CATEGORIES:Cooking
ATTACH;FMTTYPE=image/png:https://mwnh.org/wp-content/uploads/2026/04/Community-Kitchens-Flyer-for-MW-Term-Program.png
ORGANIZER;CN="Marrar Woorn Neighbourhood House":MAILTO:coordinator@mwnh.org
END:VEVENT
END:VCALENDAR