BEGIN:VCALENDAR
VERSION:2.0
PRODID:-//Marrar Woorn Neighbourhood House - ECPv6.15.20//NONSGML v1.0//EN
CALSCALE:GREGORIAN
METHOD:PUBLISH
X-WR-CALNAME:Marrar Woorn Neighbourhood House
X-ORIGINAL-URL:https://mwnh.org
X-WR-CALDESC:Events for Marrar Woorn Neighbourhood House
REFRESH-INTERVAL;VALUE=DURATION:PT1H
X-Robots-Tag:noindex
X-PUBLISHED-TTL:PT1H
BEGIN:VTIMEZONE
TZID:Australia/Melbourne
BEGIN:STANDARD
TZOFFSETFROM:+1100
TZOFFSETTO:+1000
TZNAME:AEST
DTSTART:20240406T160000
END:STANDARD
BEGIN:DAYLIGHT
TZOFFSETFROM:+1000
TZOFFSETTO:+1100
TZNAME:AEDT
DTSTART:20241005T160000
END:DAYLIGHT
BEGIN:STANDARD
TZOFFSETFROM:+1100
TZOFFSETTO:+1000
TZNAME:AEST
DTSTART:20250405T160000
END:STANDARD
BEGIN:DAYLIGHT
TZOFFSETFROM:+1000
TZOFFSETTO:+1100
TZNAME:AEDT
DTSTART:20251004T160000
END:DAYLIGHT
BEGIN:STANDARD
TZOFFSETFROM:+1100
TZOFFSETTO:+1000
TZNAME:AEST
DTSTART:20260404T160000
END:STANDARD
BEGIN:DAYLIGHT
TZOFFSETFROM:+1000
TZOFFSETTO:+1100
TZNAME:AEDT
DTSTART:20261003T160000
END:DAYLIGHT
END:VTIMEZONE
BEGIN:VEVENT
DTSTART;TZID=Australia/Melbourne:20251027T174500
DTEND;TZID=Australia/Melbourne:20251027T190000
DTSTAMP:20260420T052325
CREATED:20250919T002345Z
LAST-MODIFIED:20250924T042153Z
UID:10000566-1761587100-1761591600@mwnh.org
SUMMARY:Okido Yoga - Term 4
DESCRIPTION:Join Andy for Oki Do Yoga in Term 4 2025! Set aside some time in the week to slow down\, quieten the mind and listen to the body. Suitable for all levels. BYO mat. \nAt the Apollo Bay Community Hall 4 Whelan St Apollo Bay 5.45-7pm Mondays – no classes on Nov 3 + 10 9 classes – $126
URL:https://mwnh.org/event/okido-yoga-term-4/2025-10-27/
LOCATION:Apollo Bay Community Hall\, 4 Whelan Street\, Apollo Bay\, Victoria\, 3233\, Australia
CATEGORIES:Health
ATTACH;FMTTYPE=image/jpeg:https://mwnh.org/wp-content/uploads/2025/09/Okido-Yoga-scaled.jpg
ORGANIZER;CN="Marrar Woorn Neighbourhood House":MAILTO:coordinator@mwnh.org
END:VEVENT
BEGIN:VEVENT
DTSTART;TZID=Australia/Melbourne:20251028T090000
DTEND;TZID=Australia/Melbourne:20251028T110000
DTSTAMP:20260420T052325
CREATED:20250930T003737Z
LAST-MODIFIED:20250930T003737Z
UID:10000657-1761642000-1761649200@mwnh.org
SUMMARY:Volunteer Recruitment Info Session
DESCRIPTION:Volunteers have been the lifeblood of Marrar Woorn Neighbourhood House and Great Ocean Road Health. Our Volunteers have been creating community\, and delivering care and compassion to those in sickness\, suffering and distress throughout our region. \n\n\nWe are currently looking for community minded individuals who want to support to their community – at local events\, festivals and as an ongoing effort. Come to this information session to see what opportunities there are to contribute or bring your own ideas to put forward. \n\n\n 
URL:https://mwnh.org/event/volunteer-recruitment-info-session/
LOCATION:Marrar Woorn Neighbourhood House\, 6 Pengilley Avenue\, Apollo Bay\, VIC\, 3233\, Australia
CATEGORIES:Community Group
ATTACH;FMTTYPE=image/jpeg:https://mwnh.org/wp-content/uploads/2025/09/IMG-20240127-WA0029.jpg
ORGANIZER;CN="Marrar Woorn Neighbourhood House":MAILTO:coordinator@mwnh.org
END:VEVENT
BEGIN:VEVENT
DTSTART;TZID=Australia/Melbourne:20251028T130000
DTEND;TZID=Australia/Melbourne:20251028T150000
DTSTAMP:20260420T052325
CREATED:20250919T020241Z
LAST-MODIFIED:20250919T020241Z
UID:10000590-1761656400-1761663600@mwnh.org
SUMMARY:Weaving & Spinning 
DESCRIPTION:TUESDAYS\, Weekly\, 1:00 PM – 3:00 PM \nMarrar Woorn \nBYO materials & equipment.
URL:https://mwnh.org/event/weaving-spinning/2025-10-28/
LOCATION:Marrar Woorn Neighbourhood House\, 6 Pengilley Avenue\, Apollo Bay\, VIC\, 3233\, Australia
CATEGORIES:Art & Craft
ORGANIZER;CN="Marrar Woorn Neighbourhood House":MAILTO:coordinator@mwnh.org
END:VEVENT
BEGIN:VEVENT
DTSTART;TZID=Australia/Melbourne:20251028T180000
DTEND;TZID=Australia/Melbourne:20251028T200000
DTSTAMP:20260420T052325
CREATED:20250917T015132Z
LAST-MODIFIED:20250917T015132Z
UID:10000555-1761674400-1761681600@mwnh.org
SUMMARY:The Nurture Space
DESCRIPTION:This group is all about connection & community: women gathering to celebrate and sharing their skills\, strengths & knowledge.\n\n\n\n\nTuesdays 6-8pm commencing in Term 4. Facilitated by Eliza.\n\n\nBYO light dinner. Free to participate.
URL:https://mwnh.org/event/the-nurture-space-2/2025-10-28/
LOCATION:Marrar Woorn Neighbourhood House\, 6 Pengilley Avenue\, Apollo Bay\, VIC\, 3233\, Australia
CATEGORIES:Community Group
ATTACH;FMTTYPE=image/jpeg:https://mwnh.org/wp-content/uploads/2025/08/Nurture-Space-e1755572450964.jpg
ORGANIZER;CN="Marrar Woorn Neighbourhood House":MAILTO:coordinator@mwnh.org
END:VEVENT
BEGIN:VEVENT
DTSTART;TZID=Australia/Melbourne:20251029T090000
DTEND;TZID=Australia/Melbourne:20251029T110000
DTSTAMP:20260420T052325
CREATED:20250818T045547Z
LAST-MODIFIED:20250818T045547Z
UID:10000030-1761728400-1761735600@mwnh.org
SUMMARY:Toy Library Playgroup
DESCRIPTION:Join the Apollo Bay Toy Library and enjoy all the benefits it brings. Do you want a great toy rotation for your toddler\, but you like your house clutter free? Do you want to do right by the environment and your bank account? The Toy Library is for you! \n\nToy Library Playgroup is held each week at Marrar Woorn Neighbourhood House every Wednesday from 9am to 11am. There is no cost to participate! \n\nThe Apollo Bay Toy Library is a satellite of the well established Colac Toy Library. To sign up to become a member and start borrowing toys\, go to their website via the website link below.
URL:https://mwnh.org/event/toy-library-playgroup/2025-10-29/
LOCATION:Marrar Woorn Neighbourhood House\, 6 Pengilley Avenue\, Apollo Bay\, VIC\, 3233\, Australia
CATEGORIES:Kids & Families
ATTACH;FMTTYPE=image/jpeg:https://mwnh.org/wp-content/uploads/2025/08/Toy-Playgroup-e1755492834190.jpg
ORGANIZER;CN="Marrar Woorn Neighbourhood House":MAILTO:coordinator@mwnh.org
END:VEVENT
BEGIN:VEVENT
DTSTART;TZID=Australia/Melbourne:20251031T153000
DTEND;TZID=Australia/Melbourne:20251031T173000
DTSTAMP:20260420T052325
CREATED:20250929T053658Z
LAST-MODIFIED:20250929T060109Z
UID:10000655-1761924600-1761931800@mwnh.org
SUMMARY:Apollo Bay Kids Halloween
DESCRIPTION:SpoOoOoKy Halloweeeen!\n\nJoin the fun at Marrar Woorn\, to start off your Halloween with a bang! We will have trick or treating\, and a spoooooooky haunted house to walk through!\n\nPut on your best costume and join us this Halloween. Pick up your map to continue the fun trick or treating\, using the wonderful Halloween trail map. This map will tell you exactly what houses to visit to have a great Halloween experience.\n\nSee you this Halloween!
URL:https://mwnh.org/event/apollo-bay-kids-halloween/
LOCATION:Marrar Woorn Neighbourhood House\, 6 Pengilley Avenue\, Apollo Bay\, VIC\, 3233\, Australia
CATEGORIES:Community Group,Kids & Families,Parenting,Teen / Young adult
ATTACH;FMTTYPE=image/png:https://mwnh.org/wp-content/uploads/2025/09/Pink-Black-Retro-Spooky-Illustrated-Halloween-Invitation-Party-Poster.png
ORGANIZER;CN="Marrar Woorn Neighbourhood House":MAILTO:coordinator@mwnh.org
END:VEVENT
END:VCALENDAR