BEGIN:VCALENDAR
VERSION:2.0
PRODID:-//Marrar Woorn Neighbourhood House - ECPv6.15.20//NONSGML v1.0//EN
CALSCALE:GREGORIAN
METHOD:PUBLISH
X-ORIGINAL-URL:https://mwnh.org
X-WR-CALDESC:Events for Marrar Woorn Neighbourhood House
REFRESH-INTERVAL;VALUE=DURATION:PT1H
X-Robots-Tag:noindex
X-PUBLISHED-TTL:PT1H
BEGIN:VTIMEZONE
TZID:Australia/Melbourne
BEGIN:STANDARD
TZOFFSETFROM:+1100
TZOFFSETTO:+1000
TZNAME:AEST
DTSTART:20240406T160000
END:STANDARD
BEGIN:DAYLIGHT
TZOFFSETFROM:+1000
TZOFFSETTO:+1100
TZNAME:AEDT
DTSTART:20241005T160000
END:DAYLIGHT
BEGIN:STANDARD
TZOFFSETFROM:+1100
TZOFFSETTO:+1000
TZNAME:AEST
DTSTART:20250405T160000
END:STANDARD
BEGIN:DAYLIGHT
TZOFFSETFROM:+1000
TZOFFSETTO:+1100
TZNAME:AEDT
DTSTART:20251004T160000
END:DAYLIGHT
BEGIN:STANDARD
TZOFFSETFROM:+1100
TZOFFSETTO:+1000
TZNAME:AEST
DTSTART:20260404T160000
END:STANDARD
BEGIN:DAYLIGHT
TZOFFSETFROM:+1000
TZOFFSETTO:+1100
TZNAME:AEDT
DTSTART:20261003T160000
END:DAYLIGHT
END:VTIMEZONE
BEGIN:VEVENT
DTSTART;TZID=Australia/Melbourne:20251001T090000
DTEND;TZID=Australia/Melbourne:20251001T110000
DTSTAMP:20260422T123306
CREATED:20250818T045547Z
LAST-MODIFIED:20250818T045547Z
UID:10000026-1759309200-1759316400@mwnh.org
SUMMARY:Toy Library Playgroup
DESCRIPTION:Join the Apollo Bay Toy Library and enjoy all the benefits it brings. Do you want a great toy rotation for your toddler\, but you like your house clutter free? Do you want to do right by the environment and your bank account? The Toy Library is for you! \n\nToy Library Playgroup is held each week at Marrar Woorn Neighbourhood House every Wednesday from 9am to 11am. There is no cost to participate! \n\nThe Apollo Bay Toy Library is a satellite of the well established Colac Toy Library. To sign up to become a member and start borrowing toys\, go to their website via the website link below.
URL:https://mwnh.org/event/toy-library-playgroup/2025-10-01/
LOCATION:Marrar Woorn Neighbourhood House\, 6 Pengilley Avenue\, Apollo Bay\, VIC\, 3233\, Australia
CATEGORIES:Kids & Families
ATTACH;FMTTYPE=image/jpeg:https://mwnh.org/wp-content/uploads/2025/08/Toy-Playgroup-e1755492834190.jpg
ORGANIZER;CN="Marrar Woorn Neighbourhood House":MAILTO:coordinator@mwnh.org
END:VEVENT
BEGIN:VEVENT
DTSTART;TZID=Australia/Melbourne:20251004T080000
DTEND;TZID=Australia/Melbourne:20251005T150000
DTSTAMP:20260422T123306
CREATED:20250820T031243Z
LAST-MODIFIED:20250820T031243Z
UID:10000540-1759564800-1759676400@mwnh.org
SUMMARY:Great Otway Garden Festival
DESCRIPTION:Southern Otway Landcare Network and Great Ocean Road Health are thrilled to invite you to the Southern Otway Garden Festival – a weekend celebrating indigenous and native gardens\, veggie growing\, and sustainable gardening in the Otways. \nHeld in Apollo Bay\, the Saturday program will feature inspiring talks from renowned garden designer Peter Shaw of Ocean Road Landscaping – whose stunning coastal gardens are both bio-diverse and resilient – and Emma Cutting\, founder of the Melbourne Pollinator Corridor\, who brings a wealth of knowledge on building biodiversity and community through street gardening. There’ll also be hands-on demos\, garden design “speed dating”\, stalls\, food\, and kids’ activities. \nOn Sunday\, enjoy a trail of open gardens around Apollo Bay showcasing beautiful\, productive\, and climate-resilient outdoor spaces. Whether you’re into lush gardens\, local biodiversity\, or growing your own food – there’s something for everyone to enjoy. \nWhen: Saturday 4 October & Sunday 5 October 2025\nWhere: Apollo Bay Youth Hall + Gardens around Apollo Bay
URL:https://mwnh.org/event/great-otway-garden-festival/
LOCATION:Apollo Bay Youth Club Hall\, 19-21 Moore Street\, Apollo Bay\, VIC\, 3233
CATEGORIES:Gardening
ATTACH;FMTTYPE=image/webp:https://mwnh.org/wp-content/uploads/2025/08/Untitled-design-e1755659480274.webp
ORGANIZER;CN="Great Ocean Road Health":MAILTO:enquiries@gorh.vic.gov.au
END:VEVENT
BEGIN:VEVENT
DTSTART;TZID=Australia/Melbourne:20251004T173000
DTEND;TZID=Australia/Melbourne:20251004T203000
DTSTAMP:20260422T123306
CREATED:20250908T033913Z
LAST-MODIFIED:20250908T034124Z
UID:10000541-1759599000-1759609800@mwnh.org
SUMMARY:Curry Night Community Dinner
DESCRIPTION:Enjoy an evening with friends at the RSL in Apollo Bay. \nWe’ll be serving delicious curry (vegetarian option available) and dessert\, prepared by Sharon from Otway Pantry. \nEnjoy a 2 course meal – curry plus dessert. \nAdult – $15\, Child (12 and under) $10.
URL:https://mwnh.org/event/curry-night-community-dinner/
LOCATION:Apollo Bay RSL\, 12 Gallipoli Parade\, Apollo Bay\, VIC\, 3233\, Australia
CATEGORIES:Lunch / Dinner
ATTACH;FMTTYPE=image/jpeg:https://mwnh.org/wp-content/uploads/2025/09/Capture1.jpg
ORGANIZER;CN="Great Ocean Road Health":MAILTO:enquiries@gorh.vic.gov.au
END:VEVENT
END:VCALENDAR