BEGIN:VCALENDAR
VERSION:2.0
PRODID:-//Marrar Woorn Neighbourhood House - ECPv6.15.20//NONSGML v1.0//EN
CALSCALE:GREGORIAN
METHOD:PUBLISH
X-WR-CALNAME:Marrar Woorn Neighbourhood House
X-ORIGINAL-URL:https://mwnh.org
X-WR-CALDESC:Events for Marrar Woorn Neighbourhood House
REFRESH-INTERVAL;VALUE=DURATION:PT1H
X-Robots-Tag:noindex
X-PUBLISHED-TTL:PT1H
BEGIN:VTIMEZONE
TZID:Australia/Melbourne
BEGIN:STANDARD
TZOFFSETFROM:+1100
TZOFFSETTO:+1000
TZNAME:AEST
DTSTART:20240406T160000
END:STANDARD
BEGIN:DAYLIGHT
TZOFFSETFROM:+1000
TZOFFSETTO:+1100
TZNAME:AEDT
DTSTART:20241005T160000
END:DAYLIGHT
BEGIN:STANDARD
TZOFFSETFROM:+1100
TZOFFSETTO:+1000
TZNAME:AEST
DTSTART:20250405T160000
END:STANDARD
BEGIN:DAYLIGHT
TZOFFSETFROM:+1000
TZOFFSETTO:+1100
TZNAME:AEDT
DTSTART:20251004T160000
END:DAYLIGHT
BEGIN:STANDARD
TZOFFSETFROM:+1100
TZOFFSETTO:+1000
TZNAME:AEST
DTSTART:20260404T160000
END:STANDARD
BEGIN:DAYLIGHT
TZOFFSETFROM:+1000
TZOFFSETTO:+1100
TZNAME:AEDT
DTSTART:20261003T160000
END:DAYLIGHT
END:VTIMEZONE
BEGIN:VEVENT
DTSTART;TZID=Australia/Melbourne:20250902T180000
DTEND;TZID=Australia/Melbourne:20250902T200000
DTSTAMP:20260420T081108
CREATED:20250819T030119Z
LAST-MODIFIED:20250819T062137Z
UID:10000413-1756836000-1756843200@mwnh.org
SUMMARY:The Nurture Space
DESCRIPTION:This group is all about connection & community: women gathering to celebrate and sharing their skills\, strengths & knowledge.\n\n\n\n\nTuesdays 6-8pm commencing Tues 22 July 2025. Facilitated by Eliza.\n\n\nBYO light dinner. Free to participate.
URL:https://mwnh.org/event/the-nurture-space/2025-09-02/
LOCATION:Marrar Woorn Neighbourhood House\, 6 Pengilley Avenue\, Apollo Bay\, VIC\, 3233\, Australia
CATEGORIES:Community Group
ATTACH;FMTTYPE=image/jpeg:https://mwnh.org/wp-content/uploads/2025/08/Nurture-Space-e1755572450964.jpg
ORGANIZER;CN="Marrar Woorn Neighbourhood House":MAILTO:coordinator@mwnh.org
END:VEVENT
BEGIN:VEVENT
DTSTART;TZID=Australia/Melbourne:20250903T090000
DTEND;TZID=Australia/Melbourne:20250903T110000
DTSTAMP:20260420T081108
CREATED:20250818T045547Z
LAST-MODIFIED:20250818T045547Z
UID:10000022-1756890000-1756897200@mwnh.org
SUMMARY:Toy Library Playgroup
DESCRIPTION:Join the Apollo Bay Toy Library and enjoy all the benefits it brings. Do you want a great toy rotation for your toddler\, but you like your house clutter free? Do you want to do right by the environment and your bank account? The Toy Library is for you! \n\nToy Library Playgroup is held each week at Marrar Woorn Neighbourhood House every Wednesday from 9am to 11am. There is no cost to participate! \n\nThe Apollo Bay Toy Library is a satellite of the well established Colac Toy Library. To sign up to become a member and start borrowing toys\, go to their website via the website link below.
URL:https://mwnh.org/event/toy-library-playgroup/2025-09-03/
LOCATION:Marrar Woorn Neighbourhood House\, 6 Pengilley Avenue\, Apollo Bay\, VIC\, 3233\, Australia
CATEGORIES:Kids & Families
ATTACH;FMTTYPE=image/jpeg:https://mwnh.org/wp-content/uploads/2025/08/Toy-Playgroup-e1755492834190.jpg
ORGANIZER;CN="Marrar Woorn Neighbourhood House":MAILTO:coordinator@mwnh.org
END:VEVENT
BEGIN:VEVENT
DTSTART;TZID=Australia/Melbourne:20250905T100000
DTEND;TZID=Australia/Melbourne:20250905T104500
DTSTAMP:20260420T081108
CREATED:20250715T023913Z
LAST-MODIFIED:20250902T013022Z
UID:10000016-1757066400-1757069100@mwnh.org
SUMMARY:CANCELLED - Rocky Road for Dad!
DESCRIPTION:Join Cathy from The Potoroo Pantry for a fun\, hands-on class where kids get to make their very own Rocky Road creation to gift to Dad! Using melted chocolate and a dreamy selection of toppings — think nuts\, pretzels\, raspberry drops\, dried fruit\, marshmallows\, honeycomb\, popping candy and more — each child will create their own unique blend\, ready to take home and set. \nNo baking needed\, just creativity and chocolatey fun! \nWe’ll package up the rocky road beautifully so it’s all ready for Father’s Day gifting. \nSession times: 1: Saturday 30th August – 10:00 to 10:45am \n2: CANCELLED – Friday 5th September – 10:00 to 10:45am \nPerfect for kids aged 3 and up (young ones will require adult help – note a parent/guardian must be present for any children 12 years or younger). \nSpots are limited – book early to avoid missing out!
URL:https://mwnh.org/event/rocky-road-for-dad-2/
LOCATION:Marrar Woorn Neighbourhood House\, 6 Pengilley Avenue\, Apollo Bay\, VIC\, 3233\, Australia
CATEGORIES:Cooking,Kids & Families
ATTACH;FMTTYPE=image/jpeg:https://mwnh.org/wp-content/uploads/2025/07/rocky-road-10-1.jpg
ORGANIZER;CN="Marrar Woorn Neighbourhood House":MAILTO:coordinator@mwnh.org
END:VEVENT
BEGIN:VEVENT
DTSTART;TZID=Australia/Melbourne:20250907T100000
DTEND;TZID=Australia/Melbourne:20250907T123000
DTSTAMP:20260420T081108
CREATED:20250709T021529Z
LAST-MODIFIED:20250709T082319Z
UID:10000014-1757239200-1757248200@mwnh.org
SUMMARY:Creative Compass: Map your artistic journey
DESCRIPTION:Join Linnet from Wild Sky Creative Business Coaching for this workshop where you will playfully map out your creative business path with clarity and confidence. \nYou will explore fun visual tools like mind maps and vision boards to connect your artistic passion with practical steps; all aligned with your own personal rhythm. \nThis workshop is perfect for busy\, artistic people balancing their lives and creative visions. Carve out some time to consider your creative future and business journey. \nThe workshop is hands-on and will include messy play like cut and paste! \nBookings required – Click the website link below to reserve your spot! \n$15 / Free for concession.
URL:https://mwnh.org/event/creative-compass-map-your-artistic-journey/
LOCATION:Marrar Woorn Neighbourhood House\, 6 Pengilley Avenue\, Apollo Bay\, VIC\, 3233\, Australia
CATEGORIES:Adult Education,Business
ATTACH;FMTTYPE=image/png:https://mwnh.org/wp-content/uploads/2025/07/creative-compass-map-your-artistic-journey-1.png
ORGANIZER;CN="Marrar Woorn Neighbourhood House":MAILTO:coordinator@mwnh.org
END:VEVENT
END:VCALENDAR