BEGIN:VCALENDAR
VERSION:2.0
PRODID:-//Marrar Woorn Neighbourhood House - ECPv6.15.20//NONSGML v1.0//EN
CALSCALE:GREGORIAN
METHOD:PUBLISH
X-WR-CALNAME:Marrar Woorn Neighbourhood House
X-ORIGINAL-URL:https://mwnh.org
X-WR-CALDESC:Events for Marrar Woorn Neighbourhood House
REFRESH-INTERVAL;VALUE=DURATION:PT1H
X-Robots-Tag:noindex
X-PUBLISHED-TTL:PT1H
BEGIN:VTIMEZONE
TZID:Australia/Melbourne
BEGIN:STANDARD
TZOFFSETFROM:+1100
TZOFFSETTO:+1000
TZNAME:AEST
DTSTART:20240406T160000
END:STANDARD
BEGIN:DAYLIGHT
TZOFFSETFROM:+1000
TZOFFSETTO:+1100
TZNAME:AEDT
DTSTART:20241005T160000
END:DAYLIGHT
BEGIN:STANDARD
TZOFFSETFROM:+1100
TZOFFSETTO:+1000
TZNAME:AEST
DTSTART:20250405T160000
END:STANDARD
BEGIN:DAYLIGHT
TZOFFSETFROM:+1000
TZOFFSETTO:+1100
TZNAME:AEDT
DTSTART:20251004T160000
END:DAYLIGHT
BEGIN:STANDARD
TZOFFSETFROM:+1100
TZOFFSETTO:+1000
TZNAME:AEST
DTSTART:20260404T160000
END:STANDARD
BEGIN:DAYLIGHT
TZOFFSETFROM:+1000
TZOFFSETTO:+1100
TZNAME:AEDT
DTSTART:20261003T160000
END:DAYLIGHT
END:VTIMEZONE
BEGIN:VEVENT
DTSTART;TZID=Australia/Melbourne:20250820T090000
DTEND;TZID=Australia/Melbourne:20250820T110000
DTSTAMP:20260420T112711
CREATED:20250818T045547Z
LAST-MODIFIED:20250818T045547Z
UID:10000020-1755680400-1755687600@mwnh.org
SUMMARY:Toy Library Playgroup
DESCRIPTION:Join the Apollo Bay Toy Library and enjoy all the benefits it brings. Do you want a great toy rotation for your toddler\, but you like your house clutter free? Do you want to do right by the environment and your bank account? The Toy Library is for you! \n\nToy Library Playgroup is held each week at Marrar Woorn Neighbourhood House every Wednesday from 9am to 11am. There is no cost to participate! \n\nThe Apollo Bay Toy Library is a satellite of the well established Colac Toy Library. To sign up to become a member and start borrowing toys\, go to their website via the website link below.
URL:https://mwnh.org/event/toy-library-playgroup/2025-08-20/
LOCATION:Marrar Woorn Neighbourhood House\, 6 Pengilley Avenue\, Apollo Bay\, VIC\, 3233\, Australia
CATEGORIES:Kids & Families
ATTACH;FMTTYPE=image/jpeg:https://mwnh.org/wp-content/uploads/2025/08/Toy-Playgroup-e1755492834190.jpg
ORGANIZER;CN="Marrar Woorn Neighbourhood House":MAILTO:coordinator@mwnh.org
END:VEVENT
BEGIN:VEVENT
DTSTART;TZID=Australia/Melbourne:20250819T180000
DTEND;TZID=Australia/Melbourne:20250819T200000
DTSTAMP:20260420T112711
CREATED:20250819T030119Z
LAST-MODIFIED:20250819T062137Z
UID:10000411-1755626400-1755633600@mwnh.org
SUMMARY:The Nurture Space
DESCRIPTION:This group is all about connection & community: women gathering to celebrate and sharing their skills\, strengths & knowledge.\n\n\n\n\nTuesdays 6-8pm commencing Tues 22 July 2025. Facilitated by Eliza.\n\n\nBYO light dinner. Free to participate.
URL:https://mwnh.org/event/the-nurture-space/2025-08-19/
LOCATION:Marrar Woorn Neighbourhood House\, 6 Pengilley Avenue\, Apollo Bay\, VIC\, 3233\, Australia
CATEGORIES:Community Group
ATTACH;FMTTYPE=image/jpeg:https://mwnh.org/wp-content/uploads/2025/08/Nurture-Space-e1755572450964.jpg
ORGANIZER;CN="Marrar Woorn Neighbourhood House":MAILTO:coordinator@mwnh.org
END:VEVENT
BEGIN:VEVENT
DTSTART;TZID=Australia/Melbourne:20250818T174500
DTEND;TZID=Australia/Melbourne:20250818T190000
DTSTAMP:20260420T112711
CREATED:20250819T004146Z
LAST-MODIFIED:20250819T004240Z
UID:10000283-1755539100-1755543600@mwnh.org
SUMMARY:Oki Do Yoga
DESCRIPTION:Set aside some time in the week to slow down\, quieten the mind and listen to the body. \nSuitable for all levels. BYO mat. \nClasses held at the Apollo Bay Community Hall\, 4 Whelan St Apollo Bay \n5:45-7:00pm on Mondays 7 classes – $98 for the term
URL:https://mwnh.org/event/oki-do-yoga/2025-08-18/
LOCATION:Apollo Bay Community Hall\, 4 Whelan Street\, Apollo Bay\, Victoria\, 3233\, Australia
CATEGORIES:Health
ATTACH;FMTTYPE=image/jpeg:https://mwnh.org/wp-content/uploads/2025/08/Okido-Yoga-scaled-e1755564094827.jpg
ORGANIZER;CN="Marrar Woorn Neighbourhood House":MAILTO:coordinator@mwnh.org
END:VEVENT
BEGIN:VEVENT
DTSTART;TZID=Australia/Melbourne:20250812T180000
DTEND;TZID=Australia/Melbourne:20250812T200000
DTSTAMP:20260420T112711
CREATED:20250819T030119Z
LAST-MODIFIED:20250819T062137Z
UID:10000410-1755021600-1755028800@mwnh.org
SUMMARY:The Nurture Space
DESCRIPTION:This group is all about connection & community: women gathering to celebrate and sharing their skills\, strengths & knowledge.\n\n\n\n\nTuesdays 6-8pm commencing Tues 22 July 2025. Facilitated by Eliza.\n\n\nBYO light dinner. Free to participate.
URL:https://mwnh.org/event/the-nurture-space/2025-08-12/
LOCATION:Marrar Woorn Neighbourhood House\, 6 Pengilley Avenue\, Apollo Bay\, VIC\, 3233\, Australia
CATEGORIES:Community Group
ATTACH;FMTTYPE=image/jpeg:https://mwnh.org/wp-content/uploads/2025/08/Nurture-Space-e1755572450964.jpg
ORGANIZER;CN="Marrar Woorn Neighbourhood House":MAILTO:coordinator@mwnh.org
END:VEVENT
BEGIN:VEVENT
DTSTART;TZID=Australia/Melbourne:20250811T174500
DTEND;TZID=Australia/Melbourne:20250811T190000
DTSTAMP:20260420T112711
CREATED:20250819T004146Z
LAST-MODIFIED:20250819T004240Z
UID:10000282-1754934300-1754938800@mwnh.org
SUMMARY:Oki Do Yoga
DESCRIPTION:Set aside some time in the week to slow down\, quieten the mind and listen to the body. \nSuitable for all levels. BYO mat. \nClasses held at the Apollo Bay Community Hall\, 4 Whelan St Apollo Bay \n5:45-7:00pm on Mondays 7 classes – $98 for the term
URL:https://mwnh.org/event/oki-do-yoga/2025-08-11/
LOCATION:Apollo Bay Community Hall\, 4 Whelan Street\, Apollo Bay\, Victoria\, 3233\, Australia
CATEGORIES:Health
ATTACH;FMTTYPE=image/jpeg:https://mwnh.org/wp-content/uploads/2025/08/Okido-Yoga-scaled-e1755564094827.jpg
ORGANIZER;CN="Marrar Woorn Neighbourhood House":MAILTO:coordinator@mwnh.org
END:VEVENT
BEGIN:VEVENT
DTSTART;TZID=Australia/Melbourne:20250810T100000
DTEND;TZID=Australia/Melbourne:20250810T130000
DTSTAMP:20260420T112711
CREATED:20250708T053650Z
LAST-MODIFIED:20250709T081934Z
UID:10000011-1754820000-1754830800@mwnh.org
SUMMARY:Edible Garden Workshop: Pruning Masterclass
DESCRIPTION:This workshop by Katie and Hugh Finlay from Grow Great Fruit (growgreatfruit.com) is designed to take you from nervous novice to confident pruner\, by giving you a clear system for pruning your fruit trees. \nKatie and Hugh are organic fruit growers who have been helping home gardeners grow amazing fruit since 2013. They’ve worked with hundreds of gardeners to teach them how to prune their trees confidently. \nThe workshop will include pruning theory and technique\, the Foolproof 7-step method for pruning fruit trees\, a sharpening lesson\, and supervised practice on the fruit trees at the community garden. \nBookings essential: See website link below. $15 to be paid on the day. \nThis workshop has been organised by our fabulous Edible Garden Workshop partners; Abby and the team from Southern Otway Landcare Network (SOLN)!
URL:https://mwnh.org/event/edible-garden-workshop-pruning-masterclass/
LOCATION:Apollo Bay P-12 College Kitchen Garden\, Costin Street\, Apollo Bay\, VIC\, 3233\, Australia
CATEGORIES:Adult Education,Gardening
ATTACH;FMTTYPE=image/jpeg:https://mwnh.org/wp-content/uploads/2025/07/katie-and-hugh-2.jpg
ORGANIZER;CN="Marrar Woorn Neighbourhood House":MAILTO:coordinator@mwnh.org
END:VEVENT
BEGIN:VEVENT
DTSTART;TZID=Australia/Melbourne:20250805T180000
DTEND;TZID=Australia/Melbourne:20250805T200000
DTSTAMP:20260420T112711
CREATED:20250819T030119Z
LAST-MODIFIED:20250819T062137Z
UID:10000409-1754416800-1754424000@mwnh.org
SUMMARY:The Nurture Space
DESCRIPTION:This group is all about connection & community: women gathering to celebrate and sharing their skills\, strengths & knowledge.\n\n\n\n\nTuesdays 6-8pm commencing Tues 22 July 2025. Facilitated by Eliza.\n\n\nBYO light dinner. Free to participate.
URL:https://mwnh.org/event/the-nurture-space/2025-08-05/
LOCATION:Marrar Woorn Neighbourhood House\, 6 Pengilley Avenue\, Apollo Bay\, VIC\, 3233\, Australia
CATEGORIES:Community Group
ATTACH;FMTTYPE=image/jpeg:https://mwnh.org/wp-content/uploads/2025/08/Nurture-Space-e1755572450964.jpg
ORGANIZER;CN="Marrar Woorn Neighbourhood House":MAILTO:coordinator@mwnh.org
END:VEVENT
BEGIN:VEVENT
DTSTART;TZID=Australia/Melbourne:20250805T090000
DTEND;TZID=Australia/Melbourne:20250805T103000
DTSTAMP:20260420T112711
CREATED:20250708T023429Z
LAST-MODIFIED:20250709T081702Z
UID:10000010-1754384400-1754389800@mwnh.org
SUMMARY:Home Coffee Skills
DESCRIPTION:The team at Hello Coffee will take their professional barista knowledge\, and use it to suggest simple methods of improving your coffee brewing at home with the equipment you already have. \nBring in any equipment from home and help will be provided in person\, during the class! \nBookings essential: See website link below. \n 
URL:https://mwnh.org/event/home-coffee-skills/
LOCATION:Hello Coffee Roastery\, 16 Oak Avenue\, Apollo Bay\, VIC\, 3233\, Australia
CATEGORIES:Adult Education
ATTACH;FMTTYPE=image/jpeg:https://mwnh.org/wp-content/uploads/2025/07/HelloCoffee.jpg
ORGANIZER;CN="Marrar Woorn Neighbourhood House":MAILTO:coordinator@mwnh.org
END:VEVENT
BEGIN:VEVENT
DTSTART;TZID=Australia/Melbourne:20250804T174500
DTEND;TZID=Australia/Melbourne:20250804T190000
DTSTAMP:20260420T112711
CREATED:20250819T004146Z
LAST-MODIFIED:20250819T004240Z
UID:10000281-1754329500-1754334000@mwnh.org
SUMMARY:Oki Do Yoga
DESCRIPTION:Set aside some time in the week to slow down\, quieten the mind and listen to the body. \nSuitable for all levels. BYO mat. \nClasses held at the Apollo Bay Community Hall\, 4 Whelan St Apollo Bay \n5:45-7:00pm on Mondays 7 classes – $98 for the term
URL:https://mwnh.org/event/oki-do-yoga/2025-08-04/
LOCATION:Apollo Bay Community Hall\, 4 Whelan Street\, Apollo Bay\, Victoria\, 3233\, Australia
CATEGORIES:Health
ATTACH;FMTTYPE=image/jpeg:https://mwnh.org/wp-content/uploads/2025/08/Okido-Yoga-scaled-e1755564094827.jpg
ORGANIZER;CN="Marrar Woorn Neighbourhood House":MAILTO:coordinator@mwnh.org
END:VEVENT
BEGIN:VEVENT
DTSTART;TZID=Australia/Melbourne:20250729T180000
DTEND;TZID=Australia/Melbourne:20250729T200000
DTSTAMP:20260420T112711
CREATED:20250819T030119Z
LAST-MODIFIED:20250819T062137Z
UID:10000408-1753812000-1753819200@mwnh.org
SUMMARY:The Nurture Space
DESCRIPTION:This group is all about connection & community: women gathering to celebrate and sharing their skills\, strengths & knowledge.\n\n\n\n\nTuesdays 6-8pm commencing Tues 22 July 2025. Facilitated by Eliza.\n\n\nBYO light dinner. Free to participate.
URL:https://mwnh.org/event/the-nurture-space/2025-07-29/
LOCATION:Marrar Woorn Neighbourhood House\, 6 Pengilley Avenue\, Apollo Bay\, VIC\, 3233\, Australia
CATEGORIES:Community Group
ATTACH;FMTTYPE=image/jpeg:https://mwnh.org/wp-content/uploads/2025/08/Nurture-Space-e1755572450964.jpg
ORGANIZER;CN="Marrar Woorn Neighbourhood House":MAILTO:coordinator@mwnh.org
END:VEVENT
BEGIN:VEVENT
DTSTART;TZID=Australia/Melbourne:20250722T180000
DTEND;TZID=Australia/Melbourne:20250722T200000
DTSTAMP:20260420T112711
CREATED:20250819T030119Z
LAST-MODIFIED:20250819T062137Z
UID:10000407-1753207200-1753214400@mwnh.org
SUMMARY:The Nurture Space
DESCRIPTION:This group is all about connection & community: women gathering to celebrate and sharing their skills\, strengths & knowledge.\n\n\n\n\nTuesdays 6-8pm commencing Tues 22 July 2025. Facilitated by Eliza.\n\n\nBYO light dinner. Free to participate.
URL:https://mwnh.org/event/the-nurture-space/2025-07-22/
LOCATION:Marrar Woorn Neighbourhood House\, 6 Pengilley Avenue\, Apollo Bay\, VIC\, 3233\, Australia
CATEGORIES:Community Group
ATTACH;FMTTYPE=image/jpeg:https://mwnh.org/wp-content/uploads/2025/08/Nurture-Space-e1755572450964.jpg
ORGANIZER;CN="Marrar Woorn Neighbourhood House":MAILTO:coordinator@mwnh.org
END:VEVENT
BEGIN:VEVENT
DTSTART;TZID=Australia/Melbourne:20250721T100000
DTEND;TZID=Australia/Melbourne:20250721T143000
DTSTAMP:20260420T112711
CREATED:20250604T044416Z
LAST-MODIFIED:20250717T071910Z
UID:10000001-1753092000-1753108200@mwnh.org
SUMMARY:POSTPONED - Bringing Up Great Kids
DESCRIPTION:EVENT POSTPONED DUE TO LACK OF REGISTRATIONS\nPlease contact Marrar Woorn Neighbourhood House or Regional Parenting Service via their expression of interest form (link below)\, and a future date for this free parenting program can be arranged later in 2025. \nFree in-person Parenting Program\nParents or care-givers of children aged 1-8 years are invited to this free in-person parenting program. Discuss how your parenting style may influence your child’s behaviour. Topics to be explored: \n\nmessages from your past – childhood memories\nchildren’s brain development\ngiving and receiving messages\nmessages behind your child’s behaviour\ncaring for yourself\npassing on positive messages.\n\nRegister online by submitting an expression of interest. See website link below.
URL:https://mwnh.org/event/bringing-up-great-kids/
LOCATION:Apollo Bay Community Hall\, 4 Whelan Street\, Apollo Bay\, Victoria\, 3233\, Australia
CATEGORIES:Kids & Families,Parenting
ATTACH;FMTTYPE=image/jpeg:https://mwnh.org/wp-content/uploads/2025/06/1PP-1.jpg
END:VEVENT
BEGIN:VEVENT
DTSTART;TZID=Australia/Melbourne:20250716T120000
DTEND;TZID=Australia/Melbourne:20250716T160000
DTSTAMP:20260420T112711
CREATED:20250625T063206Z
LAST-MODIFIED:20250709T081527Z
UID:10000008-1752667200-1752681600@mwnh.org
SUMMARY:Nature Journal & Games Day
DESCRIPTION:Have fun at Marrar Woorn Neighbourhood House these school holidays by creating your own nature journal and enjoying a few hours of playing board games & table tennis with your friends. \nFor students in Grades 3 to 6. \nFacilitated by GORH’s Youth Worker Toby Bucek \nMaterials provided. BYO lunch and snacks.
URL:https://mwnh.org/event/nature-journal-games-day-2/
LOCATION:VIC
CATEGORIES:Kids & Families,School Holiday Program
ATTACH;FMTTYPE=image/png:https://mwnh.org/wp-content/uploads/2025/06/Screenshot-2025-06-23-145646A.png
END:VEVENT
BEGIN:VEVENT
DTSTART;TZID=Australia/Melbourne:20250714T103000
DTEND;TZID=Australia/Melbourne:20250714T113000
DTSTAMP:20260420T112711
CREATED:20250618T044111Z
LAST-MODIFIED:20250709T081333Z
UID:10000005-1752489000-1752492600@mwnh.org
SUMMARY:Bloom & Glaze Kids & Teens: Floral Cookie Creations (Ages 10-18)
DESCRIPTION:Calling all young baking enthusiasts!\nThis hands-on workshop is the perfect way to explore the art of cookie decorating using royal icing\, pressed flowers\, and delicate flower confetti. \nLearn basic piping techniques\, icing consistency tips\, and creative floral designs to craft cookies that look as amazing as they taste! Whether you’re a beginner or already love baking\, you’ll gain the skills to recreate these stunning treats at home. \nEverything is provided—just bring your creativity and get ready to decorate!
URL:https://mwnh.org/event/bloom-glaze-kids-teens-floral-cookie-creations-ages-10-18/
LOCATION:Marrar Woorn Neighbourhood House\, 6 Pengilley Avenue\, Apollo Bay\, VIC\, 3233\, Australia
CATEGORIES:Cooking,Kids & Families
ATTACH;FMTTYPE=image/jpeg:https://mwnh.org/wp-content/uploads/2025/06/Bloomandglaze1.jpg
ORGANIZER;CN="Marrar Woorn Neighbourhood House":MAILTO:coordinator@mwnh.org
END:VEVENT
BEGIN:VEVENT
DTSTART;TZID=Australia/Melbourne:20250714T093000
DTEND;TZID=Australia/Melbourne:20250714T101500
DTSTAMP:20260420T112711
CREATED:20250618T021521Z
LAST-MODIFIED:20250709T081154Z
UID:10000004-1752485400-1752488100@mwnh.org
SUMMARY:Bloom & Glaze Kids: Floral Cookie Fun (Ages 3-10)
DESCRIPTION:Get ready for a colourful\, hands-on cookie adventure!\nIn this fun-filled workshop\, little bakers will squish\, swirl\, and sprinkle their way to beautiful floral cookies using yummy royal icing\, pressed flowers and flower confetti. \nWith easy step-by-step guidance\, kids will have a blast decorating their own sweet treats to take home. No baking experience needed—just bring your imagination and a big smile! \nFor children aged 3 to 10 years. Children under 6 years must be supervised / assisted by an adult. \nWe provide everything—just come ready to create!
URL:https://mwnh.org/event/bloom-glaze-kids-floral-cookie-fun-ages-3-10/
LOCATION:Marrar Woorn Neighbourhood House\, 6 Pengilley Avenue\, Apollo Bay\, VIC\, 3233\, Australia
CATEGORIES:Cooking,Kids & Families
ATTACH;FMTTYPE=image/jpeg:https://mwnh.org/wp-content/uploads/2025/06/Bloomandglaze2.jpg
ORGANIZER;CN="Marrar Woorn Neighbourhood House":MAILTO:coordinator@mwnh.org
END:VEVENT
BEGIN:VEVENT
DTSTART;TZID=Australia/Melbourne:20250708T100000
DTEND;TZID=Australia/Melbourne:20250708T140000
DTSTAMP:20260420T112711
CREATED:20250625T063104Z
LAST-MODIFIED:20250625T063104Z
UID:10000007-1751968800-1751983200@mwnh.org
SUMMARY:Nature Journal & Games Day
DESCRIPTION:Have fund at Marrar Woorn Neighbourhood House these school holidays by creating your own nature journal and enjoying a few hours of playing board games & table tennis with your friends. \nFor students in Grades 3 to 6. \nFacilitated by GORH’s Youth Worker Toby Bucek \nMaterials provided. BYO lunch and snacks.
URL:https://mwnh.org/event/nature-journal-games-day/
LOCATION:Marrar Woorn Neighbourhood House\, 6 Pengilley Avenue\, Apollo Bay\, VIC\, 3233\, Australia
CATEGORIES:Kids & Families,School Holiday Program
ATTACH;FMTTYPE=image/png:https://mwnh.org/wp-content/uploads/2025/06/Screenshot-2025-06-23-145646.png
END:VEVENT
BEGIN:VEVENT
DTSTART;TZID=Australia/Melbourne:20250622T100000
DTEND;TZID=Australia/Melbourne:20250622T110000
DTSTAMP:20260420T112711
CREATED:20250618T021013Z
LAST-MODIFIED:20250618T044836Z
UID:10000003-1750586400-1750590000@mwnh.org
SUMMARY:Bloom & Glaze: A Floral Cookie Experience
DESCRIPTION:Join local favourite Cathy from the Potoroo Pantry for this delicious workshop!\nUnwind and get creative in this hands-on cookie decorating workshop designed for adults who love beautiful\, edible art! Learn the basics of royal icing techniques\, piping and floral composition as you decorate stunning sugar cookies with pressed flowers and delicate flower confetti.
URL:https://mwnh.org/event/bloom-glaze-a-floral-cookie-experience/
LOCATION:Marrar Woorn Neighbourhood House\, 6 Pengilley Avenue\, Apollo Bay\, VIC\, 3233\, Australia
CATEGORIES:Adult Education,Cooking
ATTACH;FMTTYPE=image/jpeg:https://mwnh.org/wp-content/uploads/2025/03/Bloomandglaze3.jpg
ORGANIZER;CN="Marrar Woorn Neighbourhood House":MAILTO:coordinator@mwnh.org
END:VEVENT
END:VCALENDAR