BEGIN:VCALENDAR
VERSION:2.0
PRODID:-//Marrar Woorn Neighbourhood House - ECPv6.15.20//NONSGML v1.0//EN
CALSCALE:GREGORIAN
METHOD:PUBLISH
X-ORIGINAL-URL:https://mwnh.org
X-WR-CALDESC:Events for Marrar Woorn Neighbourhood House
REFRESH-INTERVAL;VALUE=DURATION:PT1H
X-Robots-Tag:noindex
X-PUBLISHED-TTL:PT1H
BEGIN:VTIMEZONE
TZID:Australia/Melbourne
BEGIN:STANDARD
TZOFFSETFROM:+1100
TZOFFSETTO:+1000
TZNAME:AEST
DTSTART:20290331T160000
END:STANDARD
BEGIN:DAYLIGHT
TZOFFSETFROM:+1000
TZOFFSETTO:+1100
TZNAME:AEDT
DTSTART:20291006T160000
END:DAYLIGHT
BEGIN:STANDARD
TZOFFSETFROM:+1100
TZOFFSETTO:+1000
TZNAME:AEST
DTSTART:20300406T160000
END:STANDARD
BEGIN:DAYLIGHT
TZOFFSETFROM:+1000
TZOFFSETTO:+1100
TZNAME:AEDT
DTSTART:20301005T160000
END:DAYLIGHT
BEGIN:STANDARD
TZOFFSETFROM:+1100
TZOFFSETTO:+1000
TZNAME:AEST
DTSTART:20310405T160000
END:STANDARD
BEGIN:DAYLIGHT
TZOFFSETFROM:+1000
TZOFFSETTO:+1100
TZNAME:AEDT
DTSTART:20311004T160000
END:DAYLIGHT
BEGIN:STANDARD
TZOFFSETFROM:+1100
TZOFFSETTO:+1000
TZNAME:AEST
DTSTART:20320403T160000
END:STANDARD
BEGIN:DAYLIGHT
TZOFFSETFROM:+1000
TZOFFSETTO:+1100
TZNAME:AEDT
DTSTART:20321002T160000
END:DAYLIGHT
END:VTIMEZONE
BEGIN:VEVENT
DTSTART;TZID=Australia/Melbourne:20300820T133000
DTEND;TZID=Australia/Melbourne:20300820T160000
DTSTAMP:20260422T002852
CREATED:20260202T022347Z
LAST-MODIFIED:20260202T022347Z
UID:10000788-1913463000-1913472000@mwnh.org
SUMMARY:Patchwork & Quilting
DESCRIPTION:All are welcome to join the Patchwork and Quilting Club!\nEvery 1st and 3rd Tuesday of the month from 1:30pm to 4pm.Call Val on 0437637929 for more information.
URL:https://mwnh.org/event/patchwork-quilting/2030-08-20/
LOCATION:Marrar Woorn Neighbourhood House\, 6 Pengilley Avenue\, Apollo Bay\, VIC\, 3233\, Australia
ATTACH;FMTTYPE=image/png:https://mwnh.org/wp-content/uploads/2026/02/Patchwork-Quilting-Instagram-Post.png
ORGANIZER;CN="Marrar Woorn Neighbourhood House":MAILTO:coordinator@mwnh.org
END:VEVENT
BEGIN:VEVENT
DTSTART;TZID=Australia/Melbourne:20300917T133000
DTEND;TZID=Australia/Melbourne:20300917T160000
DTSTAMP:20260422T002852
CREATED:20260202T022347Z
LAST-MODIFIED:20260202T022347Z
UID:10000789-1915882200-1915891200@mwnh.org
SUMMARY:Patchwork & Quilting
DESCRIPTION:All are welcome to join the Patchwork and Quilting Club!\nEvery 1st and 3rd Tuesday of the month from 1:30pm to 4pm.Call Val on 0437637929 for more information.
URL:https://mwnh.org/event/patchwork-quilting/2030-09-17/
LOCATION:Marrar Woorn Neighbourhood House\, 6 Pengilley Avenue\, Apollo Bay\, VIC\, 3233\, Australia
ATTACH;FMTTYPE=image/png:https://mwnh.org/wp-content/uploads/2026/02/Patchwork-Quilting-Instagram-Post.png
ORGANIZER;CN="Marrar Woorn Neighbourhood House":MAILTO:coordinator@mwnh.org
END:VEVENT
BEGIN:VEVENT
DTSTART;TZID=Australia/Melbourne:20301015T133000
DTEND;TZID=Australia/Melbourne:20301015T160000
DTSTAMP:20260422T002852
CREATED:20260202T022347Z
LAST-MODIFIED:20260202T022347Z
UID:10000790-1918301400-1918310400@mwnh.org
SUMMARY:Patchwork & Quilting
DESCRIPTION:All are welcome to join the Patchwork and Quilting Club!\nEvery 1st and 3rd Tuesday of the month from 1:30pm to 4pm.Call Val on 0437637929 for more information.
URL:https://mwnh.org/event/patchwork-quilting/2030-10-15/
LOCATION:Marrar Woorn Neighbourhood House\, 6 Pengilley Avenue\, Apollo Bay\, VIC\, 3233\, Australia
ATTACH;FMTTYPE=image/png:https://mwnh.org/wp-content/uploads/2026/02/Patchwork-Quilting-Instagram-Post.png
ORGANIZER;CN="Marrar Woorn Neighbourhood House":MAILTO:coordinator@mwnh.org
END:VEVENT
BEGIN:VEVENT
DTSTART;TZID=Australia/Melbourne:20301119T133000
DTEND;TZID=Australia/Melbourne:20301119T160000
DTSTAMP:20260422T002852
CREATED:20260202T022347Z
LAST-MODIFIED:20260202T022347Z
UID:10000791-1921325400-1921334400@mwnh.org
SUMMARY:Patchwork & Quilting
DESCRIPTION:All are welcome to join the Patchwork and Quilting Club!\nEvery 1st and 3rd Tuesday of the month from 1:30pm to 4pm.Call Val on 0437637929 for more information.
URL:https://mwnh.org/event/patchwork-quilting/2030-11-19/
LOCATION:Marrar Woorn Neighbourhood House\, 6 Pengilley Avenue\, Apollo Bay\, VIC\, 3233\, Australia
ATTACH;FMTTYPE=image/png:https://mwnh.org/wp-content/uploads/2026/02/Patchwork-Quilting-Instagram-Post.png
ORGANIZER;CN="Marrar Woorn Neighbourhood House":MAILTO:coordinator@mwnh.org
END:VEVENT
BEGIN:VEVENT
DTSTART;TZID=Australia/Melbourne:20301217T133000
DTEND;TZID=Australia/Melbourne:20301217T160000
DTSTAMP:20260422T002852
CREATED:20260202T022347Z
LAST-MODIFIED:20260202T022347Z
UID:10000792-1923744600-1923753600@mwnh.org
SUMMARY:Patchwork & Quilting
DESCRIPTION:All are welcome to join the Patchwork and Quilting Club!\nEvery 1st and 3rd Tuesday of the month from 1:30pm to 4pm.Call Val on 0437637929 for more information.
URL:https://mwnh.org/event/patchwork-quilting/2030-12-17/
LOCATION:Marrar Woorn Neighbourhood House\, 6 Pengilley Avenue\, Apollo Bay\, VIC\, 3233\, Australia
ATTACH;FMTTYPE=image/png:https://mwnh.org/wp-content/uploads/2026/02/Patchwork-Quilting-Instagram-Post.png
ORGANIZER;CN="Marrar Woorn Neighbourhood House":MAILTO:coordinator@mwnh.org
END:VEVENT
BEGIN:VEVENT
DTSTART;TZID=Australia/Melbourne:20310121T133000
DTEND;TZID=Australia/Melbourne:20310121T160000
DTSTAMP:20260422T002852
CREATED:20260202T022347Z
LAST-MODIFIED:20260202T022347Z
UID:10000793-1926768600-1926777600@mwnh.org
SUMMARY:Patchwork & Quilting
DESCRIPTION:All are welcome to join the Patchwork and Quilting Club!\nEvery 1st and 3rd Tuesday of the month from 1:30pm to 4pm.Call Val on 0437637929 for more information.
URL:https://mwnh.org/event/patchwork-quilting/2031-01-21/
LOCATION:Marrar Woorn Neighbourhood House\, 6 Pengilley Avenue\, Apollo Bay\, VIC\, 3233\, Australia
ATTACH;FMTTYPE=image/png:https://mwnh.org/wp-content/uploads/2026/02/Patchwork-Quilting-Instagram-Post.png
ORGANIZER;CN="Marrar Woorn Neighbourhood House":MAILTO:coordinator@mwnh.org
END:VEVENT
END:VCALENDAR