BEGIN:VCALENDAR
VERSION:2.0
PRODID:-//Marrar Woorn Neighbourhood House - ECPv6.15.20//NONSGML v1.0//EN
CALSCALE:GREGORIAN
METHOD:PUBLISH
X-ORIGINAL-URL:https://mwnh.org
X-WR-CALDESC:Events for Marrar Woorn Neighbourhood House
REFRESH-INTERVAL;VALUE=DURATION:PT1H
X-Robots-Tag:noindex
X-PUBLISHED-TTL:PT1H
BEGIN:VTIMEZONE
TZID:Australia/Melbourne
BEGIN:STANDARD
TZOFFSETFROM:+1100
TZOFFSETTO:+1000
TZNAME:AEST
DTSTART:20240406T160000
END:STANDARD
BEGIN:DAYLIGHT
TZOFFSETFROM:+1000
TZOFFSETTO:+1100
TZNAME:AEDT
DTSTART:20241005T160000
END:DAYLIGHT
BEGIN:STANDARD
TZOFFSETFROM:+1100
TZOFFSETTO:+1000
TZNAME:AEST
DTSTART:20250405T160000
END:STANDARD
BEGIN:DAYLIGHT
TZOFFSETFROM:+1000
TZOFFSETTO:+1100
TZNAME:AEDT
DTSTART:20251004T160000
END:DAYLIGHT
BEGIN:STANDARD
TZOFFSETFROM:+1100
TZOFFSETTO:+1000
TZNAME:AEST
DTSTART:20260404T160000
END:STANDARD
BEGIN:DAYLIGHT
TZOFFSETFROM:+1000
TZOFFSETTO:+1100
TZNAME:AEDT
DTSTART:20261003T160000
END:DAYLIGHT
END:VTIMEZONE
BEGIN:VEVENT
DTSTART;TZID=Australia/Melbourne:20251028T180000
DTEND;TZID=Australia/Melbourne:20251028T200000
DTSTAMP:20260420T181025
CREATED:20250917T015132Z
LAST-MODIFIED:20250917T015132Z
UID:10000555-1761674400-1761681600@mwnh.org
SUMMARY:The Nurture Space
DESCRIPTION:This group is all about connection & community: women gathering to celebrate and sharing their skills\, strengths & knowledge.\n\n\n\n\nTuesdays 6-8pm commencing in Term 4. Facilitated by Eliza.\n\n\nBYO light dinner. Free to participate.
URL:https://mwnh.org/event/the-nurture-space-2/2025-10-28/
LOCATION:Marrar Woorn Neighbourhood House\, 6 Pengilley Avenue\, Apollo Bay\, VIC\, 3233\, Australia
CATEGORIES:Community Group
ATTACH;FMTTYPE=image/jpeg:https://mwnh.org/wp-content/uploads/2025/08/Nurture-Space-e1755572450964.jpg
ORGANIZER;CN="Marrar Woorn Neighbourhood House":MAILTO:coordinator@mwnh.org
END:VEVENT
BEGIN:VEVENT
DTSTART;TZID=Australia/Melbourne:20251029T090000
DTEND;TZID=Australia/Melbourne:20251029T110000
DTSTAMP:20260420T181025
CREATED:20250818T045547Z
LAST-MODIFIED:20250818T045547Z
UID:10000030-1761728400-1761735600@mwnh.org
SUMMARY:Toy Library Playgroup
DESCRIPTION:Join the Apollo Bay Toy Library and enjoy all the benefits it brings. Do you want a great toy rotation for your toddler\, but you like your house clutter free? Do you want to do right by the environment and your bank account? The Toy Library is for you! \n\nToy Library Playgroup is held each week at Marrar Woorn Neighbourhood House every Wednesday from 9am to 11am. There is no cost to participate! \n\nThe Apollo Bay Toy Library is a satellite of the well established Colac Toy Library. To sign up to become a member and start borrowing toys\, go to their website via the website link below.
URL:https://mwnh.org/event/toy-library-playgroup/2025-10-29/
LOCATION:Marrar Woorn Neighbourhood House\, 6 Pengilley Avenue\, Apollo Bay\, VIC\, 3233\, Australia
CATEGORIES:Kids & Families
ATTACH;FMTTYPE=image/jpeg:https://mwnh.org/wp-content/uploads/2025/08/Toy-Playgroup-e1755492834190.jpg
ORGANIZER;CN="Marrar Woorn Neighbourhood House":MAILTO:coordinator@mwnh.org
END:VEVENT
BEGIN:VEVENT
DTSTART;TZID=Australia/Melbourne:20251031T153000
DTEND;TZID=Australia/Melbourne:20251031T173000
DTSTAMP:20260420T181025
CREATED:20250929T053658Z
LAST-MODIFIED:20250929T060109Z
UID:10000655-1761924600-1761931800@mwnh.org
SUMMARY:Apollo Bay Kids Halloween
DESCRIPTION:SpoOoOoKy Halloweeeen!\n\nJoin the fun at Marrar Woorn\, to start off your Halloween with a bang! We will have trick or treating\, and a spoooooooky haunted house to walk through!\n\nPut on your best costume and join us this Halloween. Pick up your map to continue the fun trick or treating\, using the wonderful Halloween trail map. This map will tell you exactly what houses to visit to have a great Halloween experience.\n\nSee you this Halloween!
URL:https://mwnh.org/event/apollo-bay-kids-halloween/
LOCATION:Marrar Woorn Neighbourhood House\, 6 Pengilley Avenue\, Apollo Bay\, VIC\, 3233\, Australia
CATEGORIES:Community Group,Kids & Families,Parenting,Teen / Young adult
ATTACH;FMTTYPE=image/png:https://mwnh.org/wp-content/uploads/2025/09/Pink-Black-Retro-Spooky-Illustrated-Halloween-Invitation-Party-Poster.png
ORGANIZER;CN="Marrar Woorn Neighbourhood House":MAILTO:coordinator@mwnh.org
END:VEVENT
BEGIN:VEVENT
DTSTART;TZID=Australia/Melbourne:20251104T130000
DTEND;TZID=Australia/Melbourne:20251104T150000
DTSTAMP:20260420T181025
CREATED:20250919T020241Z
LAST-MODIFIED:20250919T020241Z
UID:10000591-1762261200-1762268400@mwnh.org
SUMMARY:Weaving & Spinning 
DESCRIPTION:TUESDAYS\, Weekly\, 1:00 PM – 3:00 PM \nMarrar Woorn \nBYO materials & equipment.
URL:https://mwnh.org/event/weaving-spinning/2025-11-04/
LOCATION:Marrar Woorn Neighbourhood House\, 6 Pengilley Avenue\, Apollo Bay\, VIC\, 3233\, Australia
CATEGORIES:Art & Craft
ORGANIZER;CN="Marrar Woorn Neighbourhood House":MAILTO:coordinator@mwnh.org
END:VEVENT
BEGIN:VEVENT
DTSTART;TZID=Australia/Melbourne:20251104T133000
DTEND;TZID=Australia/Melbourne:20251104T160000
DTSTAMP:20260420T181025
CREATED:20250919T015246Z
LAST-MODIFIED:20250924T042232Z
UID:10000572-1762263000-1762272000@mwnh.org
SUMMARY:Patchwork & Quilting Club
DESCRIPTION:All are welcome to join the Patchwork and Quilting Club!\nEvery 1st and 3rd Tuesday of the month from 1:30pm to 4pm.Call Val on 0437637929 for more information.
URL:https://mwnh.org/event/patchwork-quilting-club/2025-11-04/
LOCATION:Marrar Woorn Neighbourhood House\, 6 Pengilley Avenue\, Apollo Bay\, VIC\, 3233\, Australia
CATEGORIES:Art & Craft,Sewing
ATTACH;FMTTYPE=image/jpeg:https://mwnh.org/wp-content/uploads/2025/09/How-to-make-a-patchwork-quilt-for-beginners.jpg
ORGANIZER;CN="Marrar Woorn Neighbourhood House":MAILTO:coordinator@mwnh.org
END:VEVENT
BEGIN:VEVENT
DTSTART;TZID=Australia/Melbourne:20251104T180000
DTEND;TZID=Australia/Melbourne:20251104T200000
DTSTAMP:20260420T181025
CREATED:20250917T015132Z
LAST-MODIFIED:20250917T015132Z
UID:10000556-1762279200-1762286400@mwnh.org
SUMMARY:The Nurture Space
DESCRIPTION:This group is all about connection & community: women gathering to celebrate and sharing their skills\, strengths & knowledge.\n\n\n\n\nTuesdays 6-8pm commencing in Term 4. Facilitated by Eliza.\n\n\nBYO light dinner. Free to participate.
URL:https://mwnh.org/event/the-nurture-space-2/2025-11-04/
LOCATION:Marrar Woorn Neighbourhood House\, 6 Pengilley Avenue\, Apollo Bay\, VIC\, 3233\, Australia
CATEGORIES:Community Group
ATTACH;FMTTYPE=image/jpeg:https://mwnh.org/wp-content/uploads/2025/08/Nurture-Space-e1755572450964.jpg
ORGANIZER;CN="Marrar Woorn Neighbourhood House":MAILTO:coordinator@mwnh.org
END:VEVENT
BEGIN:VEVENT
DTSTART;TZID=Australia/Melbourne:20251105T090000
DTEND;TZID=Australia/Melbourne:20251105T110000
DTSTAMP:20260420T181025
CREATED:20250818T045547Z
LAST-MODIFIED:20250818T045547Z
UID:10000031-1762333200-1762340400@mwnh.org
SUMMARY:Toy Library Playgroup
DESCRIPTION:Join the Apollo Bay Toy Library and enjoy all the benefits it brings. Do you want a great toy rotation for your toddler\, but you like your house clutter free? Do you want to do right by the environment and your bank account? The Toy Library is for you! \n\nToy Library Playgroup is held each week at Marrar Woorn Neighbourhood House every Wednesday from 9am to 11am. There is no cost to participate! \n\nThe Apollo Bay Toy Library is a satellite of the well established Colac Toy Library. To sign up to become a member and start borrowing toys\, go to their website via the website link below.
URL:https://mwnh.org/event/toy-library-playgroup/2025-11-05/
LOCATION:Marrar Woorn Neighbourhood House\, 6 Pengilley Avenue\, Apollo Bay\, VIC\, 3233\, Australia
CATEGORIES:Kids & Families
ATTACH;FMTTYPE=image/jpeg:https://mwnh.org/wp-content/uploads/2025/08/Toy-Playgroup-e1755492834190.jpg
ORGANIZER;CN="Marrar Woorn Neighbourhood House":MAILTO:coordinator@mwnh.org
END:VEVENT
BEGIN:VEVENT
DTSTART;TZID=Australia/Melbourne:20251111T130000
DTEND;TZID=Australia/Melbourne:20251111T150000
DTSTAMP:20260420T181025
CREATED:20250919T020241Z
LAST-MODIFIED:20250919T020241Z
UID:10000592-1762866000-1762873200@mwnh.org
SUMMARY:Weaving & Spinning 
DESCRIPTION:TUESDAYS\, Weekly\, 1:00 PM – 3:00 PM \nMarrar Woorn \nBYO materials & equipment.
URL:https://mwnh.org/event/weaving-spinning/2025-11-11/
LOCATION:Marrar Woorn Neighbourhood House\, 6 Pengilley Avenue\, Apollo Bay\, VIC\, 3233\, Australia
CATEGORIES:Art & Craft
ORGANIZER;CN="Marrar Woorn Neighbourhood House":MAILTO:coordinator@mwnh.org
END:VEVENT
BEGIN:VEVENT
DTSTART;TZID=Australia/Melbourne:20251111T180000
DTEND;TZID=Australia/Melbourne:20251111T200000
DTSTAMP:20260420T181025
CREATED:20250917T015132Z
LAST-MODIFIED:20250917T015132Z
UID:10000557-1762884000-1762891200@mwnh.org
SUMMARY:The Nurture Space
DESCRIPTION:This group is all about connection & community: women gathering to celebrate and sharing their skills\, strengths & knowledge.\n\n\n\n\nTuesdays 6-8pm commencing in Term 4. Facilitated by Eliza.\n\n\nBYO light dinner. Free to participate.
URL:https://mwnh.org/event/the-nurture-space-2/2025-11-11/
LOCATION:Marrar Woorn Neighbourhood House\, 6 Pengilley Avenue\, Apollo Bay\, VIC\, 3233\, Australia
CATEGORIES:Community Group
ATTACH;FMTTYPE=image/jpeg:https://mwnh.org/wp-content/uploads/2025/08/Nurture-Space-e1755572450964.jpg
ORGANIZER;CN="Marrar Woorn Neighbourhood House":MAILTO:coordinator@mwnh.org
END:VEVENT
BEGIN:VEVENT
DTSTART;TZID=Australia/Melbourne:20251112T090000
DTEND;TZID=Australia/Melbourne:20251112T110000
DTSTAMP:20260420T181025
CREATED:20250818T045547Z
LAST-MODIFIED:20250818T045547Z
UID:10000032-1762938000-1762945200@mwnh.org
SUMMARY:Toy Library Playgroup
DESCRIPTION:Join the Apollo Bay Toy Library and enjoy all the benefits it brings. Do you want a great toy rotation for your toddler\, but you like your house clutter free? Do you want to do right by the environment and your bank account? The Toy Library is for you! \n\nToy Library Playgroup is held each week at Marrar Woorn Neighbourhood House every Wednesday from 9am to 11am. There is no cost to participate! \n\nThe Apollo Bay Toy Library is a satellite of the well established Colac Toy Library. To sign up to become a member and start borrowing toys\, go to their website via the website link below.
URL:https://mwnh.org/event/toy-library-playgroup/2025-11-12/
LOCATION:Marrar Woorn Neighbourhood House\, 6 Pengilley Avenue\, Apollo Bay\, VIC\, 3233\, Australia
CATEGORIES:Kids & Families
ATTACH;FMTTYPE=image/jpeg:https://mwnh.org/wp-content/uploads/2025/08/Toy-Playgroup-e1755492834190.jpg
ORGANIZER;CN="Marrar Woorn Neighbourhood House":MAILTO:coordinator@mwnh.org
END:VEVENT
BEGIN:VEVENT
DTSTART;TZID=Australia/Melbourne:20251116T100000
DTEND;TZID=Australia/Melbourne:20251116T130000
DTSTAMP:20260420T181025
CREATED:20250925T062934Z
LAST-MODIFIED:20250925T235017Z
UID:10000654-1763287200-1763298000@mwnh.org
SUMMARY:Make Your Vision Board
DESCRIPTION:Linnet (creative coach and author of The Art of Vision Boarding) is back with this popular workshop. If you struggle to put aside the time to bring your future to the page\, this hands-on workshop is for you. \nGive yourself the gift of a gentle morning to play with pictures and design the life you imagine. Cut and paste with Linnet – what fun. 2026- bring it on! \nBook here: Make Your Vision Board
URL:https://mwnh.org/event/make-your-vision-board-2/
LOCATION:Marrar Woorn Neighbourhood House\, 6 Pengilley Avenue\, Apollo Bay\, VIC\, 3233\, Australia
CATEGORIES:Adult Education,Art & Craft,Health
ATTACH;FMTTYPE=image/jpeg:https://mwnh.org/wp-content/uploads/2025/09/thumbnail_Vision-Board-0925.jpg
ORGANIZER;CN="Marrar Woorn Neighbourhood House":MAILTO:coordinator@mwnh.org
END:VEVENT
BEGIN:VEVENT
DTSTART;TZID=Australia/Melbourne:20251117T174500
DTEND;TZID=Australia/Melbourne:20251117T190000
DTSTAMP:20260420T181025
CREATED:20250919T002345Z
LAST-MODIFIED:20250924T042153Z
UID:10000567-1763401500-1763406000@mwnh.org
SUMMARY:Okido Yoga - Term 4
DESCRIPTION:Join Andy for Oki Do Yoga in Term 4 2025! Set aside some time in the week to slow down\, quieten the mind and listen to the body. Suitable for all levels. BYO mat. \nAt the Apollo Bay Community Hall 4 Whelan St Apollo Bay 5.45-7pm Mondays – no classes on Nov 3 + 10 9 classes – $126
URL:https://mwnh.org/event/okido-yoga-term-4/2025-11-17/
LOCATION:Apollo Bay Community Hall\, 4 Whelan Street\, Apollo Bay\, Victoria\, 3233\, Australia
CATEGORIES:Health
ATTACH;FMTTYPE=image/jpeg:https://mwnh.org/wp-content/uploads/2025/09/Okido-Yoga-scaled.jpg
ORGANIZER;CN="Marrar Woorn Neighbourhood House":MAILTO:coordinator@mwnh.org
END:VEVENT
BEGIN:VEVENT
DTSTART;TZID=Australia/Melbourne:20251118T130000
DTEND;TZID=Australia/Melbourne:20251118T150000
DTSTAMP:20260420T181025
CREATED:20250919T020241Z
LAST-MODIFIED:20250919T020241Z
UID:10000593-1763470800-1763478000@mwnh.org
SUMMARY:Weaving & Spinning 
DESCRIPTION:TUESDAYS\, Weekly\, 1:00 PM – 3:00 PM \nMarrar Woorn \nBYO materials & equipment.
URL:https://mwnh.org/event/weaving-spinning/2025-11-18/
LOCATION:Marrar Woorn Neighbourhood House\, 6 Pengilley Avenue\, Apollo Bay\, VIC\, 3233\, Australia
CATEGORIES:Art & Craft
ORGANIZER;CN="Marrar Woorn Neighbourhood House":MAILTO:coordinator@mwnh.org
END:VEVENT
BEGIN:VEVENT
DTSTART;TZID=Australia/Melbourne:20251118T133000
DTEND;TZID=Australia/Melbourne:20251118T160000
DTSTAMP:20260420T181025
CREATED:20250919T015246Z
LAST-MODIFIED:20250924T042232Z
UID:10000573-1763472600-1763481600@mwnh.org
SUMMARY:Patchwork & Quilting Club
DESCRIPTION:All are welcome to join the Patchwork and Quilting Club!\nEvery 1st and 3rd Tuesday of the month from 1:30pm to 4pm.Call Val on 0437637929 for more information.
URL:https://mwnh.org/event/patchwork-quilting-club/2025-11-18/
LOCATION:Marrar Woorn Neighbourhood House\, 6 Pengilley Avenue\, Apollo Bay\, VIC\, 3233\, Australia
CATEGORIES:Art & Craft,Sewing
ATTACH;FMTTYPE=image/jpeg:https://mwnh.org/wp-content/uploads/2025/09/How-to-make-a-patchwork-quilt-for-beginners.jpg
ORGANIZER;CN="Marrar Woorn Neighbourhood House":MAILTO:coordinator@mwnh.org
END:VEVENT
BEGIN:VEVENT
DTSTART;TZID=Australia/Melbourne:20251118T180000
DTEND;TZID=Australia/Melbourne:20251118T200000
DTSTAMP:20260420T181025
CREATED:20250917T015132Z
LAST-MODIFIED:20250917T015132Z
UID:10000558-1763488800-1763496000@mwnh.org
SUMMARY:The Nurture Space
DESCRIPTION:This group is all about connection & community: women gathering to celebrate and sharing their skills\, strengths & knowledge.\n\n\n\n\nTuesdays 6-8pm commencing in Term 4. Facilitated by Eliza.\n\n\nBYO light dinner. Free to participate.
URL:https://mwnh.org/event/the-nurture-space-2/2025-11-18/
LOCATION:Marrar Woorn Neighbourhood House\, 6 Pengilley Avenue\, Apollo Bay\, VIC\, 3233\, Australia
CATEGORIES:Community Group
ATTACH;FMTTYPE=image/jpeg:https://mwnh.org/wp-content/uploads/2025/08/Nurture-Space-e1755572450964.jpg
ORGANIZER;CN="Marrar Woorn Neighbourhood House":MAILTO:coordinator@mwnh.org
END:VEVENT
BEGIN:VEVENT
DTSTART;TZID=Australia/Melbourne:20251119T090000
DTEND;TZID=Australia/Melbourne:20251119T110000
DTSTAMP:20260420T181025
CREATED:20250818T045547Z
LAST-MODIFIED:20250818T045547Z
UID:10000033-1763542800-1763550000@mwnh.org
SUMMARY:Toy Library Playgroup
DESCRIPTION:Join the Apollo Bay Toy Library and enjoy all the benefits it brings. Do you want a great toy rotation for your toddler\, but you like your house clutter free? Do you want to do right by the environment and your bank account? The Toy Library is for you! \n\nToy Library Playgroup is held each week at Marrar Woorn Neighbourhood House every Wednesday from 9am to 11am. There is no cost to participate! \n\nThe Apollo Bay Toy Library is a satellite of the well established Colac Toy Library. To sign up to become a member and start borrowing toys\, go to their website via the website link below.
URL:https://mwnh.org/event/toy-library-playgroup/2025-11-19/
LOCATION:Marrar Woorn Neighbourhood House\, 6 Pengilley Avenue\, Apollo Bay\, VIC\, 3233\, Australia
CATEGORIES:Kids & Families
ATTACH;FMTTYPE=image/jpeg:https://mwnh.org/wp-content/uploads/2025/08/Toy-Playgroup-e1755492834190.jpg
ORGANIZER;CN="Marrar Woorn Neighbourhood House":MAILTO:coordinator@mwnh.org
END:VEVENT
BEGIN:VEVENT
DTSTART;TZID=Australia/Melbourne:20251124T174500
DTEND;TZID=Australia/Melbourne:20251124T190000
DTSTAMP:20260420T181025
CREATED:20250919T002345Z
LAST-MODIFIED:20250924T042153Z
UID:10000568-1764006300-1764010800@mwnh.org
SUMMARY:Okido Yoga - Term 4
DESCRIPTION:Join Andy for Oki Do Yoga in Term 4 2025! Set aside some time in the week to slow down\, quieten the mind and listen to the body. Suitable for all levels. BYO mat. \nAt the Apollo Bay Community Hall 4 Whelan St Apollo Bay 5.45-7pm Mondays – no classes on Nov 3 + 10 9 classes – $126
URL:https://mwnh.org/event/okido-yoga-term-4/2025-11-24/
LOCATION:Apollo Bay Community Hall\, 4 Whelan Street\, Apollo Bay\, Victoria\, 3233\, Australia
CATEGORIES:Health
ATTACH;FMTTYPE=image/jpeg:https://mwnh.org/wp-content/uploads/2025/09/Okido-Yoga-scaled.jpg
ORGANIZER;CN="Marrar Woorn Neighbourhood House":MAILTO:coordinator@mwnh.org
END:VEVENT
BEGIN:VEVENT
DTSTART;TZID=Australia/Melbourne:20251125T130000
DTEND;TZID=Australia/Melbourne:20251125T150000
DTSTAMP:20260420T181025
CREATED:20250919T020241Z
LAST-MODIFIED:20250919T020241Z
UID:10000594-1764075600-1764082800@mwnh.org
SUMMARY:Weaving & Spinning 
DESCRIPTION:TUESDAYS\, Weekly\, 1:00 PM – 3:00 PM \nMarrar Woorn \nBYO materials & equipment.
URL:https://mwnh.org/event/weaving-spinning/2025-11-25/
LOCATION:Marrar Woorn Neighbourhood House\, 6 Pengilley Avenue\, Apollo Bay\, VIC\, 3233\, Australia
CATEGORIES:Art & Craft
ORGANIZER;CN="Marrar Woorn Neighbourhood House":MAILTO:coordinator@mwnh.org
END:VEVENT
BEGIN:VEVENT
DTSTART;TZID=Australia/Melbourne:20251125T180000
DTEND;TZID=Australia/Melbourne:20251125T200000
DTSTAMP:20260420T181025
CREATED:20250917T015132Z
LAST-MODIFIED:20250917T015132Z
UID:10000559-1764093600-1764100800@mwnh.org
SUMMARY:The Nurture Space
DESCRIPTION:This group is all about connection & community: women gathering to celebrate and sharing their skills\, strengths & knowledge.\n\n\n\n\nTuesdays 6-8pm commencing in Term 4. Facilitated by Eliza.\n\n\nBYO light dinner. Free to participate.
URL:https://mwnh.org/event/the-nurture-space-2/2025-11-25/
LOCATION:Marrar Woorn Neighbourhood House\, 6 Pengilley Avenue\, Apollo Bay\, VIC\, 3233\, Australia
CATEGORIES:Community Group
ATTACH;FMTTYPE=image/jpeg:https://mwnh.org/wp-content/uploads/2025/08/Nurture-Space-e1755572450964.jpg
ORGANIZER;CN="Marrar Woorn Neighbourhood House":MAILTO:coordinator@mwnh.org
END:VEVENT
BEGIN:VEVENT
DTSTART;TZID=Australia/Melbourne:20251126T090000
DTEND;TZID=Australia/Melbourne:20251126T110000
DTSTAMP:20260420T181025
CREATED:20250818T045547Z
LAST-MODIFIED:20250818T045547Z
UID:10000034-1764147600-1764154800@mwnh.org
SUMMARY:Toy Library Playgroup
DESCRIPTION:Join the Apollo Bay Toy Library and enjoy all the benefits it brings. Do you want a great toy rotation for your toddler\, but you like your house clutter free? Do you want to do right by the environment and your bank account? The Toy Library is for you! \n\nToy Library Playgroup is held each week at Marrar Woorn Neighbourhood House every Wednesday from 9am to 11am. There is no cost to participate! \n\nThe Apollo Bay Toy Library is a satellite of the well established Colac Toy Library. To sign up to become a member and start borrowing toys\, go to their website via the website link below.
URL:https://mwnh.org/event/toy-library-playgroup/2025-11-26/
LOCATION:Marrar Woorn Neighbourhood House\, 6 Pengilley Avenue\, Apollo Bay\, VIC\, 3233\, Australia
CATEGORIES:Kids & Families
ATTACH;FMTTYPE=image/jpeg:https://mwnh.org/wp-content/uploads/2025/08/Toy-Playgroup-e1755492834190.jpg
ORGANIZER;CN="Marrar Woorn Neighbourhood House":MAILTO:coordinator@mwnh.org
END:VEVENT
BEGIN:VEVENT
DTSTART;TZID=Australia/Melbourne:20251129T100000
DTEND;TZID=Australia/Melbourne:20251129T120000
DTSTAMP:20260420T181025
CREATED:20250930T002428Z
LAST-MODIFIED:20251024T010901Z
UID:10000656-1764410400-1764417600@mwnh.org
SUMMARY:Children's Week Open Day
DESCRIPTION:Join us on Saturday morning for stalls\, buskers and fun for both kids and adults.\n\nCome celebrate with us at the health precinct\, between the Library\, Gym Lab and neighbourhood house.\nWe’ll have buskers\, stalls\, messy play for kids\, crafts\, a sausage sizzle\, chalk art\, Lego club and much more.Children’s Open Day\nSaturday 29 November\, 10am to noon\nFree\, no booking required
URL:https://mwnh.org/event/childrens-week-open-day/
LOCATION:Marrar Woorn Neighbourhood House\, 6 Pengilley Avenue\, Apollo Bay\, VIC\, 3233\, Australia
CATEGORIES:Art & Craft,Kids & Families,Market,Music,Parenting
ATTACH;FMTTYPE=image/jpeg:https://mwnh.org/wp-content/uploads/2025/09/Theme-Everyone-should-know-about-Childrens-Rights-1.jpg
ORGANIZER;CN="Marrar Woorn Neighbourhood House":MAILTO:coordinator@mwnh.org
END:VEVENT
BEGIN:VEVENT
DTSTART;TZID=Australia/Melbourne:20251130T140000
DTEND;TZID=Australia/Melbourne:20251130T163000
DTSTAMP:20260420T181025
CREATED:20250925T062126Z
LAST-MODIFIED:20250929T014313Z
UID:10000652-1764511200-1764520200@mwnh.org
SUMMARY:Gingerbread House Workshop
DESCRIPTION:Get festive and creative! Learn how to make your own gingerbread dough and cut house pieces\, practice royal icing piping\, and team up to decorate a pre-baked house for fun. You’ll take home your own set of baked gingerbread house pieces (ready to assemble later)\, plus a decorating kit and instructions so you can create a magical centrepiece for your festive celebrations! \nDate: Sunday 30th November\nTime 2.00pm – 4.30pm (approx 2 to 2.5 hours duration)\nLocation: Apollo Bay Youth Club\nCost: $25 (includes all ingredients & take-home kit) \nSuitable for all ages (children under 14 must be accompanied by an adult). ➡️ If you’re just assisting a child\, only one booking is required. If you’d like to bake alongside them\, please book two spots.
URL:https://mwnh.org/event/gingerbread-house-workshop/
LOCATION:Apollo Bay Youth Club Hall\, 19-21 Moore Street\, Apollo Bay\, VIC\, 3233
CATEGORIES:Art & Craft,Cooking,Kids & Families
ATTACH;FMTTYPE=image/jpeg:https://mwnh.org/wp-content/uploads/2025/09/RM-261794-christmas-gingerbread-house-ddmfs-3x4-14214-02e4a51cb7f0483988d55fc09cf1760d-1.jpg
ORGANIZER;CN="Marrar Woorn Neighbourhood House":MAILTO:coordinator@mwnh.org
END:VEVENT
BEGIN:VEVENT
DTSTART;TZID=Australia/Melbourne:20251202T130000
DTEND;TZID=Australia/Melbourne:20251202T150000
DTSTAMP:20260420T181025
CREATED:20250919T020241Z
LAST-MODIFIED:20250919T020241Z
UID:10000595-1764680400-1764687600@mwnh.org
SUMMARY:Weaving & Spinning 
DESCRIPTION:TUESDAYS\, Weekly\, 1:00 PM – 3:00 PM \nMarrar Woorn \nBYO materials & equipment.
URL:https://mwnh.org/event/weaving-spinning/2025-12-02/
LOCATION:Marrar Woorn Neighbourhood House\, 6 Pengilley Avenue\, Apollo Bay\, VIC\, 3233\, Australia
CATEGORIES:Art & Craft
ORGANIZER;CN="Marrar Woorn Neighbourhood House":MAILTO:coordinator@mwnh.org
END:VEVENT
BEGIN:VEVENT
DTSTART;TZID=Australia/Melbourne:20251202T133000
DTEND;TZID=Australia/Melbourne:20251202T160000
DTSTAMP:20260420T181025
CREATED:20250919T015246Z
LAST-MODIFIED:20250924T042232Z
UID:10000574-1764682200-1764691200@mwnh.org
SUMMARY:Patchwork & Quilting Club
DESCRIPTION:All are welcome to join the Patchwork and Quilting Club!\nEvery 1st and 3rd Tuesday of the month from 1:30pm to 4pm.Call Val on 0437637929 for more information.
URL:https://mwnh.org/event/patchwork-quilting-club/2025-12-02/
LOCATION:Marrar Woorn Neighbourhood House\, 6 Pengilley Avenue\, Apollo Bay\, VIC\, 3233\, Australia
CATEGORIES:Art & Craft,Sewing
ATTACH;FMTTYPE=image/jpeg:https://mwnh.org/wp-content/uploads/2025/09/How-to-make-a-patchwork-quilt-for-beginners.jpg
ORGANIZER;CN="Marrar Woorn Neighbourhood House":MAILTO:coordinator@mwnh.org
END:VEVENT
BEGIN:VEVENT
DTSTART;TZID=Australia/Melbourne:20251202T180000
DTEND;TZID=Australia/Melbourne:20251202T200000
DTSTAMP:20260420T181025
CREATED:20250917T015132Z
LAST-MODIFIED:20250917T015132Z
UID:10000560-1764698400-1764705600@mwnh.org
SUMMARY:The Nurture Space
DESCRIPTION:This group is all about connection & community: women gathering to celebrate and sharing their skills\, strengths & knowledge.\n\n\n\n\nTuesdays 6-8pm commencing in Term 4. Facilitated by Eliza.\n\n\nBYO light dinner. Free to participate.
URL:https://mwnh.org/event/the-nurture-space-2/2025-12-02/
LOCATION:Marrar Woorn Neighbourhood House\, 6 Pengilley Avenue\, Apollo Bay\, VIC\, 3233\, Australia
CATEGORIES:Community Group
ATTACH;FMTTYPE=image/jpeg:https://mwnh.org/wp-content/uploads/2025/08/Nurture-Space-e1755572450964.jpg
ORGANIZER;CN="Marrar Woorn Neighbourhood House":MAILTO:coordinator@mwnh.org
END:VEVENT
BEGIN:VEVENT
DTSTART;TZID=Australia/Melbourne:20251203T090000
DTEND;TZID=Australia/Melbourne:20251203T110000
DTSTAMP:20260420T181025
CREATED:20250818T045547Z
LAST-MODIFIED:20250818T045547Z
UID:10000035-1764752400-1764759600@mwnh.org
SUMMARY:Toy Library Playgroup
DESCRIPTION:Join the Apollo Bay Toy Library and enjoy all the benefits it brings. Do you want a great toy rotation for your toddler\, but you like your house clutter free? Do you want to do right by the environment and your bank account? The Toy Library is for you! \n\nToy Library Playgroup is held each week at Marrar Woorn Neighbourhood House every Wednesday from 9am to 11am. There is no cost to participate! \n\nThe Apollo Bay Toy Library is a satellite of the well established Colac Toy Library. To sign up to become a member and start borrowing toys\, go to their website via the website link below.
URL:https://mwnh.org/event/toy-library-playgroup/2025-12-03/
LOCATION:Marrar Woorn Neighbourhood House\, 6 Pengilley Avenue\, Apollo Bay\, VIC\, 3233\, Australia
CATEGORIES:Kids & Families
ATTACH;FMTTYPE=image/jpeg:https://mwnh.org/wp-content/uploads/2025/08/Toy-Playgroup-e1755492834190.jpg
ORGANIZER;CN="Marrar Woorn Neighbourhood House":MAILTO:coordinator@mwnh.org
END:VEVENT
BEGIN:VEVENT
DTSTART;TZID=Australia/Melbourne:20251209T130000
DTEND;TZID=Australia/Melbourne:20251209T150000
DTSTAMP:20260420T181025
CREATED:20250919T020241Z
LAST-MODIFIED:20250919T020241Z
UID:10000596-1765285200-1765292400@mwnh.org
SUMMARY:Weaving & Spinning 
DESCRIPTION:TUESDAYS\, Weekly\, 1:00 PM – 3:00 PM \nMarrar Woorn \nBYO materials & equipment.
URL:https://mwnh.org/event/weaving-spinning/2025-12-09/
LOCATION:Marrar Woorn Neighbourhood House\, 6 Pengilley Avenue\, Apollo Bay\, VIC\, 3233\, Australia
CATEGORIES:Art & Craft
ORGANIZER;CN="Marrar Woorn Neighbourhood House":MAILTO:coordinator@mwnh.org
END:VEVENT
BEGIN:VEVENT
DTSTART;TZID=Australia/Melbourne:20251209T180000
DTEND;TZID=Australia/Melbourne:20251209T200000
DTSTAMP:20260420T181025
CREATED:20250917T015132Z
LAST-MODIFIED:20250917T015132Z
UID:10000561-1765303200-1765310400@mwnh.org
SUMMARY:The Nurture Space
DESCRIPTION:This group is all about connection & community: women gathering to celebrate and sharing their skills\, strengths & knowledge.\n\n\n\n\nTuesdays 6-8pm commencing in Term 4. Facilitated by Eliza.\n\n\nBYO light dinner. Free to participate.
URL:https://mwnh.org/event/the-nurture-space-2/2025-12-09/
LOCATION:Marrar Woorn Neighbourhood House\, 6 Pengilley Avenue\, Apollo Bay\, VIC\, 3233\, Australia
CATEGORIES:Community Group
ATTACH;FMTTYPE=image/jpeg:https://mwnh.org/wp-content/uploads/2025/08/Nurture-Space-e1755572450964.jpg
ORGANIZER;CN="Marrar Woorn Neighbourhood House":MAILTO:coordinator@mwnh.org
END:VEVENT
BEGIN:VEVENT
DTSTART;TZID=Australia/Melbourne:20251210T090000
DTEND;TZID=Australia/Melbourne:20251210T110000
DTSTAMP:20260420T181025
CREATED:20250818T045547Z
LAST-MODIFIED:20250818T045547Z
UID:10000036-1765357200-1765364400@mwnh.org
SUMMARY:Toy Library Playgroup
DESCRIPTION:Join the Apollo Bay Toy Library and enjoy all the benefits it brings. Do you want a great toy rotation for your toddler\, but you like your house clutter free? Do you want to do right by the environment and your bank account? The Toy Library is for you! \n\nToy Library Playgroup is held each week at Marrar Woorn Neighbourhood House every Wednesday from 9am to 11am. There is no cost to participate! \n\nThe Apollo Bay Toy Library is a satellite of the well established Colac Toy Library. To sign up to become a member and start borrowing toys\, go to their website via the website link below.
URL:https://mwnh.org/event/toy-library-playgroup/2025-12-10/
LOCATION:Marrar Woorn Neighbourhood House\, 6 Pengilley Avenue\, Apollo Bay\, VIC\, 3233\, Australia
CATEGORIES:Kids & Families
ATTACH;FMTTYPE=image/jpeg:https://mwnh.org/wp-content/uploads/2025/08/Toy-Playgroup-e1755492834190.jpg
ORGANIZER;CN="Marrar Woorn Neighbourhood House":MAILTO:coordinator@mwnh.org
END:VEVENT
BEGIN:VEVENT
DTSTART;TZID=Australia/Melbourne:20251216T130000
DTEND;TZID=Australia/Melbourne:20251216T150000
DTSTAMP:20260420T181025
CREATED:20250919T020241Z
LAST-MODIFIED:20250919T020241Z
UID:10000597-1765890000-1765897200@mwnh.org
SUMMARY:Weaving & Spinning 
DESCRIPTION:TUESDAYS\, Weekly\, 1:00 PM – 3:00 PM \nMarrar Woorn \nBYO materials & equipment.
URL:https://mwnh.org/event/weaving-spinning/2025-12-16/
LOCATION:Marrar Woorn Neighbourhood House\, 6 Pengilley Avenue\, Apollo Bay\, VIC\, 3233\, Australia
CATEGORIES:Art & Craft
ORGANIZER;CN="Marrar Woorn Neighbourhood House":MAILTO:coordinator@mwnh.org
END:VEVENT
END:VCALENDAR