BEGIN:VCALENDAR
VERSION:2.0
PRODID:-//Marrar Woorn Neighbourhood House - ECPv6.15.20//NONSGML v1.0//EN
CALSCALE:GREGORIAN
METHOD:PUBLISH
X-WR-CALNAME:Marrar Woorn Neighbourhood House
X-ORIGINAL-URL:https://mwnh.org
X-WR-CALDESC:Events for Marrar Woorn Neighbourhood House
REFRESH-INTERVAL;VALUE=DURATION:PT1H
X-Robots-Tag:noindex
X-PUBLISHED-TTL:PT1H
BEGIN:VTIMEZONE
TZID:Australia/Melbourne
BEGIN:STANDARD
TZOFFSETFROM:+1100
TZOFFSETTO:+1000
TZNAME:AEST
DTSTART:20290331T160000
END:STANDARD
BEGIN:DAYLIGHT
TZOFFSETFROM:+1000
TZOFFSETTO:+1100
TZNAME:AEDT
DTSTART:20291006T160000
END:DAYLIGHT
BEGIN:STANDARD
TZOFFSETFROM:+1100
TZOFFSETTO:+1000
TZNAME:AEST
DTSTART:20300406T160000
END:STANDARD
BEGIN:DAYLIGHT
TZOFFSETFROM:+1000
TZOFFSETTO:+1100
TZNAME:AEDT
DTSTART:20301005T160000
END:DAYLIGHT
BEGIN:STANDARD
TZOFFSETFROM:+1100
TZOFFSETTO:+1000
TZNAME:AEST
DTSTART:20310405T160000
END:STANDARD
BEGIN:DAYLIGHT
TZOFFSETFROM:+1000
TZOFFSETTO:+1100
TZNAME:AEDT
DTSTART:20311004T160000
END:DAYLIGHT
BEGIN:STANDARD
TZOFFSETFROM:+1100
TZOFFSETTO:+1000
TZNAME:AEST
DTSTART:20320403T160000
END:STANDARD
BEGIN:DAYLIGHT
TZOFFSETFROM:+1000
TZOFFSETTO:+1100
TZNAME:AEDT
DTSTART:20321002T160000
END:DAYLIGHT
END:VTIMEZONE
BEGIN:VEVENT
DTSTART;TZID=Australia/Melbourne:20301205T100000
DTEND;TZID=Australia/Melbourne:20301205T130000
DTSTAMP:20260423T101629
CREATED:20260422T053019Z
LAST-MODIFIED:20260422T054434Z
UID:10001192-1922695200-1922706000@mwnh.org
SUMMARY:Community Kitchen Program
DESCRIPTION:Would you like to join a small group of women who come together fortnightly to cook a meal? \nThursdays 10am-1pm \nIf you are interested or you’d like more information\, please phone 5237 8590 or email info@gorh.vic.gov.au \nCost: $5\, please bring cash and some containers to take food home
URL:https://mwnh.org/event/community-kitchen-program/2030-12-05/
LOCATION:Apollo Bay RSL\, 12 Gallipoli Parade\, Apollo Bay\, VIC\, 3233\, Australia
CATEGORIES:Cooking
ATTACH;FMTTYPE=image/png:https://mwnh.org/wp-content/uploads/2026/04/Community-Kitchens-Flyer-for-MW-Term-Program.png
ORGANIZER;CN="Marrar Woorn Neighbourhood House":MAILTO:coordinator@mwnh.org
END:VEVENT
BEGIN:VEVENT
DTSTART;TZID=Australia/Melbourne:20301217T133000
DTEND;TZID=Australia/Melbourne:20301217T160000
DTSTAMP:20260423T101629
CREATED:20260202T022347Z
LAST-MODIFIED:20260202T022347Z
UID:10000792-1923744600-1923753600@mwnh.org
SUMMARY:Patchwork & Quilting
DESCRIPTION:All are welcome to join the Patchwork and Quilting Club!\nEvery 1st and 3rd Tuesday of the month from 1:30pm to 4pm.Call Val on 0437637929 for more information.
URL:https://mwnh.org/event/patchwork-quilting/2030-12-17/
LOCATION:Marrar Woorn Neighbourhood House\, 6 Pengilley Avenue\, Apollo Bay\, VIC\, 3233\, Australia
ATTACH;FMTTYPE=image/png:https://mwnh.org/wp-content/uploads/2026/02/Patchwork-Quilting-Instagram-Post.png
ORGANIZER;CN="Marrar Woorn Neighbourhood House":MAILTO:coordinator@mwnh.org
END:VEVENT
BEGIN:VEVENT
DTSTART;TZID=Australia/Melbourne:20301219T100000
DTEND;TZID=Australia/Melbourne:20301219T130000
DTSTAMP:20260423T101629
CREATED:20260422T053019Z
LAST-MODIFIED:20260422T054434Z
UID:10001193-1923904800-1923915600@mwnh.org
SUMMARY:Community Kitchen Program
DESCRIPTION:Would you like to join a small group of women who come together fortnightly to cook a meal? \nThursdays 10am-1pm \nIf you are interested or you’d like more information\, please phone 5237 8590 or email info@gorh.vic.gov.au \nCost: $5\, please bring cash and some containers to take food home
URL:https://mwnh.org/event/community-kitchen-program/2030-12-19/
LOCATION:Apollo Bay RSL\, 12 Gallipoli Parade\, Apollo Bay\, VIC\, 3233\, Australia
CATEGORIES:Cooking
ATTACH;FMTTYPE=image/png:https://mwnh.org/wp-content/uploads/2026/04/Community-Kitchens-Flyer-for-MW-Term-Program.png
ORGANIZER;CN="Marrar Woorn Neighbourhood House":MAILTO:coordinator@mwnh.org
END:VEVENT
BEGIN:VEVENT
DTSTART;TZID=Australia/Melbourne:20310102T100000
DTEND;TZID=Australia/Melbourne:20310102T130000
DTSTAMP:20260423T101629
CREATED:20260422T053019Z
LAST-MODIFIED:20260422T054434Z
UID:10001194-1925114400-1925125200@mwnh.org
SUMMARY:Community Kitchen Program
DESCRIPTION:Would you like to join a small group of women who come together fortnightly to cook a meal? \nThursdays 10am-1pm \nIf you are interested or you’d like more information\, please phone 5237 8590 or email info@gorh.vic.gov.au \nCost: $5\, please bring cash and some containers to take food home
URL:https://mwnh.org/event/community-kitchen-program/2031-01-02/
LOCATION:Apollo Bay RSL\, 12 Gallipoli Parade\, Apollo Bay\, VIC\, 3233\, Australia
CATEGORIES:Cooking
ATTACH;FMTTYPE=image/png:https://mwnh.org/wp-content/uploads/2026/04/Community-Kitchens-Flyer-for-MW-Term-Program.png
ORGANIZER;CN="Marrar Woorn Neighbourhood House":MAILTO:coordinator@mwnh.org
END:VEVENT
BEGIN:VEVENT
DTSTART;TZID=Australia/Melbourne:20310116T100000
DTEND;TZID=Australia/Melbourne:20310116T130000
DTSTAMP:20260423T101629
CREATED:20260422T053019Z
LAST-MODIFIED:20260422T054434Z
UID:10001195-1926324000-1926334800@mwnh.org
SUMMARY:Community Kitchen Program
DESCRIPTION:Would you like to join a small group of women who come together fortnightly to cook a meal? \nThursdays 10am-1pm \nIf you are interested or you’d like more information\, please phone 5237 8590 or email info@gorh.vic.gov.au \nCost: $5\, please bring cash and some containers to take food home
URL:https://mwnh.org/event/community-kitchen-program/2031-01-16/
LOCATION:Apollo Bay RSL\, 12 Gallipoli Parade\, Apollo Bay\, VIC\, 3233\, Australia
CATEGORIES:Cooking
ATTACH;FMTTYPE=image/png:https://mwnh.org/wp-content/uploads/2026/04/Community-Kitchens-Flyer-for-MW-Term-Program.png
ORGANIZER;CN="Marrar Woorn Neighbourhood House":MAILTO:coordinator@mwnh.org
END:VEVENT
BEGIN:VEVENT
DTSTART;TZID=Australia/Melbourne:20310121T133000
DTEND;TZID=Australia/Melbourne:20310121T160000
DTSTAMP:20260423T101629
CREATED:20260202T022347Z
LAST-MODIFIED:20260202T022347Z
UID:10000793-1926768600-1926777600@mwnh.org
SUMMARY:Patchwork & Quilting
DESCRIPTION:All are welcome to join the Patchwork and Quilting Club!\nEvery 1st and 3rd Tuesday of the month from 1:30pm to 4pm.Call Val on 0437637929 for more information.
URL:https://mwnh.org/event/patchwork-quilting/2031-01-21/
LOCATION:Marrar Woorn Neighbourhood House\, 6 Pengilley Avenue\, Apollo Bay\, VIC\, 3233\, Australia
ATTACH;FMTTYPE=image/png:https://mwnh.org/wp-content/uploads/2026/02/Patchwork-Quilting-Instagram-Post.png
ORGANIZER;CN="Marrar Woorn Neighbourhood House":MAILTO:coordinator@mwnh.org
END:VEVENT
BEGIN:VEVENT
DTSTART;TZID=Australia/Melbourne:20310130T100000
DTEND;TZID=Australia/Melbourne:20310130T130000
DTSTAMP:20260423T101629
CREATED:20260422T053019Z
LAST-MODIFIED:20260422T054434Z
UID:10001196-1927533600-1927544400@mwnh.org
SUMMARY:Community Kitchen Program
DESCRIPTION:Would you like to join a small group of women who come together fortnightly to cook a meal? \nThursdays 10am-1pm \nIf you are interested or you’d like more information\, please phone 5237 8590 or email info@gorh.vic.gov.au \nCost: $5\, please bring cash and some containers to take food home
URL:https://mwnh.org/event/community-kitchen-program/2031-01-30/
LOCATION:Apollo Bay RSL\, 12 Gallipoli Parade\, Apollo Bay\, VIC\, 3233\, Australia
CATEGORIES:Cooking
ATTACH;FMTTYPE=image/png:https://mwnh.org/wp-content/uploads/2026/04/Community-Kitchens-Flyer-for-MW-Term-Program.png
ORGANIZER;CN="Marrar Woorn Neighbourhood House":MAILTO:coordinator@mwnh.org
END:VEVENT
BEGIN:VEVENT
DTSTART;TZID=Australia/Melbourne:20310213T100000
DTEND;TZID=Australia/Melbourne:20310213T130000
DTSTAMP:20260423T101629
CREATED:20260422T053019Z
LAST-MODIFIED:20260422T054434Z
UID:10001197-1928743200-1928754000@mwnh.org
SUMMARY:Community Kitchen Program
DESCRIPTION:Would you like to join a small group of women who come together fortnightly to cook a meal? \nThursdays 10am-1pm \nIf you are interested or you’d like more information\, please phone 5237 8590 or email info@gorh.vic.gov.au \nCost: $5\, please bring cash and some containers to take food home
URL:https://mwnh.org/event/community-kitchen-program/2031-02-13/
LOCATION:Apollo Bay RSL\, 12 Gallipoli Parade\, Apollo Bay\, VIC\, 3233\, Australia
CATEGORIES:Cooking
ATTACH;FMTTYPE=image/png:https://mwnh.org/wp-content/uploads/2026/04/Community-Kitchens-Flyer-for-MW-Term-Program.png
ORGANIZER;CN="Marrar Woorn Neighbourhood House":MAILTO:coordinator@mwnh.org
END:VEVENT
BEGIN:VEVENT
DTSTART;TZID=Australia/Melbourne:20310227T100000
DTEND;TZID=Australia/Melbourne:20310227T130000
DTSTAMP:20260423T101629
CREATED:20260422T053019Z
LAST-MODIFIED:20260422T054434Z
UID:10001198-1929952800-1929963600@mwnh.org
SUMMARY:Community Kitchen Program
DESCRIPTION:Would you like to join a small group of women who come together fortnightly to cook a meal? \nThursdays 10am-1pm \nIf you are interested or you’d like more information\, please phone 5237 8590 or email info@gorh.vic.gov.au \nCost: $5\, please bring cash and some containers to take food home
URL:https://mwnh.org/event/community-kitchen-program/2031-02-27/
LOCATION:Apollo Bay RSL\, 12 Gallipoli Parade\, Apollo Bay\, VIC\, 3233\, Australia
CATEGORIES:Cooking
ATTACH;FMTTYPE=image/png:https://mwnh.org/wp-content/uploads/2026/04/Community-Kitchens-Flyer-for-MW-Term-Program.png
ORGANIZER;CN="Marrar Woorn Neighbourhood House":MAILTO:coordinator@mwnh.org
END:VEVENT
BEGIN:VEVENT
DTSTART;TZID=Australia/Melbourne:20310313T100000
DTEND;TZID=Australia/Melbourne:20310313T130000
DTSTAMP:20260423T101629
CREATED:20260422T053019Z
LAST-MODIFIED:20260422T054434Z
UID:10001199-1931162400-1931173200@mwnh.org
SUMMARY:Community Kitchen Program
DESCRIPTION:Would you like to join a small group of women who come together fortnightly to cook a meal? \nThursdays 10am-1pm \nIf you are interested or you’d like more information\, please phone 5237 8590 or email info@gorh.vic.gov.au \nCost: $5\, please bring cash and some containers to take food home
URL:https://mwnh.org/event/community-kitchen-program/2031-03-13/
LOCATION:Apollo Bay RSL\, 12 Gallipoli Parade\, Apollo Bay\, VIC\, 3233\, Australia
CATEGORIES:Cooking
ATTACH;FMTTYPE=image/png:https://mwnh.org/wp-content/uploads/2026/04/Community-Kitchens-Flyer-for-MW-Term-Program.png
ORGANIZER;CN="Marrar Woorn Neighbourhood House":MAILTO:coordinator@mwnh.org
END:VEVENT
BEGIN:VEVENT
DTSTART;TZID=Australia/Melbourne:20310327T100000
DTEND;TZID=Australia/Melbourne:20310327T130000
DTSTAMP:20260423T101629
CREATED:20260422T053019Z
LAST-MODIFIED:20260422T054434Z
UID:10001200-1932372000-1932382800@mwnh.org
SUMMARY:Community Kitchen Program
DESCRIPTION:Would you like to join a small group of women who come together fortnightly to cook a meal? \nThursdays 10am-1pm \nIf you are interested or you’d like more information\, please phone 5237 8590 or email info@gorh.vic.gov.au \nCost: $5\, please bring cash and some containers to take food home
URL:https://mwnh.org/event/community-kitchen-program/2031-03-27/
LOCATION:Apollo Bay RSL\, 12 Gallipoli Parade\, Apollo Bay\, VIC\, 3233\, Australia
CATEGORIES:Cooking
ATTACH;FMTTYPE=image/png:https://mwnh.org/wp-content/uploads/2026/04/Community-Kitchens-Flyer-for-MW-Term-Program.png
ORGANIZER;CN="Marrar Woorn Neighbourhood House":MAILTO:coordinator@mwnh.org
END:VEVENT
BEGIN:VEVENT
DTSTART;TZID=Australia/Melbourne:20310410T100000
DTEND;TZID=Australia/Melbourne:20310410T130000
DTSTAMP:20260423T101629
CREATED:20260422T053019Z
LAST-MODIFIED:20260422T054434Z
UID:10001201-1933581600-1933592400@mwnh.org
SUMMARY:Community Kitchen Program
DESCRIPTION:Would you like to join a small group of women who come together fortnightly to cook a meal? \nThursdays 10am-1pm \nIf you are interested or you’d like more information\, please phone 5237 8590 or email info@gorh.vic.gov.au \nCost: $5\, please bring cash and some containers to take food home
URL:https://mwnh.org/event/community-kitchen-program/2031-04-10/
LOCATION:Apollo Bay RSL\, 12 Gallipoli Parade\, Apollo Bay\, VIC\, 3233\, Australia
CATEGORIES:Cooking
ATTACH;FMTTYPE=image/png:https://mwnh.org/wp-content/uploads/2026/04/Community-Kitchens-Flyer-for-MW-Term-Program.png
ORGANIZER;CN="Marrar Woorn Neighbourhood House":MAILTO:coordinator@mwnh.org
END:VEVENT
END:VCALENDAR