BEGIN:VCALENDAR
VERSION:2.0
PRODID:-//Marrar Woorn Neighbourhood House - ECPv6.15.20//NONSGML v1.0//EN
CALSCALE:GREGORIAN
METHOD:PUBLISH
X-ORIGINAL-URL:https://mwnh.org
X-WR-CALDESC:Events for Marrar Woorn Neighbourhood House
REFRESH-INTERVAL;VALUE=DURATION:PT1H
X-Robots-Tag:noindex
X-PUBLISHED-TTL:PT1H
BEGIN:VTIMEZONE
TZID:Australia/Melbourne
BEGIN:STANDARD
TZOFFSETFROM:+1100
TZOFFSETTO:+1000
TZNAME:AEST
DTSTART:20250405T160000
END:STANDARD
BEGIN:DAYLIGHT
TZOFFSETFROM:+1000
TZOFFSETTO:+1100
TZNAME:AEDT
DTSTART:20251004T160000
END:DAYLIGHT
BEGIN:STANDARD
TZOFFSETFROM:+1100
TZOFFSETTO:+1000
TZNAME:AEST
DTSTART:20260404T160000
END:STANDARD
BEGIN:DAYLIGHT
TZOFFSETFROM:+1000
TZOFFSETTO:+1100
TZNAME:AEDT
DTSTART:20261003T160000
END:DAYLIGHT
BEGIN:STANDARD
TZOFFSETFROM:+1100
TZOFFSETTO:+1000
TZNAME:AEST
DTSTART:20270403T160000
END:STANDARD
BEGIN:DAYLIGHT
TZOFFSETFROM:+1000
TZOFFSETTO:+1100
TZNAME:AEDT
DTSTART:20271002T160000
END:DAYLIGHT
END:VTIMEZONE
BEGIN:VEVENT
DTSTART;TZID=Australia/Melbourne:20260803T180000
DTEND;TZID=Australia/Melbourne:20260803T200000
DTSTAMP:20260423T080658
CREATED:20260422T103539Z
LAST-MODIFIED:20260422T104609Z
UID:10001225-1785780000-1785787200@mwnh.org
SUMMARY:The Nurture Space
DESCRIPTION:This group is all about connection & community: women gathering to celebrate and sharing their skills\, strengths & knowledge.\nMondays 6-8pm in term 2. Facilitated by Eliza.\nBYO light dinner. Free to participate.
URL:https://mwnh.org/event/the-nurture-space-3/2026-08-03/
LOCATION:Marrar Woorn Neighbourhood House\, 6 Pengilley Avenue\, Apollo Bay\, VIC\, 3233\, Australia
CATEGORIES:Community Group
ATTACH;FMTTYPE=image/jpeg:https://mwnh.org/wp-content/uploads/2026/04/622557852_1367771015389775_7022241062591099557_n.jpg
ORGANIZER;CN="Marrar Woorn Neighbourhood House":MAILTO:coordinator@mwnh.org
END:VEVENT
BEGIN:VEVENT
DTSTART;TZID=Australia/Melbourne:20260804T130000
DTEND;TZID=Australia/Melbourne:20260804T150000
DTSTAMP:20260423T080658
CREATED:20250919T020241Z
LAST-MODIFIED:20250919T020241Z
UID:10000630-1785848400-1785855600@mwnh.org
SUMMARY:Weaving & Spinning 
DESCRIPTION:TUESDAYS\, Weekly\, 1:00 PM – 3:00 PM \nMarrar Woorn \nBYO materials & equipment.
URL:https://mwnh.org/event/weaving-spinning/2026-08-04/
LOCATION:Marrar Woorn Neighbourhood House\, 6 Pengilley Avenue\, Apollo Bay\, VIC\, 3233\, Australia
CATEGORIES:Art & Craft
ORGANIZER;CN="Marrar Woorn Neighbourhood House":MAILTO:coordinator@mwnh.org
END:VEVENT
BEGIN:VEVENT
DTSTART;TZID=Australia/Melbourne:20260804T130000
DTEND;TZID=Australia/Melbourne:20260804T160000
DTSTAMP:20260423T080658
CREATED:20260202T032356Z
LAST-MODIFIED:20260202T032356Z
UID:10000905-1785848400-1785859200@mwnh.org
SUMMARY:Open Studio Art Group
DESCRIPTION:A peer support art group held at Apollo Bay Community Hall (also known as the Apollo Bay Senior Center) at 4 Whelan Street. \nThe group meets weekly on Tuesdays during the school term. \nBYO art materials in any medium. There is no cost to participate.
URL:https://mwnh.org/event/wednesday-art-group-2/2026-08-04/
LOCATION:Marrar Woorn Neighbourhood House\, 6 Pengilley Avenue\, Apollo Bay\, VIC\, 3233\, Australia
CATEGORIES:Art & Craft
ATTACH;FMTTYPE=image/jpeg:https://mwnh.org/wp-content/uploads/2025/08/OpenStudioart-e1755584660169.jpg
ORGANIZER;CN="Marrar Woorn Neighbourhood House":MAILTO:coordinator@mwnh.org
END:VEVENT
BEGIN:VEVENT
DTSTART;TZID=Australia/Melbourne:20260804T133000
DTEND;TZID=Australia/Melbourne:20260804T160000
DTSTAMP:20260423T080658
CREATED:20250919T015246Z
LAST-MODIFIED:20250924T042232Z
UID:10000582-1785850200-1785859200@mwnh.org
SUMMARY:Patchwork & Quilting Club
DESCRIPTION:All are welcome to join the Patchwork and Quilting Club!\nEvery 1st and 3rd Tuesday of the month from 1:30pm to 4pm.Call Val on 0437637929 for more information.
URL:https://mwnh.org/event/patchwork-quilting-club/2026-08-04/
LOCATION:Marrar Woorn Neighbourhood House\, 6 Pengilley Avenue\, Apollo Bay\, VIC\, 3233\, Australia
CATEGORIES:Art & Craft,Sewing
ATTACH;FMTTYPE=image/jpeg:https://mwnh.org/wp-content/uploads/2025/09/How-to-make-a-patchwork-quilt-for-beginners.jpg
ORGANIZER;CN="Marrar Woorn Neighbourhood House":MAILTO:coordinator@mwnh.org
END:VEVENT
BEGIN:VEVENT
DTSTART;TZID=Australia/Melbourne:20260805T090000
DTEND;TZID=Australia/Melbourne:20260805T110000
DTSTAMP:20260423T080658
CREATED:20250818T045547Z
LAST-MODIFIED:20250818T045547Z
UID:10000070-1785920400-1785927600@mwnh.org
SUMMARY:Toy Library Playgroup
DESCRIPTION:Join the Apollo Bay Toy Library and enjoy all the benefits it brings. Do you want a great toy rotation for your toddler\, but you like your house clutter free? Do you want to do right by the environment and your bank account? The Toy Library is for you! \n\nToy Library Playgroup is held each week at Marrar Woorn Neighbourhood House every Wednesday from 9am to 11am. There is no cost to participate! \n\nThe Apollo Bay Toy Library is a satellite of the well established Colac Toy Library. To sign up to become a member and start borrowing toys\, go to their website via the website link below.
URL:https://mwnh.org/event/toy-library-playgroup/2026-08-05/
LOCATION:Marrar Woorn Neighbourhood House\, 6 Pengilley Avenue\, Apollo Bay\, VIC\, 3233\, Australia
CATEGORIES:Kids & Families
ATTACH;FMTTYPE=image/jpeg:https://mwnh.org/wp-content/uploads/2025/08/Toy-Playgroup-e1755492834190.jpg
ORGANIZER;CN="Marrar Woorn Neighbourhood House":MAILTO:coordinator@mwnh.org
END:VEVENT
BEGIN:VEVENT
DTSTART;TZID=Australia/Melbourne:20260806T100000
DTEND;TZID=Australia/Melbourne:20260806T130000
DTSTAMP:20260423T080658
CREATED:20260422T053019Z
LAST-MODIFIED:20260422T054434Z
UID:10001079-1786010400-1786021200@mwnh.org
SUMMARY:Community Kitchen Program
DESCRIPTION:Would you like to join a small group of women who come together fortnightly to cook a meal? \nThursdays 10am-1pm \nIf you are interested or you’d like more information\, please phone 5237 8590 or email info@gorh.vic.gov.au \nCost: $5\, please bring cash and some containers to take food home
URL:https://mwnh.org/event/community-kitchen-program/2026-08-06/
LOCATION:Apollo Bay RSL\, 12 Gallipoli Parade\, Apollo Bay\, VIC\, 3233\, Australia
CATEGORIES:Cooking
ATTACH;FMTTYPE=image/png:https://mwnh.org/wp-content/uploads/2026/04/Community-Kitchens-Flyer-for-MW-Term-Program.png
ORGANIZER;CN="Marrar Woorn Neighbourhood House":MAILTO:coordinator@mwnh.org
END:VEVENT
BEGIN:VEVENT
DTSTART;TZID=Australia/Melbourne:20260806T130000
DTEND;TZID=Australia/Melbourne:20260806T150000
DTSTAMP:20260423T080658
CREATED:20260225T015620Z
LAST-MODIFIED:20260225T020128Z
UID:10001009-1786021200-1786028400@mwnh.org
SUMMARY:Weaving & Spinning 
DESCRIPTION:TUESDAYS\, Weekly\, 1:00 PM – 3:00 PM \nTHURSDAYS\, every first and third Thursday of the Month\, 1:00 PM – 3:00 PM \nMarrar Woorn \nBYO materials & equipment.
URL:https://mwnh.org/event/weaving-spinning-2/2026-08-06/
LOCATION:Marrar Woorn Neighbourhood House\, 6 Pengilley Avenue\, Apollo Bay\, VIC\, 3233\, Australia
CATEGORIES:Art & Craft
ORGANIZER;CN="Marrar Woorn Neighbourhood House":MAILTO:coordinator@mwnh.org
END:VEVENT
BEGIN:VEVENT
DTSTART;TZID=Australia/Melbourne:20260807T153000
DTEND;TZID=Australia/Melbourne:20260807T170000
DTSTAMP:20260423T080658
CREATED:20260202T020640Z
LAST-MODIFIED:20260209T001705Z
UID:10000698-1786116600-1786122000@mwnh.org
SUMMARY:Ukelele Group
DESCRIPTION:Friday’s 3.30pm – 5pm \nMarrar Woorn Neighbourhood House \nBring your uke along and join the group that jams at Marrar Woorn on Fridays from 3:30 until 5pm. Both beginners and experienced players welcome. \nNo need to book\, no payment required.
URL:https://mwnh.org/event/ukelele-group/2026-08-07/
LOCATION:Marrar Woorn Neighbourhood House\, 6 Pengilley Avenue\, Apollo Bay\, VIC\, 3233\, Australia
CATEGORIES:Music
ATTACH;FMTTYPE=image/png:https://mwnh.org/wp-content/uploads/2026/02/Ukelele-group-poster-Instagram-Post.png
ORGANIZER;CN="Marrar Woorn Neighbourhood House":MAILTO:coordinator@mwnh.org
END:VEVENT
BEGIN:VEVENT
DTSTART;TZID=Australia/Melbourne:20260810T174500
DTEND;TZID=Australia/Melbourne:20260810T190000
DTSTAMP:20260423T080658
CREATED:20260422T105029Z
LAST-MODIFIED:20260422T105118Z
UID:10001286-1786383900-1786388400@mwnh.org
SUMMARY:Okido Yoga
DESCRIPTION:Set aside some time in the week to slow down\, quieten the mind and listen to the body. Yoga is not for everyone\, but it might be for you! Open your mind and give it a try. Suitable for all levels. \nAt the Apollo Bay Community Hall 4 Whelan St Apollo Bay 5.45-7pm Mondays April 20th – June 22nd (no class June 8th) = 8 classes $112 \nBYO mat and water bottle
URL:https://mwnh.org/event/okido-yoga/2026-08-10/
LOCATION:Marrar Woorn Neighbourhood House\, 6 Pengilley Avenue\, Apollo Bay\, VIC\, 3233\, Australia
CATEGORIES:Health
ATTACH;FMTTYPE=image/jpeg:https://mwnh.org/wp-content/uploads/2026/04/YZ9oAS_pexels-cottonbro-6799850-scaled.jpg
ORGANIZER;CN="Marrar Woorn Neighbourhood House":MAILTO:coordinator@mwnh.org
END:VEVENT
BEGIN:VEVENT
DTSTART;TZID=Australia/Melbourne:20260810T180000
DTEND;TZID=Australia/Melbourne:20260810T200000
DTSTAMP:20260423T080658
CREATED:20260422T103539Z
LAST-MODIFIED:20260422T104609Z
UID:10001226-1786384800-1786392000@mwnh.org
SUMMARY:The Nurture Space
DESCRIPTION:This group is all about connection & community: women gathering to celebrate and sharing their skills\, strengths & knowledge.\nMondays 6-8pm in term 2. Facilitated by Eliza.\nBYO light dinner. Free to participate.
URL:https://mwnh.org/event/the-nurture-space-3/2026-08-10/
LOCATION:Marrar Woorn Neighbourhood House\, 6 Pengilley Avenue\, Apollo Bay\, VIC\, 3233\, Australia
CATEGORIES:Community Group
ATTACH;FMTTYPE=image/jpeg:https://mwnh.org/wp-content/uploads/2026/04/622557852_1367771015389775_7022241062591099557_n.jpg
ORGANIZER;CN="Marrar Woorn Neighbourhood House":MAILTO:coordinator@mwnh.org
END:VEVENT
BEGIN:VEVENT
DTSTART;TZID=Australia/Melbourne:20260811T080000
DTEND;TZID=Australia/Melbourne:20260811T170000
DTSTAMP:20260423T080658
CREATED:20260202T025150Z
LAST-MODIFIED:20260202T031128Z
UID:10000807-1786435200-1786467600@mwnh.org
SUMMARY:Headspace
DESCRIPTION:Youth Mental Health Apollo Bay \nHeadspace Colac is offering free mental health & counselling services for 12-25 year olds at Marrar Woorn Neighbourhood House. \nTo make an Appointment ph 52325520
URL:https://mwnh.org/event/headspace/2026-08-11/
LOCATION:Marrar Woorn Neighbourhood House\, 6 Pengilley Avenue\, Apollo Bay\, VIC\, 3233\, Australia
CATEGORIES:Teen / Young adult
ATTACH;FMTTYPE=image/heic:https://mwnh.org/wp-content/uploads/2026/02/20260202_134721-scaled.jpg
ORGANIZER;CN="Marrar Woorn Neighbourhood House":MAILTO:coordinator@mwnh.org
END:VEVENT
BEGIN:VEVENT
DTSTART;TZID=Australia/Melbourne:20260811T130000
DTEND;TZID=Australia/Melbourne:20260811T150000
DTSTAMP:20260423T080658
CREATED:20250919T020241Z
LAST-MODIFIED:20250919T020241Z
UID:10000631-1786453200-1786460400@mwnh.org
SUMMARY:Weaving & Spinning 
DESCRIPTION:TUESDAYS\, Weekly\, 1:00 PM – 3:00 PM \nMarrar Woorn \nBYO materials & equipment.
URL:https://mwnh.org/event/weaving-spinning/2026-08-11/
LOCATION:Marrar Woorn Neighbourhood House\, 6 Pengilley Avenue\, Apollo Bay\, VIC\, 3233\, Australia
CATEGORIES:Art & Craft
ORGANIZER;CN="Marrar Woorn Neighbourhood House":MAILTO:coordinator@mwnh.org
END:VEVENT
BEGIN:VEVENT
DTSTART;TZID=Australia/Melbourne:20260811T130000
DTEND;TZID=Australia/Melbourne:20260811T160000
DTSTAMP:20260423T080658
CREATED:20260202T032356Z
LAST-MODIFIED:20260202T032356Z
UID:10000906-1786453200-1786464000@mwnh.org
SUMMARY:Open Studio Art Group
DESCRIPTION:A peer support art group held at Apollo Bay Community Hall (also known as the Apollo Bay Senior Center) at 4 Whelan Street. \nThe group meets weekly on Tuesdays during the school term. \nBYO art materials in any medium. There is no cost to participate.
URL:https://mwnh.org/event/wednesday-art-group-2/2026-08-11/
LOCATION:Marrar Woorn Neighbourhood House\, 6 Pengilley Avenue\, Apollo Bay\, VIC\, 3233\, Australia
CATEGORIES:Art & Craft
ATTACH;FMTTYPE=image/jpeg:https://mwnh.org/wp-content/uploads/2025/08/OpenStudioart-e1755584660169.jpg
ORGANIZER;CN="Marrar Woorn Neighbourhood House":MAILTO:coordinator@mwnh.org
END:VEVENT
BEGIN:VEVENT
DTSTART;TZID=Australia/Melbourne:20260812T090000
DTEND;TZID=Australia/Melbourne:20260812T110000
DTSTAMP:20260423T080658
CREATED:20250818T045547Z
LAST-MODIFIED:20250818T045547Z
UID:10000071-1786525200-1786532400@mwnh.org
SUMMARY:Toy Library Playgroup
DESCRIPTION:Join the Apollo Bay Toy Library and enjoy all the benefits it brings. Do you want a great toy rotation for your toddler\, but you like your house clutter free? Do you want to do right by the environment and your bank account? The Toy Library is for you! \n\nToy Library Playgroup is held each week at Marrar Woorn Neighbourhood House every Wednesday from 9am to 11am. There is no cost to participate! \n\nThe Apollo Bay Toy Library is a satellite of the well established Colac Toy Library. To sign up to become a member and start borrowing toys\, go to their website via the website link below.
URL:https://mwnh.org/event/toy-library-playgroup/2026-08-12/
LOCATION:Marrar Woorn Neighbourhood House\, 6 Pengilley Avenue\, Apollo Bay\, VIC\, 3233\, Australia
CATEGORIES:Kids & Families
ATTACH;FMTTYPE=image/jpeg:https://mwnh.org/wp-content/uploads/2025/08/Toy-Playgroup-e1755492834190.jpg
ORGANIZER;CN="Marrar Woorn Neighbourhood House":MAILTO:coordinator@mwnh.org
END:VEVENT
BEGIN:VEVENT
DTSTART;TZID=Australia/Melbourne:20260814T153000
DTEND;TZID=Australia/Melbourne:20260814T170000
DTSTAMP:20260423T080658
CREATED:20260202T020640Z
LAST-MODIFIED:20260209T001705Z
UID:10000699-1786721400-1786726800@mwnh.org
SUMMARY:Ukelele Group
DESCRIPTION:Friday’s 3.30pm – 5pm \nMarrar Woorn Neighbourhood House \nBring your uke along and join the group that jams at Marrar Woorn on Fridays from 3:30 until 5pm. Both beginners and experienced players welcome. \nNo need to book\, no payment required.
URL:https://mwnh.org/event/ukelele-group/2026-08-14/
LOCATION:Marrar Woorn Neighbourhood House\, 6 Pengilley Avenue\, Apollo Bay\, VIC\, 3233\, Australia
CATEGORIES:Music
ATTACH;FMTTYPE=image/png:https://mwnh.org/wp-content/uploads/2026/02/Ukelele-group-poster-Instagram-Post.png
ORGANIZER;CN="Marrar Woorn Neighbourhood House":MAILTO:coordinator@mwnh.org
END:VEVENT
BEGIN:VEVENT
DTSTART;TZID=Australia/Melbourne:20260817T174500
DTEND;TZID=Australia/Melbourne:20260817T190000
DTSTAMP:20260423T080658
CREATED:20260422T105029Z
LAST-MODIFIED:20260422T105118Z
UID:10001287-1786988700-1786993200@mwnh.org
SUMMARY:Okido Yoga
DESCRIPTION:Set aside some time in the week to slow down\, quieten the mind and listen to the body. Yoga is not for everyone\, but it might be for you! Open your mind and give it a try. Suitable for all levels. \nAt the Apollo Bay Community Hall 4 Whelan St Apollo Bay 5.45-7pm Mondays April 20th – June 22nd (no class June 8th) = 8 classes $112 \nBYO mat and water bottle
URL:https://mwnh.org/event/okido-yoga/2026-08-17/
LOCATION:Marrar Woorn Neighbourhood House\, 6 Pengilley Avenue\, Apollo Bay\, VIC\, 3233\, Australia
CATEGORIES:Health
ATTACH;FMTTYPE=image/jpeg:https://mwnh.org/wp-content/uploads/2026/04/YZ9oAS_pexels-cottonbro-6799850-scaled.jpg
ORGANIZER;CN="Marrar Woorn Neighbourhood House":MAILTO:coordinator@mwnh.org
END:VEVENT
BEGIN:VEVENT
DTSTART;TZID=Australia/Melbourne:20260817T180000
DTEND;TZID=Australia/Melbourne:20260817T200000
DTSTAMP:20260423T080658
CREATED:20260422T103539Z
LAST-MODIFIED:20260422T104609Z
UID:10001227-1786989600-1786996800@mwnh.org
SUMMARY:The Nurture Space
DESCRIPTION:This group is all about connection & community: women gathering to celebrate and sharing their skills\, strengths & knowledge.\nMondays 6-8pm in term 2. Facilitated by Eliza.\nBYO light dinner. Free to participate.
URL:https://mwnh.org/event/the-nurture-space-3/2026-08-17/
LOCATION:Marrar Woorn Neighbourhood House\, 6 Pengilley Avenue\, Apollo Bay\, VIC\, 3233\, Australia
CATEGORIES:Community Group
ATTACH;FMTTYPE=image/jpeg:https://mwnh.org/wp-content/uploads/2026/04/622557852_1367771015389775_7022241062591099557_n.jpg
ORGANIZER;CN="Marrar Woorn Neighbourhood House":MAILTO:coordinator@mwnh.org
END:VEVENT
BEGIN:VEVENT
DTSTART;TZID=Australia/Melbourne:20260818T130000
DTEND;TZID=Australia/Melbourne:20260818T150000
DTSTAMP:20260423T080658
CREATED:20250919T020241Z
LAST-MODIFIED:20250919T020241Z
UID:10000632-1787058000-1787065200@mwnh.org
SUMMARY:Weaving & Spinning 
DESCRIPTION:TUESDAYS\, Weekly\, 1:00 PM – 3:00 PM \nMarrar Woorn \nBYO materials & equipment.
URL:https://mwnh.org/event/weaving-spinning/2026-08-18/
LOCATION:Marrar Woorn Neighbourhood House\, 6 Pengilley Avenue\, Apollo Bay\, VIC\, 3233\, Australia
CATEGORIES:Art & Craft
ORGANIZER;CN="Marrar Woorn Neighbourhood House":MAILTO:coordinator@mwnh.org
END:VEVENT
BEGIN:VEVENT
DTSTART;TZID=Australia/Melbourne:20260818T130000
DTEND;TZID=Australia/Melbourne:20260818T160000
DTSTAMP:20260423T080658
CREATED:20260202T032356Z
LAST-MODIFIED:20260202T032356Z
UID:10000907-1787058000-1787068800@mwnh.org
SUMMARY:Open Studio Art Group
DESCRIPTION:A peer support art group held at Apollo Bay Community Hall (also known as the Apollo Bay Senior Center) at 4 Whelan Street. \nThe group meets weekly on Tuesdays during the school term. \nBYO art materials in any medium. There is no cost to participate.
URL:https://mwnh.org/event/wednesday-art-group-2/2026-08-18/
LOCATION:Marrar Woorn Neighbourhood House\, 6 Pengilley Avenue\, Apollo Bay\, VIC\, 3233\, Australia
CATEGORIES:Art & Craft
ATTACH;FMTTYPE=image/jpeg:https://mwnh.org/wp-content/uploads/2025/08/OpenStudioart-e1755584660169.jpg
ORGANIZER;CN="Marrar Woorn Neighbourhood House":MAILTO:coordinator@mwnh.org
END:VEVENT
BEGIN:VEVENT
DTSTART;TZID=Australia/Melbourne:20260818T133000
DTEND;TZID=Australia/Melbourne:20260818T160000
DTSTAMP:20260423T080658
CREATED:20260202T022347Z
LAST-MODIFIED:20260202T022347Z
UID:10000740-1787059800-1787068800@mwnh.org
SUMMARY:Patchwork & Quilting
DESCRIPTION:All are welcome to join the Patchwork and Quilting Club!\nEvery 1st and 3rd Tuesday of the month from 1:30pm to 4pm.Call Val on 0437637929 for more information.
URL:https://mwnh.org/event/patchwork-quilting/2026-08-18/
LOCATION:Marrar Woorn Neighbourhood House\, 6 Pengilley Avenue\, Apollo Bay\, VIC\, 3233\, Australia
ATTACH;FMTTYPE=image/png:https://mwnh.org/wp-content/uploads/2026/02/Patchwork-Quilting-Instagram-Post.png
ORGANIZER;CN="Marrar Woorn Neighbourhood House":MAILTO:coordinator@mwnh.org
END:VEVENT
BEGIN:VEVENT
DTSTART;TZID=Australia/Melbourne:20260819T090000
DTEND;TZID=Australia/Melbourne:20260819T110000
DTSTAMP:20260423T080658
CREATED:20250818T045547Z
LAST-MODIFIED:20250818T045547Z
UID:10000072-1787130000-1787137200@mwnh.org
SUMMARY:Toy Library Playgroup
DESCRIPTION:Join the Apollo Bay Toy Library and enjoy all the benefits it brings. Do you want a great toy rotation for your toddler\, but you like your house clutter free? Do you want to do right by the environment and your bank account? The Toy Library is for you! \n\nToy Library Playgroup is held each week at Marrar Woorn Neighbourhood House every Wednesday from 9am to 11am. There is no cost to participate! \n\nThe Apollo Bay Toy Library is a satellite of the well established Colac Toy Library. To sign up to become a member and start borrowing toys\, go to their website via the website link below.
URL:https://mwnh.org/event/toy-library-playgroup/2026-08-19/
LOCATION:Marrar Woorn Neighbourhood House\, 6 Pengilley Avenue\, Apollo Bay\, VIC\, 3233\, Australia
CATEGORIES:Kids & Families
ATTACH;FMTTYPE=image/jpeg:https://mwnh.org/wp-content/uploads/2025/08/Toy-Playgroup-e1755492834190.jpg
ORGANIZER;CN="Marrar Woorn Neighbourhood House":MAILTO:coordinator@mwnh.org
END:VEVENT
BEGIN:VEVENT
DTSTART;TZID=Australia/Melbourne:20260820T100000
DTEND;TZID=Australia/Melbourne:20260820T130000
DTSTAMP:20260423T080658
CREATED:20260422T053019Z
LAST-MODIFIED:20260422T054434Z
UID:10001080-1787220000-1787230800@mwnh.org
SUMMARY:Community Kitchen Program
DESCRIPTION:Would you like to join a small group of women who come together fortnightly to cook a meal? \nThursdays 10am-1pm \nIf you are interested or you’d like more information\, please phone 5237 8590 or email info@gorh.vic.gov.au \nCost: $5\, please bring cash and some containers to take food home
URL:https://mwnh.org/event/community-kitchen-program/2026-08-20/
LOCATION:Apollo Bay RSL\, 12 Gallipoli Parade\, Apollo Bay\, VIC\, 3233\, Australia
CATEGORIES:Cooking
ATTACH;FMTTYPE=image/png:https://mwnh.org/wp-content/uploads/2026/04/Community-Kitchens-Flyer-for-MW-Term-Program.png
ORGANIZER;CN="Marrar Woorn Neighbourhood House":MAILTO:coordinator@mwnh.org
END:VEVENT
BEGIN:VEVENT
DTSTART;TZID=Australia/Melbourne:20260820T130000
DTEND;TZID=Australia/Melbourne:20260820T150000
DTSTAMP:20260423T080658
CREATED:20260225T021150Z
LAST-MODIFIED:20260225T021150Z
UID:10001039-1787230800-1787238000@mwnh.org
SUMMARY:Weaving & Spinning 
DESCRIPTION:TUESDAYS\, Weekly\, 1:00 PM – 3:00 PM \nTHURSDAYS\, every first and third Thursday of the Month\, 1:00 PM – 3:00 PM \nMarrar Woorn \nBYO materials & equipment.
URL:https://mwnh.org/event/weaving-spinning-3/2026-08-20/
LOCATION:Marrar Woorn Neighbourhood House\, 6 Pengilley Avenue\, Apollo Bay\, VIC\, 3233\, Australia
CATEGORIES:Art & Craft
ORGANIZER;CN="Marrar Woorn Neighbourhood House":MAILTO:coordinator@mwnh.org
END:VEVENT
BEGIN:VEVENT
DTSTART;TZID=Australia/Melbourne:20260821T153000
DTEND;TZID=Australia/Melbourne:20260821T170000
DTSTAMP:20260423T080658
CREATED:20260202T020640Z
LAST-MODIFIED:20260209T001705Z
UID:10000700-1787326200-1787331600@mwnh.org
SUMMARY:Ukelele Group
DESCRIPTION:Friday’s 3.30pm – 5pm \nMarrar Woorn Neighbourhood House \nBring your uke along and join the group that jams at Marrar Woorn on Fridays from 3:30 until 5pm. Both beginners and experienced players welcome. \nNo need to book\, no payment required.
URL:https://mwnh.org/event/ukelele-group/2026-08-21/
LOCATION:Marrar Woorn Neighbourhood House\, 6 Pengilley Avenue\, Apollo Bay\, VIC\, 3233\, Australia
CATEGORIES:Music
ATTACH;FMTTYPE=image/png:https://mwnh.org/wp-content/uploads/2026/02/Ukelele-group-poster-Instagram-Post.png
ORGANIZER;CN="Marrar Woorn Neighbourhood House":MAILTO:coordinator@mwnh.org
END:VEVENT
BEGIN:VEVENT
DTSTART;TZID=Australia/Melbourne:20260824T174500
DTEND;TZID=Australia/Melbourne:20260824T190000
DTSTAMP:20260423T080658
CREATED:20260422T105029Z
LAST-MODIFIED:20260422T105118Z
UID:10001288-1787593500-1787598000@mwnh.org
SUMMARY:Okido Yoga
DESCRIPTION:Set aside some time in the week to slow down\, quieten the mind and listen to the body. Yoga is not for everyone\, but it might be for you! Open your mind and give it a try. Suitable for all levels. \nAt the Apollo Bay Community Hall 4 Whelan St Apollo Bay 5.45-7pm Mondays April 20th – June 22nd (no class June 8th) = 8 classes $112 \nBYO mat and water bottle
URL:https://mwnh.org/event/okido-yoga/2026-08-24/
LOCATION:Marrar Woorn Neighbourhood House\, 6 Pengilley Avenue\, Apollo Bay\, VIC\, 3233\, Australia
CATEGORIES:Health
ATTACH;FMTTYPE=image/jpeg:https://mwnh.org/wp-content/uploads/2026/04/YZ9oAS_pexels-cottonbro-6799850-scaled.jpg
ORGANIZER;CN="Marrar Woorn Neighbourhood House":MAILTO:coordinator@mwnh.org
END:VEVENT
BEGIN:VEVENT
DTSTART;TZID=Australia/Melbourne:20260824T180000
DTEND;TZID=Australia/Melbourne:20260824T200000
DTSTAMP:20260423T080658
CREATED:20260422T103539Z
LAST-MODIFIED:20260422T104609Z
UID:10001228-1787594400-1787601600@mwnh.org
SUMMARY:The Nurture Space
DESCRIPTION:This group is all about connection & community: women gathering to celebrate and sharing their skills\, strengths & knowledge.\nMondays 6-8pm in term 2. Facilitated by Eliza.\nBYO light dinner. Free to participate.
URL:https://mwnh.org/event/the-nurture-space-3/2026-08-24/
LOCATION:Marrar Woorn Neighbourhood House\, 6 Pengilley Avenue\, Apollo Bay\, VIC\, 3233\, Australia
CATEGORIES:Community Group
ATTACH;FMTTYPE=image/jpeg:https://mwnh.org/wp-content/uploads/2026/04/622557852_1367771015389775_7022241062591099557_n.jpg
ORGANIZER;CN="Marrar Woorn Neighbourhood House":MAILTO:coordinator@mwnh.org
END:VEVENT
BEGIN:VEVENT
DTSTART;TZID=Australia/Melbourne:20260825T080000
DTEND;TZID=Australia/Melbourne:20260825T170000
DTSTAMP:20260423T080658
CREATED:20260202T025150Z
LAST-MODIFIED:20260202T031128Z
UID:10000808-1787644800-1787677200@mwnh.org
SUMMARY:Headspace
DESCRIPTION:Youth Mental Health Apollo Bay \nHeadspace Colac is offering free mental health & counselling services for 12-25 year olds at Marrar Woorn Neighbourhood House. \nTo make an Appointment ph 52325520
URL:https://mwnh.org/event/headspace/2026-08-25/
LOCATION:Marrar Woorn Neighbourhood House\, 6 Pengilley Avenue\, Apollo Bay\, VIC\, 3233\, Australia
CATEGORIES:Teen / Young adult
ATTACH;FMTTYPE=image/heic:https://mwnh.org/wp-content/uploads/2026/02/20260202_134721-scaled.jpg
ORGANIZER;CN="Marrar Woorn Neighbourhood House":MAILTO:coordinator@mwnh.org
END:VEVENT
BEGIN:VEVENT
DTSTART;TZID=Australia/Melbourne:20260825T130000
DTEND;TZID=Australia/Melbourne:20260825T150000
DTSTAMP:20260423T080658
CREATED:20250919T020241Z
LAST-MODIFIED:20250919T020241Z
UID:10000633-1787662800-1787670000@mwnh.org
SUMMARY:Weaving & Spinning 
DESCRIPTION:TUESDAYS\, Weekly\, 1:00 PM – 3:00 PM \nMarrar Woorn \nBYO materials & equipment.
URL:https://mwnh.org/event/weaving-spinning/2026-08-25/
LOCATION:Marrar Woorn Neighbourhood House\, 6 Pengilley Avenue\, Apollo Bay\, VIC\, 3233\, Australia
CATEGORIES:Art & Craft
ORGANIZER;CN="Marrar Woorn Neighbourhood House":MAILTO:coordinator@mwnh.org
END:VEVENT
BEGIN:VEVENT
DTSTART;TZID=Australia/Melbourne:20260825T130000
DTEND;TZID=Australia/Melbourne:20260825T160000
DTSTAMP:20260423T080658
CREATED:20260202T032356Z
LAST-MODIFIED:20260202T032356Z
UID:10000908-1787662800-1787673600@mwnh.org
SUMMARY:Open Studio Art Group
DESCRIPTION:A peer support art group held at Apollo Bay Community Hall (also known as the Apollo Bay Senior Center) at 4 Whelan Street. \nThe group meets weekly on Tuesdays during the school term. \nBYO art materials in any medium. There is no cost to participate.
URL:https://mwnh.org/event/wednesday-art-group-2/2026-08-25/
LOCATION:Marrar Woorn Neighbourhood House\, 6 Pengilley Avenue\, Apollo Bay\, VIC\, 3233\, Australia
CATEGORIES:Art & Craft
ATTACH;FMTTYPE=image/jpeg:https://mwnh.org/wp-content/uploads/2025/08/OpenStudioart-e1755584660169.jpg
ORGANIZER;CN="Marrar Woorn Neighbourhood House":MAILTO:coordinator@mwnh.org
END:VEVENT
BEGIN:VEVENT
DTSTART;TZID=Australia/Melbourne:20260826T090000
DTEND;TZID=Australia/Melbourne:20260826T110000
DTSTAMP:20260423T080658
CREATED:20250818T045547Z
LAST-MODIFIED:20250818T045547Z
UID:10000073-1787734800-1787742000@mwnh.org
SUMMARY:Toy Library Playgroup
DESCRIPTION:Join the Apollo Bay Toy Library and enjoy all the benefits it brings. Do you want a great toy rotation for your toddler\, but you like your house clutter free? Do you want to do right by the environment and your bank account? The Toy Library is for you! \n\nToy Library Playgroup is held each week at Marrar Woorn Neighbourhood House every Wednesday from 9am to 11am. There is no cost to participate! \n\nThe Apollo Bay Toy Library is a satellite of the well established Colac Toy Library. To sign up to become a member and start borrowing toys\, go to their website via the website link below.
URL:https://mwnh.org/event/toy-library-playgroup/2026-08-26/
LOCATION:Marrar Woorn Neighbourhood House\, 6 Pengilley Avenue\, Apollo Bay\, VIC\, 3233\, Australia
CATEGORIES:Kids & Families
ATTACH;FMTTYPE=image/jpeg:https://mwnh.org/wp-content/uploads/2025/08/Toy-Playgroup-e1755492834190.jpg
ORGANIZER;CN="Marrar Woorn Neighbourhood House":MAILTO:coordinator@mwnh.org
END:VEVENT
END:VCALENDAR