BEGIN:VCALENDAR
VERSION:2.0
PRODID:-//Marrar Woorn Neighbourhood House - ECPv6.15.20//NONSGML v1.0//EN
CALSCALE:GREGORIAN
METHOD:PUBLISH
X-WR-CALNAME:Marrar Woorn Neighbourhood House
X-ORIGINAL-URL:https://mwnh.org
X-WR-CALDESC:Events for Marrar Woorn Neighbourhood House
REFRESH-INTERVAL;VALUE=DURATION:PT1H
X-Robots-Tag:noindex
X-PUBLISHED-TTL:PT1H
BEGIN:VTIMEZONE
TZID:Australia/Melbourne
BEGIN:STANDARD
TZOFFSETFROM:+1100
TZOFFSETTO:+1000
TZNAME:AEST
DTSTART:20240406T160000
END:STANDARD
BEGIN:DAYLIGHT
TZOFFSETFROM:+1000
TZOFFSETTO:+1100
TZNAME:AEDT
DTSTART:20241005T160000
END:DAYLIGHT
BEGIN:STANDARD
TZOFFSETFROM:+1100
TZOFFSETTO:+1000
TZNAME:AEST
DTSTART:20250405T160000
END:STANDARD
BEGIN:DAYLIGHT
TZOFFSETFROM:+1000
TZOFFSETTO:+1100
TZNAME:AEDT
DTSTART:20251004T160000
END:DAYLIGHT
BEGIN:STANDARD
TZOFFSETFROM:+1100
TZOFFSETTO:+1000
TZNAME:AEST
DTSTART:20260404T160000
END:STANDARD
BEGIN:DAYLIGHT
TZOFFSETFROM:+1000
TZOFFSETTO:+1100
TZNAME:AEDT
DTSTART:20261003T160000
END:DAYLIGHT
END:VTIMEZONE
BEGIN:VEVENT
DTSTART;TZID=Australia/Melbourne:20250708T100000
DTEND;TZID=Australia/Melbourne:20250708T140000
DTSTAMP:20260420T095925
CREATED:20250625T063104Z
LAST-MODIFIED:20250625T063104Z
UID:10000007-1751968800-1751983200@mwnh.org
SUMMARY:Nature Journal & Games Day
DESCRIPTION:Have fund at Marrar Woorn Neighbourhood House these school holidays by creating your own nature journal and enjoying a few hours of playing board games & table tennis with your friends. \nFor students in Grades 3 to 6. \nFacilitated by GORH’s Youth Worker Toby Bucek \nMaterials provided. BYO lunch and snacks.
URL:https://mwnh.org/event/nature-journal-games-day/
LOCATION:Marrar Woorn Neighbourhood House\, 6 Pengilley Avenue\, Apollo Bay\, VIC\, 3233\, Australia
CATEGORIES:Kids & Families,School Holiday Program
ATTACH;FMTTYPE=image/png:https://mwnh.org/wp-content/uploads/2025/06/Screenshot-2025-06-23-145646.png
END:VEVENT
BEGIN:VEVENT
DTSTART;TZID=Australia/Melbourne:20250622T100000
DTEND;TZID=Australia/Melbourne:20250622T110000
DTSTAMP:20260420T095925
CREATED:20250618T021013Z
LAST-MODIFIED:20250618T044836Z
UID:10000003-1750586400-1750590000@mwnh.org
SUMMARY:Bloom & Glaze: A Floral Cookie Experience
DESCRIPTION:Join local favourite Cathy from the Potoroo Pantry for this delicious workshop!\nUnwind and get creative in this hands-on cookie decorating workshop designed for adults who love beautiful\, edible art! Learn the basics of royal icing techniques\, piping and floral composition as you decorate stunning sugar cookies with pressed flowers and delicate flower confetti.
URL:https://mwnh.org/event/bloom-glaze-a-floral-cookie-experience/
LOCATION:Marrar Woorn Neighbourhood House\, 6 Pengilley Avenue\, Apollo Bay\, VIC\, 3233\, Australia
CATEGORIES:Adult Education,Cooking
ATTACH;FMTTYPE=image/jpeg:https://mwnh.org/wp-content/uploads/2025/03/Bloomandglaze3.jpg
ORGANIZER;CN="Marrar Woorn Neighbourhood House":MAILTO:coordinator@mwnh.org
END:VEVENT
END:VCALENDAR