BEGIN:VCALENDAR
VERSION:2.0
PRODID:-//Marrar Woorn Neighbourhood House - ECPv6.15.20//NONSGML v1.0//EN
CALSCALE:GREGORIAN
METHOD:PUBLISH
X-WR-CALNAME:Marrar Woorn Neighbourhood House
X-ORIGINAL-URL:https://mwnh.org
X-WR-CALDESC:Events for Marrar Woorn Neighbourhood House
REFRESH-INTERVAL;VALUE=DURATION:PT1H
X-Robots-Tag:noindex
X-PUBLISHED-TTL:PT1H
BEGIN:VTIMEZONE
TZID:Australia/Melbourne
BEGIN:STANDARD
TZOFFSETFROM:+1100
TZOFFSETTO:+1000
TZNAME:AEST
DTSTART:20250405T160000
END:STANDARD
BEGIN:DAYLIGHT
TZOFFSETFROM:+1000
TZOFFSETTO:+1100
TZNAME:AEDT
DTSTART:20251004T160000
END:DAYLIGHT
BEGIN:STANDARD
TZOFFSETFROM:+1100
TZOFFSETTO:+1000
TZNAME:AEST
DTSTART:20260404T160000
END:STANDARD
BEGIN:DAYLIGHT
TZOFFSETFROM:+1000
TZOFFSETTO:+1100
TZNAME:AEDT
DTSTART:20261003T160000
END:DAYLIGHT
BEGIN:STANDARD
TZOFFSETFROM:+1100
TZOFFSETTO:+1000
TZNAME:AEST
DTSTART:20270403T160000
END:STANDARD
BEGIN:DAYLIGHT
TZOFFSETFROM:+1000
TZOFFSETTO:+1100
TZNAME:AEDT
DTSTART:20271002T160000
END:DAYLIGHT
END:VTIMEZONE
BEGIN:VEVENT
DTSTART;TZID=Australia/Melbourne:20260306T153000
DTEND;TZID=Australia/Melbourne:20260306T170000
DTSTAMP:20260420T132142
CREATED:20260202T020640Z
LAST-MODIFIED:20260209T001705Z
UID:10000676-1772811000-1772816400@mwnh.org
SUMMARY:Ukelele Group
DESCRIPTION:Friday’s 3.30pm – 5pm \nMarrar Woorn Neighbourhood House \nBring your uke along and join the group that jams at Marrar Woorn on Fridays from 3:30 until 5pm. Both beginners and experienced players welcome. \nNo need to book\, no payment required.
URL:https://mwnh.org/event/ukelele-group/2026-03-06/
LOCATION:Marrar Woorn Neighbourhood House\, 6 Pengilley Avenue\, Apollo Bay\, VIC\, 3233\, Australia
CATEGORIES:Music
ATTACH;FMTTYPE=image/png:https://mwnh.org/wp-content/uploads/2026/02/Ukelele-group-poster-Instagram-Post.png
ORGANIZER;CN="Marrar Woorn Neighbourhood House":MAILTO:coordinator@mwnh.org
END:VEVENT
BEGIN:VEVENT
DTSTART;TZID=Australia/Melbourne:20260313T153000
DTEND;TZID=Australia/Melbourne:20260313T170000
DTSTAMP:20260420T132142
CREATED:20260202T020640Z
LAST-MODIFIED:20260209T001705Z
UID:10000677-1773415800-1773421200@mwnh.org
SUMMARY:Ukelele Group
DESCRIPTION:Friday’s 3.30pm – 5pm \nMarrar Woorn Neighbourhood House \nBring your uke along and join the group that jams at Marrar Woorn on Fridays from 3:30 until 5pm. Both beginners and experienced players welcome. \nNo need to book\, no payment required.
URL:https://mwnh.org/event/ukelele-group/2026-03-13/
LOCATION:Marrar Woorn Neighbourhood House\, 6 Pengilley Avenue\, Apollo Bay\, VIC\, 3233\, Australia
CATEGORIES:Music
ATTACH;FMTTYPE=image/png:https://mwnh.org/wp-content/uploads/2026/02/Ukelele-group-poster-Instagram-Post.png
ORGANIZER;CN="Marrar Woorn Neighbourhood House":MAILTO:coordinator@mwnh.org
END:VEVENT
BEGIN:VEVENT
DTSTART;TZID=Australia/Melbourne:20260320T153000
DTEND;TZID=Australia/Melbourne:20260320T170000
DTSTAMP:20260420T132142
CREATED:20260202T020640Z
LAST-MODIFIED:20260209T001705Z
UID:10000678-1774020600-1774026000@mwnh.org
SUMMARY:Ukelele Group
DESCRIPTION:Friday’s 3.30pm – 5pm \nMarrar Woorn Neighbourhood House \nBring your uke along and join the group that jams at Marrar Woorn on Fridays from 3:30 until 5pm. Both beginners and experienced players welcome. \nNo need to book\, no payment required.
URL:https://mwnh.org/event/ukelele-group/2026-03-20/
LOCATION:Marrar Woorn Neighbourhood House\, 6 Pengilley Avenue\, Apollo Bay\, VIC\, 3233\, Australia
CATEGORIES:Music
ATTACH;FMTTYPE=image/png:https://mwnh.org/wp-content/uploads/2026/02/Ukelele-group-poster-Instagram-Post.png
ORGANIZER;CN="Marrar Woorn Neighbourhood House":MAILTO:coordinator@mwnh.org
END:VEVENT
BEGIN:VEVENT
DTSTART;TZID=Australia/Melbourne:20260327T153000
DTEND;TZID=Australia/Melbourne:20260327T170000
DTSTAMP:20260420T132142
CREATED:20260202T020640Z
LAST-MODIFIED:20260209T001705Z
UID:10000679-1774625400-1774630800@mwnh.org
SUMMARY:Ukelele Group
DESCRIPTION:Friday’s 3.30pm – 5pm \nMarrar Woorn Neighbourhood House \nBring your uke along and join the group that jams at Marrar Woorn on Fridays from 3:30 until 5pm. Both beginners and experienced players welcome. \nNo need to book\, no payment required.
URL:https://mwnh.org/event/ukelele-group/2026-03-27/
LOCATION:Marrar Woorn Neighbourhood House\, 6 Pengilley Avenue\, Apollo Bay\, VIC\, 3233\, Australia
CATEGORIES:Music
ATTACH;FMTTYPE=image/png:https://mwnh.org/wp-content/uploads/2026/02/Ukelele-group-poster-Instagram-Post.png
ORGANIZER;CN="Marrar Woorn Neighbourhood House":MAILTO:coordinator@mwnh.org
END:VEVENT
END:VCALENDAR