BEGIN:VCALENDAR
VERSION:2.0
PRODID:-//Marrar Woorn Neighbourhood House - ECPv6.15.20//NONSGML v1.0//EN
CALSCALE:GREGORIAN
METHOD:PUBLISH
X-WR-CALNAME:Marrar Woorn Neighbourhood House
X-ORIGINAL-URL:https://mwnh.org
X-WR-CALDESC:Events for Marrar Woorn Neighbourhood House
REFRESH-INTERVAL;VALUE=DURATION:PT1H
X-Robots-Tag:noindex
X-PUBLISHED-TTL:PT1H
BEGIN:VTIMEZONE
TZID:Australia/Melbourne
BEGIN:STANDARD
TZOFFSETFROM:+1100
TZOFFSETTO:+1000
TZNAME:AEST
DTSTART:20290331T160000
END:STANDARD
BEGIN:DAYLIGHT
TZOFFSETFROM:+1000
TZOFFSETTO:+1100
TZNAME:AEDT
DTSTART:20291006T160000
END:DAYLIGHT
BEGIN:STANDARD
TZOFFSETFROM:+1100
TZOFFSETTO:+1000
TZNAME:AEST
DTSTART:20300406T160000
END:STANDARD
BEGIN:DAYLIGHT
TZOFFSETFROM:+1000
TZOFFSETTO:+1100
TZNAME:AEDT
DTSTART:20301005T160000
END:DAYLIGHT
BEGIN:STANDARD
TZOFFSETFROM:+1100
TZOFFSETTO:+1000
TZNAME:AEST
DTSTART:20310405T160000
END:STANDARD
BEGIN:DAYLIGHT
TZOFFSETFROM:+1000
TZOFFSETTO:+1100
TZNAME:AEDT
DTSTART:20311004T160000
END:DAYLIGHT
END:VTIMEZONE
BEGIN:VEVENT
DTSTART;TZID=Australia/Melbourne:20300612T090000
DTEND;TZID=Australia/Melbourne:20300612T110000
DTSTAMP:20260421T100437
CREATED:20250818T045547Z
LAST-MODIFIED:20250818T045547Z
UID:10000271-1907485200-1907492400@mwnh.org
SUMMARY:Toy Library Playgroup
DESCRIPTION:Join the Apollo Bay Toy Library and enjoy all the benefits it brings. Do you want a great toy rotation for your toddler\, but you like your house clutter free? Do you want to do right by the environment and your bank account? The Toy Library is for you! \n\nToy Library Playgroup is held each week at Marrar Woorn Neighbourhood House every Wednesday from 9am to 11am. There is no cost to participate! \n\nThe Apollo Bay Toy Library is a satellite of the well established Colac Toy Library. To sign up to become a member and start borrowing toys\, go to their website via the website link below.
URL:https://mwnh.org/event/toy-library-playgroup/2030-06-12/
LOCATION:Marrar Woorn Neighbourhood House\, 6 Pengilley Avenue\, Apollo Bay\, VIC\, 3233\, Australia
CATEGORIES:Kids & Families
ATTACH;FMTTYPE=image/jpeg:https://mwnh.org/wp-content/uploads/2025/08/Toy-Playgroup-e1755492834190.jpg
ORGANIZER;CN="Marrar Woorn Neighbourhood House":MAILTO:coordinator@mwnh.org
END:VEVENT
BEGIN:VEVENT
DTSTART;TZID=Australia/Melbourne:20300619T090000
DTEND;TZID=Australia/Melbourne:20300619T110000
DTSTAMP:20260421T100437
CREATED:20250818T045547Z
LAST-MODIFIED:20250818T045547Z
UID:10000272-1908090000-1908097200@mwnh.org
SUMMARY:Toy Library Playgroup
DESCRIPTION:Join the Apollo Bay Toy Library and enjoy all the benefits it brings. Do you want a great toy rotation for your toddler\, but you like your house clutter free? Do you want to do right by the environment and your bank account? The Toy Library is for you! \n\nToy Library Playgroup is held each week at Marrar Woorn Neighbourhood House every Wednesday from 9am to 11am. There is no cost to participate! \n\nThe Apollo Bay Toy Library is a satellite of the well established Colac Toy Library. To sign up to become a member and start borrowing toys\, go to their website via the website link below.
URL:https://mwnh.org/event/toy-library-playgroup/2030-06-19/
LOCATION:Marrar Woorn Neighbourhood House\, 6 Pengilley Avenue\, Apollo Bay\, VIC\, 3233\, Australia
CATEGORIES:Kids & Families
ATTACH;FMTTYPE=image/jpeg:https://mwnh.org/wp-content/uploads/2025/08/Toy-Playgroup-e1755492834190.jpg
ORGANIZER;CN="Marrar Woorn Neighbourhood House":MAILTO:coordinator@mwnh.org
END:VEVENT
BEGIN:VEVENT
DTSTART;TZID=Australia/Melbourne:20300626T090000
DTEND;TZID=Australia/Melbourne:20300626T110000
DTSTAMP:20260421T100437
CREATED:20250818T045547Z
LAST-MODIFIED:20250818T045547Z
UID:10000273-1908694800-1908702000@mwnh.org
SUMMARY:Toy Library Playgroup
DESCRIPTION:Join the Apollo Bay Toy Library and enjoy all the benefits it brings. Do you want a great toy rotation for your toddler\, but you like your house clutter free? Do you want to do right by the environment and your bank account? The Toy Library is for you! \n\nToy Library Playgroup is held each week at Marrar Woorn Neighbourhood House every Wednesday from 9am to 11am. There is no cost to participate! \n\nThe Apollo Bay Toy Library is a satellite of the well established Colac Toy Library. To sign up to become a member and start borrowing toys\, go to their website via the website link below.
URL:https://mwnh.org/event/toy-library-playgroup/2030-06-26/
LOCATION:Marrar Woorn Neighbourhood House\, 6 Pengilley Avenue\, Apollo Bay\, VIC\, 3233\, Australia
CATEGORIES:Kids & Families
ATTACH;FMTTYPE=image/jpeg:https://mwnh.org/wp-content/uploads/2025/08/Toy-Playgroup-e1755492834190.jpg
ORGANIZER;CN="Marrar Woorn Neighbourhood House":MAILTO:coordinator@mwnh.org
END:VEVENT
BEGIN:VEVENT
DTSTART;TZID=Australia/Melbourne:20300703T090000
DTEND;TZID=Australia/Melbourne:20300703T110000
DTSTAMP:20260421T100437
CREATED:20250818T045547Z
LAST-MODIFIED:20250818T045547Z
UID:10000274-1909299600-1909306800@mwnh.org
SUMMARY:Toy Library Playgroup
DESCRIPTION:Join the Apollo Bay Toy Library and enjoy all the benefits it brings. Do you want a great toy rotation for your toddler\, but you like your house clutter free? Do you want to do right by the environment and your bank account? The Toy Library is for you! \n\nToy Library Playgroup is held each week at Marrar Woorn Neighbourhood House every Wednesday from 9am to 11am. There is no cost to participate! \n\nThe Apollo Bay Toy Library is a satellite of the well established Colac Toy Library. To sign up to become a member and start borrowing toys\, go to their website via the website link below.
URL:https://mwnh.org/event/toy-library-playgroup/2030-07-03/
LOCATION:Marrar Woorn Neighbourhood House\, 6 Pengilley Avenue\, Apollo Bay\, VIC\, 3233\, Australia
CATEGORIES:Kids & Families
ATTACH;FMTTYPE=image/jpeg:https://mwnh.org/wp-content/uploads/2025/08/Toy-Playgroup-e1755492834190.jpg
ORGANIZER;CN="Marrar Woorn Neighbourhood House":MAILTO:coordinator@mwnh.org
END:VEVENT
BEGIN:VEVENT
DTSTART;TZID=Australia/Melbourne:20300710T090000
DTEND;TZID=Australia/Melbourne:20300710T110000
DTSTAMP:20260421T100437
CREATED:20250818T045547Z
LAST-MODIFIED:20250818T045547Z
UID:10000275-1909904400-1909911600@mwnh.org
SUMMARY:Toy Library Playgroup
DESCRIPTION:Join the Apollo Bay Toy Library and enjoy all the benefits it brings. Do you want a great toy rotation for your toddler\, but you like your house clutter free? Do you want to do right by the environment and your bank account? The Toy Library is for you! \n\nToy Library Playgroup is held each week at Marrar Woorn Neighbourhood House every Wednesday from 9am to 11am. There is no cost to participate! \n\nThe Apollo Bay Toy Library is a satellite of the well established Colac Toy Library. To sign up to become a member and start borrowing toys\, go to their website via the website link below.
URL:https://mwnh.org/event/toy-library-playgroup/2030-07-10/
LOCATION:Marrar Woorn Neighbourhood House\, 6 Pengilley Avenue\, Apollo Bay\, VIC\, 3233\, Australia
CATEGORIES:Kids & Families
ATTACH;FMTTYPE=image/jpeg:https://mwnh.org/wp-content/uploads/2025/08/Toy-Playgroup-e1755492834190.jpg
ORGANIZER;CN="Marrar Woorn Neighbourhood House":MAILTO:coordinator@mwnh.org
END:VEVENT
BEGIN:VEVENT
DTSTART;TZID=Australia/Melbourne:20300717T090000
DTEND;TZID=Australia/Melbourne:20300717T110000
DTSTAMP:20260421T100437
CREATED:20250818T045547Z
LAST-MODIFIED:20250818T045547Z
UID:10000276-1910509200-1910516400@mwnh.org
SUMMARY:Toy Library Playgroup
DESCRIPTION:Join the Apollo Bay Toy Library and enjoy all the benefits it brings. Do you want a great toy rotation for your toddler\, but you like your house clutter free? Do you want to do right by the environment and your bank account? The Toy Library is for you! \n\nToy Library Playgroup is held each week at Marrar Woorn Neighbourhood House every Wednesday from 9am to 11am. There is no cost to participate! \n\nThe Apollo Bay Toy Library is a satellite of the well established Colac Toy Library. To sign up to become a member and start borrowing toys\, go to their website via the website link below.
URL:https://mwnh.org/event/toy-library-playgroup/2030-07-17/
LOCATION:Marrar Woorn Neighbourhood House\, 6 Pengilley Avenue\, Apollo Bay\, VIC\, 3233\, Australia
CATEGORIES:Kids & Families
ATTACH;FMTTYPE=image/jpeg:https://mwnh.org/wp-content/uploads/2025/08/Toy-Playgroup-e1755492834190.jpg
ORGANIZER;CN="Marrar Woorn Neighbourhood House":MAILTO:coordinator@mwnh.org
END:VEVENT
BEGIN:VEVENT
DTSTART;TZID=Australia/Melbourne:20300724T090000
DTEND;TZID=Australia/Melbourne:20300724T110000
DTSTAMP:20260421T100437
CREATED:20250818T045547Z
LAST-MODIFIED:20250818T045547Z
UID:10000277-1911114000-1911121200@mwnh.org
SUMMARY:Toy Library Playgroup
DESCRIPTION:Join the Apollo Bay Toy Library and enjoy all the benefits it brings. Do you want a great toy rotation for your toddler\, but you like your house clutter free? Do you want to do right by the environment and your bank account? The Toy Library is for you! \n\nToy Library Playgroup is held each week at Marrar Woorn Neighbourhood House every Wednesday from 9am to 11am. There is no cost to participate! \n\nThe Apollo Bay Toy Library is a satellite of the well established Colac Toy Library. To sign up to become a member and start borrowing toys\, go to their website via the website link below.
URL:https://mwnh.org/event/toy-library-playgroup/2030-07-24/
LOCATION:Marrar Woorn Neighbourhood House\, 6 Pengilley Avenue\, Apollo Bay\, VIC\, 3233\, Australia
CATEGORIES:Kids & Families
ATTACH;FMTTYPE=image/jpeg:https://mwnh.org/wp-content/uploads/2025/08/Toy-Playgroup-e1755492834190.jpg
ORGANIZER;CN="Marrar Woorn Neighbourhood House":MAILTO:coordinator@mwnh.org
END:VEVENT
BEGIN:VEVENT
DTSTART;TZID=Australia/Melbourne:20300731T090000
DTEND;TZID=Australia/Melbourne:20300731T110000
DTSTAMP:20260421T100437
CREATED:20250818T045547Z
LAST-MODIFIED:20250818T045547Z
UID:10000278-1911718800-1911726000@mwnh.org
SUMMARY:Toy Library Playgroup
DESCRIPTION:Join the Apollo Bay Toy Library and enjoy all the benefits it brings. Do you want a great toy rotation for your toddler\, but you like your house clutter free? Do you want to do right by the environment and your bank account? The Toy Library is for you! \n\nToy Library Playgroup is held each week at Marrar Woorn Neighbourhood House every Wednesday from 9am to 11am. There is no cost to participate! \n\nThe Apollo Bay Toy Library is a satellite of the well established Colac Toy Library. To sign up to become a member and start borrowing toys\, go to their website via the website link below.
URL:https://mwnh.org/event/toy-library-playgroup/2030-07-31/
LOCATION:Marrar Woorn Neighbourhood House\, 6 Pengilley Avenue\, Apollo Bay\, VIC\, 3233\, Australia
CATEGORIES:Kids & Families
ATTACH;FMTTYPE=image/jpeg:https://mwnh.org/wp-content/uploads/2025/08/Toy-Playgroup-e1755492834190.jpg
ORGANIZER;CN="Marrar Woorn Neighbourhood House":MAILTO:coordinator@mwnh.org
END:VEVENT
BEGIN:VEVENT
DTSTART;TZID=Australia/Melbourne:20300807T090000
DTEND;TZID=Australia/Melbourne:20300807T110000
DTSTAMP:20260421T100437
CREATED:20250818T045547Z
LAST-MODIFIED:20250818T045547Z
UID:10000279-1912323600-1912330800@mwnh.org
SUMMARY:Toy Library Playgroup
DESCRIPTION:Join the Apollo Bay Toy Library and enjoy all the benefits it brings. Do you want a great toy rotation for your toddler\, but you like your house clutter free? Do you want to do right by the environment and your bank account? The Toy Library is for you! \n\nToy Library Playgroup is held each week at Marrar Woorn Neighbourhood House every Wednesday from 9am to 11am. There is no cost to participate! \n\nThe Apollo Bay Toy Library is a satellite of the well established Colac Toy Library. To sign up to become a member and start borrowing toys\, go to their website via the website link below.
URL:https://mwnh.org/event/toy-library-playgroup/2030-08-07/
LOCATION:Marrar Woorn Neighbourhood House\, 6 Pengilley Avenue\, Apollo Bay\, VIC\, 3233\, Australia
CATEGORIES:Kids & Families
ATTACH;FMTTYPE=image/jpeg:https://mwnh.org/wp-content/uploads/2025/08/Toy-Playgroup-e1755492834190.jpg
ORGANIZER;CN="Marrar Woorn Neighbourhood House":MAILTO:coordinator@mwnh.org
END:VEVENT
BEGIN:VEVENT
DTSTART;TZID=Australia/Melbourne:20300814T090000
DTEND;TZID=Australia/Melbourne:20300814T110000
DTSTAMP:20260421T100437
CREATED:20250818T045547Z
LAST-MODIFIED:20250818T045547Z
UID:10000280-1912928400-1912935600@mwnh.org
SUMMARY:Toy Library Playgroup
DESCRIPTION:Join the Apollo Bay Toy Library and enjoy all the benefits it brings. Do you want a great toy rotation for your toddler\, but you like your house clutter free? Do you want to do right by the environment and your bank account? The Toy Library is for you! \n\nToy Library Playgroup is held each week at Marrar Woorn Neighbourhood House every Wednesday from 9am to 11am. There is no cost to participate! \n\nThe Apollo Bay Toy Library is a satellite of the well established Colac Toy Library. To sign up to become a member and start borrowing toys\, go to their website via the website link below.
URL:https://mwnh.org/event/toy-library-playgroup/2030-08-14/
LOCATION:Marrar Woorn Neighbourhood House\, 6 Pengilley Avenue\, Apollo Bay\, VIC\, 3233\, Australia
CATEGORIES:Kids & Families
ATTACH;FMTTYPE=image/jpeg:https://mwnh.org/wp-content/uploads/2025/08/Toy-Playgroup-e1755492834190.jpg
ORGANIZER;CN="Marrar Woorn Neighbourhood House":MAILTO:coordinator@mwnh.org
END:VEVENT
END:VCALENDAR