BEGIN:VCALENDAR
VERSION:2.0
PRODID:-//Marrar Woorn Neighbourhood House - ECPv6.15.20//NONSGML v1.0//EN
CALSCALE:GREGORIAN
METHOD:PUBLISH
X-WR-CALNAME:Marrar Woorn Neighbourhood House
X-ORIGINAL-URL:https://mwnh.org
X-WR-CALDESC:Events for Marrar Woorn Neighbourhood House
REFRESH-INTERVAL;VALUE=DURATION:PT1H
X-Robots-Tag:noindex
X-PUBLISHED-TTL:PT1H
BEGIN:VTIMEZONE
TZID:Australia/Melbourne
BEGIN:STANDARD
TZOFFSETFROM:+1100
TZOFFSETTO:+1000
TZNAME:AEST
DTSTART:20260404T160000
END:STANDARD
BEGIN:DAYLIGHT
TZOFFSETFROM:+1000
TZOFFSETTO:+1100
TZNAME:AEDT
DTSTART:20261003T160000
END:DAYLIGHT
BEGIN:STANDARD
TZOFFSETFROM:+1100
TZOFFSETTO:+1000
TZNAME:AEST
DTSTART:20270403T160000
END:STANDARD
BEGIN:DAYLIGHT
TZOFFSETFROM:+1000
TZOFFSETTO:+1100
TZNAME:AEDT
DTSTART:20271002T160000
END:DAYLIGHT
BEGIN:STANDARD
TZOFFSETFROM:+1100
TZOFFSETTO:+1000
TZNAME:AEST
DTSTART:20280401T160000
END:STANDARD
BEGIN:DAYLIGHT
TZOFFSETFROM:+1000
TZOFFSETTO:+1100
TZNAME:AEDT
DTSTART:20280930T160000
END:DAYLIGHT
END:VTIMEZONE
BEGIN:VEVENT
DTSTART;TZID=Australia/Melbourne:20270315T174500
DTEND;TZID=Australia/Melbourne:20270315T190000
DTSTAMP:20260423T084941
CREATED:20260422T105029Z
LAST-MODIFIED:20260422T105118Z
UID:10001317-1805132700-1805137200@mwnh.org
SUMMARY:Okido Yoga
DESCRIPTION:Set aside some time in the week to slow down\, quieten the mind and listen to the body. Yoga is not for everyone\, but it might be for you! Open your mind and give it a try. Suitable for all levels. \nAt the Apollo Bay Community Hall 4 Whelan St Apollo Bay 5.45-7pm Mondays April 20th – June 22nd (no class June 8th) = 8 classes $112 \nBYO mat and water bottle
URL:https://mwnh.org/event/okido-yoga/2027-03-15/
LOCATION:Marrar Woorn Neighbourhood House\, 6 Pengilley Avenue\, Apollo Bay\, VIC\, 3233\, Australia
CATEGORIES:Health
ATTACH;FMTTYPE=image/jpeg:https://mwnh.org/wp-content/uploads/2026/04/YZ9oAS_pexels-cottonbro-6799850-scaled.jpg
ORGANIZER;CN="Marrar Woorn Neighbourhood House":MAILTO:coordinator@mwnh.org
END:VEVENT
BEGIN:VEVENT
DTSTART;TZID=Australia/Melbourne:20270322T174500
DTEND;TZID=Australia/Melbourne:20270322T190000
DTSTAMP:20260423T084941
CREATED:20260422T105029Z
LAST-MODIFIED:20260422T105118Z
UID:10001318-1805737500-1805742000@mwnh.org
SUMMARY:Okido Yoga
DESCRIPTION:Set aside some time in the week to slow down\, quieten the mind and listen to the body. Yoga is not for everyone\, but it might be for you! Open your mind and give it a try. Suitable for all levels. \nAt the Apollo Bay Community Hall 4 Whelan St Apollo Bay 5.45-7pm Mondays April 20th – June 22nd (no class June 8th) = 8 classes $112 \nBYO mat and water bottle
URL:https://mwnh.org/event/okido-yoga/2027-03-22/
LOCATION:Marrar Woorn Neighbourhood House\, 6 Pengilley Avenue\, Apollo Bay\, VIC\, 3233\, Australia
CATEGORIES:Health
ATTACH;FMTTYPE=image/jpeg:https://mwnh.org/wp-content/uploads/2026/04/YZ9oAS_pexels-cottonbro-6799850-scaled.jpg
ORGANIZER;CN="Marrar Woorn Neighbourhood House":MAILTO:coordinator@mwnh.org
END:VEVENT
BEGIN:VEVENT
DTSTART;TZID=Australia/Melbourne:20270329T174500
DTEND;TZID=Australia/Melbourne:20270329T190000
DTSTAMP:20260423T084941
CREATED:20260422T105029Z
LAST-MODIFIED:20260422T105118Z
UID:10001319-1806342300-1806346800@mwnh.org
SUMMARY:Okido Yoga
DESCRIPTION:Set aside some time in the week to slow down\, quieten the mind and listen to the body. Yoga is not for everyone\, but it might be for you! Open your mind and give it a try. Suitable for all levels. \nAt the Apollo Bay Community Hall 4 Whelan St Apollo Bay 5.45-7pm Mondays April 20th – June 22nd (no class June 8th) = 8 classes $112 \nBYO mat and water bottle
URL:https://mwnh.org/event/okido-yoga/2027-03-29/
LOCATION:Marrar Woorn Neighbourhood House\, 6 Pengilley Avenue\, Apollo Bay\, VIC\, 3233\, Australia
CATEGORIES:Health
ATTACH;FMTTYPE=image/jpeg:https://mwnh.org/wp-content/uploads/2026/04/YZ9oAS_pexels-cottonbro-6799850-scaled.jpg
ORGANIZER;CN="Marrar Woorn Neighbourhood House":MAILTO:coordinator@mwnh.org
END:VEVENT
BEGIN:VEVENT
DTSTART;TZID=Australia/Melbourne:20270405T174500
DTEND;TZID=Australia/Melbourne:20270405T190000
DTSTAMP:20260423T084941
CREATED:20260422T105029Z
LAST-MODIFIED:20260422T105118Z
UID:10001320-1806947100-1806951600@mwnh.org
SUMMARY:Okido Yoga
DESCRIPTION:Set aside some time in the week to slow down\, quieten the mind and listen to the body. Yoga is not for everyone\, but it might be for you! Open your mind and give it a try. Suitable for all levels. \nAt the Apollo Bay Community Hall 4 Whelan St Apollo Bay 5.45-7pm Mondays April 20th – June 22nd (no class June 8th) = 8 classes $112 \nBYO mat and water bottle
URL:https://mwnh.org/event/okido-yoga/2027-04-05/
LOCATION:Marrar Woorn Neighbourhood House\, 6 Pengilley Avenue\, Apollo Bay\, VIC\, 3233\, Australia
CATEGORIES:Health
ATTACH;FMTTYPE=image/jpeg:https://mwnh.org/wp-content/uploads/2026/04/YZ9oAS_pexels-cottonbro-6799850-scaled.jpg
ORGANIZER;CN="Marrar Woorn Neighbourhood House":MAILTO:coordinator@mwnh.org
END:VEVENT
BEGIN:VEVENT
DTSTART;TZID=Australia/Melbourne:20270412T174500
DTEND;TZID=Australia/Melbourne:20270412T190000
DTSTAMP:20260423T084941
CREATED:20260422T105029Z
LAST-MODIFIED:20260422T105118Z
UID:10001321-1807551900-1807556400@mwnh.org
SUMMARY:Okido Yoga
DESCRIPTION:Set aside some time in the week to slow down\, quieten the mind and listen to the body. Yoga is not for everyone\, but it might be for you! Open your mind and give it a try. Suitable for all levels. \nAt the Apollo Bay Community Hall 4 Whelan St Apollo Bay 5.45-7pm Mondays April 20th – June 22nd (no class June 8th) = 8 classes $112 \nBYO mat and water bottle
URL:https://mwnh.org/event/okido-yoga/2027-04-12/
LOCATION:Marrar Woorn Neighbourhood House\, 6 Pengilley Avenue\, Apollo Bay\, VIC\, 3233\, Australia
CATEGORIES:Health
ATTACH;FMTTYPE=image/jpeg:https://mwnh.org/wp-content/uploads/2026/04/YZ9oAS_pexels-cottonbro-6799850-scaled.jpg
ORGANIZER;CN="Marrar Woorn Neighbourhood House":MAILTO:coordinator@mwnh.org
END:VEVENT
BEGIN:VEVENT
DTSTART;TZID=Australia/Melbourne:20270419T174500
DTEND;TZID=Australia/Melbourne:20270419T190000
DTSTAMP:20260423T084941
CREATED:20260422T105029Z
LAST-MODIFIED:20260422T105118Z
UID:10001322-1808156700-1808161200@mwnh.org
SUMMARY:Okido Yoga
DESCRIPTION:Set aside some time in the week to slow down\, quieten the mind and listen to the body. Yoga is not for everyone\, but it might be for you! Open your mind and give it a try. Suitable for all levels. \nAt the Apollo Bay Community Hall 4 Whelan St Apollo Bay 5.45-7pm Mondays April 20th – June 22nd (no class June 8th) = 8 classes $112 \nBYO mat and water bottle
URL:https://mwnh.org/event/okido-yoga/2027-04-19/
LOCATION:Marrar Woorn Neighbourhood House\, 6 Pengilley Avenue\, Apollo Bay\, VIC\, 3233\, Australia
CATEGORIES:Health
ATTACH;FMTTYPE=image/jpeg:https://mwnh.org/wp-content/uploads/2026/04/YZ9oAS_pexels-cottonbro-6799850-scaled.jpg
ORGANIZER;CN="Marrar Woorn Neighbourhood House":MAILTO:coordinator@mwnh.org
END:VEVENT
BEGIN:VEVENT
DTSTART;TZID=Australia/Melbourne:20270426T174500
DTEND;TZID=Australia/Melbourne:20270426T190000
DTSTAMP:20260423T084941
CREATED:20260422T105029Z
LAST-MODIFIED:20260422T105118Z
UID:10001323-1808761500-1808766000@mwnh.org
SUMMARY:Okido Yoga
DESCRIPTION:Set aside some time in the week to slow down\, quieten the mind and listen to the body. Yoga is not for everyone\, but it might be for you! Open your mind and give it a try. Suitable for all levels. \nAt the Apollo Bay Community Hall 4 Whelan St Apollo Bay 5.45-7pm Mondays April 20th – June 22nd (no class June 8th) = 8 classes $112 \nBYO mat and water bottle
URL:https://mwnh.org/event/okido-yoga/2027-04-26/
LOCATION:Marrar Woorn Neighbourhood House\, 6 Pengilley Avenue\, Apollo Bay\, VIC\, 3233\, Australia
CATEGORIES:Health
ATTACH;FMTTYPE=image/jpeg:https://mwnh.org/wp-content/uploads/2026/04/YZ9oAS_pexels-cottonbro-6799850-scaled.jpg
ORGANIZER;CN="Marrar Woorn Neighbourhood House":MAILTO:coordinator@mwnh.org
END:VEVENT
BEGIN:VEVENT
DTSTART;TZID=Australia/Melbourne:20270503T174500
DTEND;TZID=Australia/Melbourne:20270503T190000
DTSTAMP:20260423T084941
CREATED:20260422T105029Z
LAST-MODIFIED:20260422T105118Z
UID:10001324-1809366300-1809370800@mwnh.org
SUMMARY:Okido Yoga
DESCRIPTION:Set aside some time in the week to slow down\, quieten the mind and listen to the body. Yoga is not for everyone\, but it might be for you! Open your mind and give it a try. Suitable for all levels. \nAt the Apollo Bay Community Hall 4 Whelan St Apollo Bay 5.45-7pm Mondays April 20th – June 22nd (no class June 8th) = 8 classes $112 \nBYO mat and water bottle
URL:https://mwnh.org/event/okido-yoga/2027-05-03/
LOCATION:Marrar Woorn Neighbourhood House\, 6 Pengilley Avenue\, Apollo Bay\, VIC\, 3233\, Australia
CATEGORIES:Health
ATTACH;FMTTYPE=image/jpeg:https://mwnh.org/wp-content/uploads/2026/04/YZ9oAS_pexels-cottonbro-6799850-scaled.jpg
ORGANIZER;CN="Marrar Woorn Neighbourhood House":MAILTO:coordinator@mwnh.org
END:VEVENT
BEGIN:VEVENT
DTSTART;TZID=Australia/Melbourne:20270510T174500
DTEND;TZID=Australia/Melbourne:20270510T190000
DTSTAMP:20260423T084941
CREATED:20260422T105029Z
LAST-MODIFIED:20260422T105118Z
UID:10001325-1809971100-1809975600@mwnh.org
SUMMARY:Okido Yoga
DESCRIPTION:Set aside some time in the week to slow down\, quieten the mind and listen to the body. Yoga is not for everyone\, but it might be for you! Open your mind and give it a try. Suitable for all levels. \nAt the Apollo Bay Community Hall 4 Whelan St Apollo Bay 5.45-7pm Mondays April 20th – June 22nd (no class June 8th) = 8 classes $112 \nBYO mat and water bottle
URL:https://mwnh.org/event/okido-yoga/2027-05-10/
LOCATION:Marrar Woorn Neighbourhood House\, 6 Pengilley Avenue\, Apollo Bay\, VIC\, 3233\, Australia
CATEGORIES:Health
ATTACH;FMTTYPE=image/jpeg:https://mwnh.org/wp-content/uploads/2026/04/YZ9oAS_pexels-cottonbro-6799850-scaled.jpg
ORGANIZER;CN="Marrar Woorn Neighbourhood House":MAILTO:coordinator@mwnh.org
END:VEVENT
BEGIN:VEVENT
DTSTART;TZID=Australia/Melbourne:20270517T174500
DTEND;TZID=Australia/Melbourne:20270517T190000
DTSTAMP:20260423T084941
CREATED:20260422T105029Z
LAST-MODIFIED:20260422T105118Z
UID:10001326-1810575900-1810580400@mwnh.org
SUMMARY:Okido Yoga
DESCRIPTION:Set aside some time in the week to slow down\, quieten the mind and listen to the body. Yoga is not for everyone\, but it might be for you! Open your mind and give it a try. Suitable for all levels. \nAt the Apollo Bay Community Hall 4 Whelan St Apollo Bay 5.45-7pm Mondays April 20th – June 22nd (no class June 8th) = 8 classes $112 \nBYO mat and water bottle
URL:https://mwnh.org/event/okido-yoga/2027-05-17/
LOCATION:Marrar Woorn Neighbourhood House\, 6 Pengilley Avenue\, Apollo Bay\, VIC\, 3233\, Australia
CATEGORIES:Health
ATTACH;FMTTYPE=image/jpeg:https://mwnh.org/wp-content/uploads/2026/04/YZ9oAS_pexels-cottonbro-6799850-scaled.jpg
ORGANIZER;CN="Marrar Woorn Neighbourhood House":MAILTO:coordinator@mwnh.org
END:VEVENT
BEGIN:VEVENT
DTSTART;TZID=Australia/Melbourne:20270524T174500
DTEND;TZID=Australia/Melbourne:20270524T190000
DTSTAMP:20260423T084941
CREATED:20260422T105029Z
LAST-MODIFIED:20260422T105118Z
UID:10001327-1811180700-1811185200@mwnh.org
SUMMARY:Okido Yoga
DESCRIPTION:Set aside some time in the week to slow down\, quieten the mind and listen to the body. Yoga is not for everyone\, but it might be for you! Open your mind and give it a try. Suitable for all levels. \nAt the Apollo Bay Community Hall 4 Whelan St Apollo Bay 5.45-7pm Mondays April 20th – June 22nd (no class June 8th) = 8 classes $112 \nBYO mat and water bottle
URL:https://mwnh.org/event/okido-yoga/2027-05-24/
LOCATION:Marrar Woorn Neighbourhood House\, 6 Pengilley Avenue\, Apollo Bay\, VIC\, 3233\, Australia
CATEGORIES:Health
ATTACH;FMTTYPE=image/jpeg:https://mwnh.org/wp-content/uploads/2026/04/YZ9oAS_pexels-cottonbro-6799850-scaled.jpg
ORGANIZER;CN="Marrar Woorn Neighbourhood House":MAILTO:coordinator@mwnh.org
END:VEVENT
BEGIN:VEVENT
DTSTART;TZID=Australia/Melbourne:20270531T174500
DTEND;TZID=Australia/Melbourne:20270531T190000
DTSTAMP:20260423T084941
CREATED:20260422T105029Z
LAST-MODIFIED:20260422T105118Z
UID:10001328-1811785500-1811790000@mwnh.org
SUMMARY:Okido Yoga
DESCRIPTION:Set aside some time in the week to slow down\, quieten the mind and listen to the body. Yoga is not for everyone\, but it might be for you! Open your mind and give it a try. Suitable for all levels. \nAt the Apollo Bay Community Hall 4 Whelan St Apollo Bay 5.45-7pm Mondays April 20th – June 22nd (no class June 8th) = 8 classes $112 \nBYO mat and water bottle
URL:https://mwnh.org/event/okido-yoga/2027-05-31/
LOCATION:Marrar Woorn Neighbourhood House\, 6 Pengilley Avenue\, Apollo Bay\, VIC\, 3233\, Australia
CATEGORIES:Health
ATTACH;FMTTYPE=image/jpeg:https://mwnh.org/wp-content/uploads/2026/04/YZ9oAS_pexels-cottonbro-6799850-scaled.jpg
ORGANIZER;CN="Marrar Woorn Neighbourhood House":MAILTO:coordinator@mwnh.org
END:VEVENT
BEGIN:VEVENT
DTSTART;TZID=Australia/Melbourne:20270607T174500
DTEND;TZID=Australia/Melbourne:20270607T190000
DTSTAMP:20260423T084941
CREATED:20260422T105029Z
LAST-MODIFIED:20260422T105118Z
UID:10001329-1812390300-1812394800@mwnh.org
SUMMARY:Okido Yoga
DESCRIPTION:Set aside some time in the week to slow down\, quieten the mind and listen to the body. Yoga is not for everyone\, but it might be for you! Open your mind and give it a try. Suitable for all levels. \nAt the Apollo Bay Community Hall 4 Whelan St Apollo Bay 5.45-7pm Mondays April 20th – June 22nd (no class June 8th) = 8 classes $112 \nBYO mat and water bottle
URL:https://mwnh.org/event/okido-yoga/2027-06-07/
LOCATION:Marrar Woorn Neighbourhood House\, 6 Pengilley Avenue\, Apollo Bay\, VIC\, 3233\, Australia
CATEGORIES:Health
ATTACH;FMTTYPE=image/jpeg:https://mwnh.org/wp-content/uploads/2026/04/YZ9oAS_pexels-cottonbro-6799850-scaled.jpg
ORGANIZER;CN="Marrar Woorn Neighbourhood House":MAILTO:coordinator@mwnh.org
END:VEVENT
BEGIN:VEVENT
DTSTART;TZID=Australia/Melbourne:20270614T174500
DTEND;TZID=Australia/Melbourne:20270614T190000
DTSTAMP:20260423T084941
CREATED:20260422T105029Z
LAST-MODIFIED:20260422T105118Z
UID:10001330-1812995100-1812999600@mwnh.org
SUMMARY:Okido Yoga
DESCRIPTION:Set aside some time in the week to slow down\, quieten the mind and listen to the body. Yoga is not for everyone\, but it might be for you! Open your mind and give it a try. Suitable for all levels. \nAt the Apollo Bay Community Hall 4 Whelan St Apollo Bay 5.45-7pm Mondays April 20th – June 22nd (no class June 8th) = 8 classes $112 \nBYO mat and water bottle
URL:https://mwnh.org/event/okido-yoga/2027-06-14/
LOCATION:Marrar Woorn Neighbourhood House\, 6 Pengilley Avenue\, Apollo Bay\, VIC\, 3233\, Australia
CATEGORIES:Health
ATTACH;FMTTYPE=image/jpeg:https://mwnh.org/wp-content/uploads/2026/04/YZ9oAS_pexels-cottonbro-6799850-scaled.jpg
ORGANIZER;CN="Marrar Woorn Neighbourhood House":MAILTO:coordinator@mwnh.org
END:VEVENT
BEGIN:VEVENT
DTSTART;TZID=Australia/Melbourne:20270621T174500
DTEND;TZID=Australia/Melbourne:20270621T190000
DTSTAMP:20260423T084941
CREATED:20260422T105029Z
LAST-MODIFIED:20260422T105118Z
UID:10001331-1813599900-1813604400@mwnh.org
SUMMARY:Okido Yoga
DESCRIPTION:Set aside some time in the week to slow down\, quieten the mind and listen to the body. Yoga is not for everyone\, but it might be for you! Open your mind and give it a try. Suitable for all levels. \nAt the Apollo Bay Community Hall 4 Whelan St Apollo Bay 5.45-7pm Mondays April 20th – June 22nd (no class June 8th) = 8 classes $112 \nBYO mat and water bottle
URL:https://mwnh.org/event/okido-yoga/2027-06-21/
LOCATION:Marrar Woorn Neighbourhood House\, 6 Pengilley Avenue\, Apollo Bay\, VIC\, 3233\, Australia
CATEGORIES:Health
ATTACH;FMTTYPE=image/jpeg:https://mwnh.org/wp-content/uploads/2026/04/YZ9oAS_pexels-cottonbro-6799850-scaled.jpg
ORGANIZER;CN="Marrar Woorn Neighbourhood House":MAILTO:coordinator@mwnh.org
END:VEVENT
END:VCALENDAR