BEGIN:VCALENDAR
VERSION:2.0
PRODID:-//Marrar Woorn Neighbourhood House - ECPv6.15.20//NONSGML v1.0//EN
CALSCALE:GREGORIAN
METHOD:PUBLISH
X-WR-CALNAME:Marrar Woorn Neighbourhood House
X-ORIGINAL-URL:https://mwnh.org
X-WR-CALDESC:Events for Marrar Woorn Neighbourhood House
REFRESH-INTERVAL;VALUE=DURATION:PT1H
X-Robots-Tag:noindex
X-PUBLISHED-TTL:PT1H
BEGIN:VTIMEZONE
TZID:Australia/Melbourne
BEGIN:STANDARD
TZOFFSETFROM:+1100
TZOFFSETTO:+1000
TZNAME:AEST
DTSTART:20250405T160000
END:STANDARD
BEGIN:DAYLIGHT
TZOFFSETFROM:+1000
TZOFFSETTO:+1100
TZNAME:AEDT
DTSTART:20251004T160000
END:DAYLIGHT
BEGIN:STANDARD
TZOFFSETFROM:+1100
TZOFFSETTO:+1000
TZNAME:AEST
DTSTART:20260404T160000
END:STANDARD
BEGIN:DAYLIGHT
TZOFFSETFROM:+1000
TZOFFSETTO:+1100
TZNAME:AEDT
DTSTART:20261003T160000
END:DAYLIGHT
BEGIN:STANDARD
TZOFFSETFROM:+1100
TZOFFSETTO:+1000
TZNAME:AEST
DTSTART:20270403T160000
END:STANDARD
BEGIN:DAYLIGHT
TZOFFSETFROM:+1000
TZOFFSETTO:+1100
TZNAME:AEDT
DTSTART:20271002T160000
END:DAYLIGHT
END:VTIMEZONE
BEGIN:VEVENT
DTSTART;TZID=Australia/Melbourne:20260316T174500
DTEND;TZID=Australia/Melbourne:20260316T190000
DTSTAMP:20260420T162948
CREATED:20260130T015652Z
LAST-MODIFIED:20260130T020914Z
UID:10000665-1773683100-1773687600@mwnh.org
SUMMARY:Okido Yoga - Term 4
DESCRIPTION:This term classes are from Feb 2 – Mar 30 (no class Mar 9th\, and the class on 30 March is at Marrar Woorn) = 8 classes $112\n\n5.45-7pm Mondays
URL:https://mwnh.org/event/okido-yoga-term-4-2/2026-03-16/
LOCATION:Apollo Bay Community Hall\, 4 Whelan Street\, Apollo Bay\, Victoria\, 3233\, Australia
CATEGORIES:Health
ATTACH;FMTTYPE=image/jpeg:https://mwnh.org/wp-content/uploads/2025/09/Okido-Yoga-scaled.jpg
ORGANIZER;CN="Marrar Woorn Neighbourhood House":MAILTO:coordinator@mwnh.org
END:VEVENT
END:VCALENDAR