BEGIN:VCALENDAR
VERSION:2.0
PRODID:-//Marrar Woorn Neighbourhood House - ECPv6.15.20//NONSGML v1.0//EN
CALSCALE:GREGORIAN
METHOD:PUBLISH
X-ORIGINAL-URL:https://mwnh.org
X-WR-CALDESC:Events for Marrar Woorn Neighbourhood House
REFRESH-INTERVAL;VALUE=DURATION:PT1H
X-Robots-Tag:noindex
X-PUBLISHED-TTL:PT1H
BEGIN:VTIMEZONE
TZID:Australia/Melbourne
BEGIN:STANDARD
TZOFFSETFROM:+1100
TZOFFSETTO:+1000
TZNAME:AEST
DTSTART:20250405T160000
END:STANDARD
BEGIN:DAYLIGHT
TZOFFSETFROM:+1000
TZOFFSETTO:+1100
TZNAME:AEDT
DTSTART:20251004T160000
END:DAYLIGHT
BEGIN:STANDARD
TZOFFSETFROM:+1100
TZOFFSETTO:+1000
TZNAME:AEST
DTSTART:20260404T160000
END:STANDARD
BEGIN:DAYLIGHT
TZOFFSETFROM:+1000
TZOFFSETTO:+1100
TZNAME:AEDT
DTSTART:20261003T160000
END:DAYLIGHT
BEGIN:STANDARD
TZOFFSETFROM:+1100
TZOFFSETTO:+1000
TZNAME:AEST
DTSTART:20270403T160000
END:STANDARD
BEGIN:DAYLIGHT
TZOFFSETFROM:+1000
TZOFFSETTO:+1100
TZNAME:AEDT
DTSTART:20271002T160000
END:DAYLIGHT
END:VTIMEZONE
BEGIN:VEVENT
DTSTART;TZID=Australia/Melbourne:20260512T110000
DTEND;TZID=Australia/Melbourne:20260512T120000
DTSTAMP:20260422T143304
CREATED:20260420T052322Z
LAST-MODIFIED:20260420T053318Z
UID:10001067-1778583600-1778587200@mwnh.org
SUMMARY:Morning Tea with Donna from Elder Rights Australia
DESCRIPTION:Come for morning tea with Donna from Elder Rights Australia. Learn what the organisation can do for you.
URL:https://mwnh.org/event/morning-tea-with-donna-from-elder-rights-australia/
LOCATION:Marrar Woorn Neighbourhood House\, 6 Pengilley Avenue\, Apollo Bay\, VIC\, 3233\, Australia
CATEGORIES:Adult Education
ATTACH;FMTTYPE=image/png:https://mwnh.org/wp-content/uploads/2026/04/eeec072d-bafe-406e-ad7d-a133b81bd7d7.png
ORGANIZER;CN="Marrar Woorn Neighbourhood House":MAILTO:coordinator@mwnh.org
END:VEVENT
BEGIN:VEVENT
DTSTART;TZID=Australia/Melbourne:20260604T140000
DTEND;TZID=Australia/Melbourne:20260604T153000
DTSTAMP:20260422T143304
CREATED:20260422T025222Z
LAST-MODIFIED:20260422T025222Z
UID:10001068-1780581600-1780587000@mwnh.org
SUMMARY:Introduction to Canva
DESCRIPTION:Suitable for beginners to Canva. Basic to mid level computer skills required. \n  \nThis workshop is a friendly\, hands-on introduction to Canva for people with no design experience. Learn to make simple posters\, social posts or flyers using easy templates and step-by-step guidance. \n  \nDate: Thursday June 4\, 2026 \nTime: 2 – 3.30pm \nVenue: Marrar Woorn Media Room \nWho should attend: Complete beginners who want quick\, practical skills to make simple\, attractive graphics. \n  \nTutor: Sarah Doyle : Self-taught designer working with Apollo Bay Arts Inc (Apollo Bay Art Show\, gallery posters\, web and social media) \nSarah learned design the hard way—through lots of trial\, error\, and persistence—so you don’t have to. She shares simple\, practical tips to help beginners. \nBRING: a laptop and a free Canva account (download from canva.com). Optional: one photo or logo to use.
URL:https://mwnh.org/event/introduction-to-canva/
LOCATION:Marrar Woorn Neighbourhood House\, 6 Pengilley Avenue\, Apollo Bay\, VIC\, 3233\, Australia
CATEGORIES:Adult Education
ATTACH;FMTTYPE=image/png:https://mwnh.org/wp-content/uploads/2026/04/Untitled-design-6-1.png
ORGANIZER;CN="Marrar Woorn Neighbourhood House":MAILTO:coordinator@mwnh.org
END:VEVENT
END:VCALENDAR