BEGIN:VCALENDAR
VERSION:2.0
PRODID:-//Marrar Woorn Neighbourhood House - ECPv6.15.20//NONSGML v1.0//EN
CALSCALE:GREGORIAN
METHOD:PUBLISH
X-WR-CALNAME:Marrar Woorn Neighbourhood House
X-ORIGINAL-URL:https://mwnh.org
X-WR-CALDESC:Events for Marrar Woorn Neighbourhood House
REFRESH-INTERVAL;VALUE=DURATION:PT1H
X-Robots-Tag:noindex
X-PUBLISHED-TTL:PT1H
BEGIN:VTIMEZONE
TZID:Australia/Melbourne
BEGIN:STANDARD
TZOFFSETFROM:+1100
TZOFFSETTO:+1000
TZNAME:AEST
DTSTART:20260404T160000
END:STANDARD
BEGIN:DAYLIGHT
TZOFFSETFROM:+1000
TZOFFSETTO:+1100
TZNAME:AEDT
DTSTART:20261003T160000
END:DAYLIGHT
BEGIN:STANDARD
TZOFFSETFROM:+1100
TZOFFSETTO:+1000
TZNAME:AEST
DTSTART:20270403T160000
END:STANDARD
BEGIN:DAYLIGHT
TZOFFSETFROM:+1000
TZOFFSETTO:+1100
TZNAME:AEDT
DTSTART:20271002T160000
END:DAYLIGHT
BEGIN:STANDARD
TZOFFSETFROM:+1100
TZOFFSETTO:+1000
TZNAME:AEST
DTSTART:20280401T160000
END:STANDARD
BEGIN:DAYLIGHT
TZOFFSETFROM:+1000
TZOFFSETTO:+1100
TZNAME:AEDT
DTSTART:20280930T160000
END:DAYLIGHT
END:VTIMEZONE
BEGIN:VEVENT
DTSTART;TZID=Australia/Melbourne:20270708T100000
DTEND;TZID=Australia/Melbourne:20270708T130000
DTSTAMP:20260423T075343
CREATED:20260422T053019Z
LAST-MODIFIED:20260422T054434Z
UID:10001103-1815040800-1815051600@mwnh.org
SUMMARY:Community Kitchen Program
DESCRIPTION:Would you like to join a small group of women who come together fortnightly to cook a meal? \nThursdays 10am-1pm \nIf you are interested or you’d like more information\, please phone 5237 8590 or email info@gorh.vic.gov.au \nCost: $5\, please bring cash and some containers to take food home
URL:https://mwnh.org/event/community-kitchen-program/2027-07-08/
LOCATION:Apollo Bay RSL\, 12 Gallipoli Parade\, Apollo Bay\, VIC\, 3233\, Australia
CATEGORIES:Cooking
ATTACH;FMTTYPE=image/png:https://mwnh.org/wp-content/uploads/2026/04/Community-Kitchens-Flyer-for-MW-Term-Program.png
ORGANIZER;CN="Marrar Woorn Neighbourhood House":MAILTO:coordinator@mwnh.org
END:VEVENT
END:VCALENDAR