BEGIN:VCALENDAR
VERSION:2.0
PRODID:-//Marrar Woorn Neighbourhood House - ECPv6.15.20//NONSGML v1.0//EN
CALSCALE:GREGORIAN
METHOD:PUBLISH
X-ORIGINAL-URL:https://mwnh.org
X-WR-CALDESC:Events for Marrar Woorn Neighbourhood House
REFRESH-INTERVAL;VALUE=DURATION:PT1H
X-Robots-Tag:noindex
X-PUBLISHED-TTL:PT1H
BEGIN:VTIMEZONE
TZID:Australia/Melbourne
BEGIN:STANDARD
TZOFFSETFROM:+1100
TZOFFSETTO:+1000
TZNAME:AEST
DTSTART:20240406T160000
END:STANDARD
BEGIN:DAYLIGHT
TZOFFSETFROM:+1000
TZOFFSETTO:+1100
TZNAME:AEDT
DTSTART:20241005T160000
END:DAYLIGHT
BEGIN:STANDARD
TZOFFSETFROM:+1100
TZOFFSETTO:+1000
TZNAME:AEST
DTSTART:20250405T160000
END:STANDARD
BEGIN:DAYLIGHT
TZOFFSETFROM:+1000
TZOFFSETTO:+1100
TZNAME:AEDT
DTSTART:20251004T160000
END:DAYLIGHT
BEGIN:STANDARD
TZOFFSETFROM:+1100
TZOFFSETTO:+1000
TZNAME:AEST
DTSTART:20260404T160000
END:STANDARD
BEGIN:DAYLIGHT
TZOFFSETFROM:+1000
TZOFFSETTO:+1100
TZNAME:AEDT
DTSTART:20261003T160000
END:DAYLIGHT
END:VTIMEZONE
BEGIN:VEVENT
DTSTART;TZID=Australia/Melbourne:20250907T100000
DTEND;TZID=Australia/Melbourne:20250907T123000
DTSTAMP:20260420T050221
CREATED:20250709T021529Z
LAST-MODIFIED:20250709T082319Z
UID:10000014-1757239200-1757248200@mwnh.org
SUMMARY:Creative Compass: Map your artistic journey
DESCRIPTION:Join Linnet from Wild Sky Creative Business Coaching for this workshop where you will playfully map out your creative business path with clarity and confidence. \nYou will explore fun visual tools like mind maps and vision boards to connect your artistic passion with practical steps; all aligned with your own personal rhythm. \nThis workshop is perfect for busy\, artistic people balancing their lives and creative visions. Carve out some time to consider your creative future and business journey. \nThe workshop is hands-on and will include messy play like cut and paste! \nBookings required – Click the website link below to reserve your spot! \n$15 / Free for concession.
URL:https://mwnh.org/event/creative-compass-map-your-artistic-journey/
LOCATION:Marrar Woorn Neighbourhood House\, 6 Pengilley Avenue\, Apollo Bay\, VIC\, 3233\, Australia
CATEGORIES:Adult Education,Business
ATTACH;FMTTYPE=image/png:https://mwnh.org/wp-content/uploads/2025/07/creative-compass-map-your-artistic-journey-1.png
ORGANIZER;CN="Marrar Woorn Neighbourhood House":MAILTO:coordinator@mwnh.org
END:VEVENT
END:VCALENDAR